Workbook

Sheet Summary
A1: Child Enrollment Summary
A2: Counts are based only on entered enrollment rows and editable assumptions; any prompt requires a human review.
A3: Planning Date | B3: =Assumptions!B2
A5: Entered Enrollment Rows | B5: =COUNTIF(Enrollment!$A$5:$A$104,"<>")
A6: Active | B6: =COUNTIF(Enrollment!$G$5:$G$104,"Active")
A7: Upcoming | B7: =COUNTIF(Enrollment!$G$5:$G$104,"Upcoming")
A8: Inactive | B8: =COUNTIF(Enrollment!$G$5:$G$104,"Inactive")
A9: Rows to Review | B9: =COUNTIF(Enrollment!$H$5:$H$104,"Check*")
A10: Total Listed Capacity | B10: =SUM(Assumptions!$B$9:$B$108)
A11: Seats vs. Listed Capacity | B11: =IFERROR(SUM(Assumptions!$B$9:$B$108)-COUNTIF(Enrollment!$G$5:$G$104,"Active"),"")
A13: Program Enrollment Indicators
A14: Program | B14: Active | C14: Upcoming | D14: Listed Capacity | E14: Seats Available | F14: Utilization | G14: Attention
A15: =IF(Assumptions!A9="","",Assumptions!A9) | B15: =IF(A15="","",COUNTIFS(Enrollment!$C$5:$C$104,A15,Enrollment!$G$5:$G$104,"Active")) | C15: =IF(A15="","",COUNTIFS(Enrollment!$C$5:$C$104,A15,Enrollment!$G$5:$G$104,"Upcoming")) | D15: =IF(A15="","",IFERROR(VLOOKUP(A15,Assumptions!$A$9:$B$108,2,FALSE),"")) | E15: =IF(OR(A15="",D15=""),"",D15-B15) | F15: =IF(A15="","",IFERROR(B15/D15,"")) | G15: =IF(A15="","",IF(D15<=0,"Set capacity",IF(B15>D15,"Review capacity",IF(B15=D15,"At capacity","Available"))))
A16: =IF(Assumptions!A10="","",Assumptions!A10) | B16: =IF(A16="","",COUNTIFS(Enrollment!$C$5:$C$104,A16,Enrollment!$G$5:$G$104,"Active")) | C16: =IF(A16="","",COUNTIFS(Enrollment!$C$5:$C$104,A16,Enrollment!$G$5:$G$104,"Upcoming")) | D16: =IF(A16="","",IFERROR(VLOOKUP(A16,Assumptions!$A$9:$B$108,2,FALSE),"")) | E16: =IF(OR(A16="",D16=""),"",D16-B16) | F16: =IF(A16="","",IFERROR(B16/D16,"")) | G16: =IF(A16="","",IF(D16<=0,"Set capacity",IF(B16>D16,"Review capacity",IF(B16=D16,"At capacity","Available"))))
A17: =IF(Assumptions!A11="","",Assumptions!A11) | B17: =IF(A17="","",COUNTIFS(Enrollment!$C$5:$C$104,A17,Enrollment!$G$5:$G$104,"Active")) | C17: =IF(A17="","",COUNTIFS(Enrollment!$C$5:$C$104,A17,Enrollment!$G$5:$G$104,"Upcoming")) | D17: =IF(A17="","",IFERROR(VLOOKUP(A17,Assumptions!$A$9:$B$108,2,FALSE),"")) | E17: =IF(OR(A17="",D17=""),"",D17-B17) | F17: =IF(A17="","",IFERROR(B17/D17,"")) | G17: =IF(A17="","",IF(D17<=0,"Set capacity",IF(B17>D17,"Review capacity",IF(B17=D17,"At capacity","Available"))))
A18: =IF(Assumptions!A12="","",Assumptions!A12) | B18: =IF(A18="","",COUNTIFS(Enrollment!$C$5:$C$104,A18,Enrollment!$G$5:$G$104,"Active")) | C18: =IF(A18="","",COUNTIFS(Enrollment!$C$5:$C$104,A18,Enrollment!$G$5:$G$104,"Upcoming")) | D18: =IF(A18="","",IFERROR(VLOOKUP(A18,Assumptions!$A$9:$B$108,2,FALSE),"")) | E18: =IF(OR(A18="",D18=""),"",D18-B18) | F18: =IF(A18="","",IFERROR(B18/D18,"")) | G18: =IF(A18="","",IF(D18<=0,"Set capacity",IF(B18>D18,"Review capacity",IF(B18=D18,"At capacity","Available"))))
A19: =IF(Assumptions!A13="","",Assumptions!A13) | B19: =IF(A19="","",COUNTIFS(Enrollment!$C$5:$C$104,A19,Enrollment!$G$5:$G$104,"Active")) | C19: =IF(A19="","",COUNTIFS(Enrollment!$C$5:$C$104,A19,Enrollment!$G$5:$G$104,"Upcoming")) | D19: =IF(A19="","",IFERROR(VLOOKUP(A19,Assumptions!$A$9:$B$108,2,FALSE),"")) | E19: =IF(OR(A19="",D19=""),"",D19-B19) | F19: =IF(A19="","",IFERROR(B19/D19,"")) | G19: =IF(A19="","",IF(D19<=0,"Set capacity",IF(B19>D19,"Review capacity",IF(B19=D19,"At capacity","Available"))))
A20: =IF(Assumptions!A14="","",Assumptions!A14) | B20: =IF(A20="","",COUNTIFS(Enrollment!$C$5:$C$104,A20,Enrollment!$G$5:$G$104,"Active")) | C20: =IF(A20="","",COUNTIFS(Enrollment!$C$5:$C$104,A20,Enrollment!$G$5:$G$104,"Upcoming")) | D20: =IF(A20="","",IFERROR(VLOOKUP(A20,Assumptions!$A$9:$B$108,2,FALSE),"")) | E20: =IF(OR(A20="",D20=""),"",D20-B20) | F20: =IF(A20="","",IFERROR(B20/D20,"")) | G20: =IF(A20="","",IF(D20<=0,"Set capacity",IF(B20>D20,"Review capacity",IF(B20=D20,"At capacity","Available"))))
A21: =IF(Assumptions!A15="","",Assumptions!A15) | B21: =IF(A21="","",COUNTIFS(Enrollment!$C$5:$C$104,A21,Enrollment!$G$5:$G$104,"Active")) | C21: =IF(A21="","",COUNTIFS(Enrollment!$C$5:$C$104,A21,Enrollment!$G$5:$G$104,"Upcoming")) | D21: =IF(A21="","",IFERROR(VLOOKUP(A21,Assumptions!$A$9:$B$108,2,FALSE),"")) | E21: =IF(OR(A21="",D21=""),"",D21-B21) | F21: =IF(A21="","",IFERROR(B21/D21,"")) | G21: =IF(A21="","",IF(D21<=0,"Set capacity",IF(B21>D21,"Review capacity",IF(B21=D21,"At capacity","Available"))))
A22: =IF(Assumptions!A16="","",Assumptions!A16) | B22: =IF(A22="","",COUNTIFS(Enrollment!$C$5:$C$104,A22,Enrollment!$G$5:$G$104,"Active")) | C22: =IF(A22="","",COUNTIFS(Enrollment!$C$5:$C$104,A22,Enrollment!$G$5:$G$104,"Upcoming")) | D22: =IF(A22="","",IFERROR(VLOOKUP(A22,Assumptions!$A$9:$B$108,2,FALSE),"")) | E22: =IF(OR(A22="",D22=""),"",D22-B22) | F22: =IF(A22="","",IFERROR(B22/D22,"")) | G22: =IF(A22="","",IF(D22<=0,"Set capacity",IF(B22>D22,"Review capacity",IF(B22=D22,"At capacity","Available"))))
A23: =IF(Assumptions!A17="","",Assumptions!A17) | B23: =IF(A23="","",COUNTIFS(Enrollment!$C$5:$C$104,A23,Enrollment!$G$5:$G$104,"Active")) | C23: =IF(A23="","",COUNTIFS(Enrollment!$C$5:$C$104,A23,Enrollment!$G$5:$G$104,"Upcoming")) | D23: =IF(A23="","",IFERROR(VLOOKUP(A23,Assumptions!$A$9:$B$108,2,FALSE),"")) | E23: =IF(OR(A23="",D23=""),"",D23-B23) | F23: =IF(A23="","",IFERROR(B23/D23,"")) | G23: =IF(A23="","",IF(D23<=0,"Set capacity",IF(B23>D23,"Review capacity",IF(B23=D23,"At capacity","Available"))))
A24: =IF(Assumptions!A18="","",Assumptions!A18) | B24: =IF(A24="","",COUNTIFS(Enrollment!$C$5:$C$104,A24,Enrollment!$G$5:$G$104,"Active")) | C24: =IF(A24="","",COUNTIFS(Enrollment!$C$5:$C$104,A24,Enrollment!$G$5:$G$104,"Upcoming")) | D24: =IF(A24="","",IFERROR(VLOOKUP(A24,Assumptions!$A$9:$B$108,2,FALSE),"")) | E24: =IF(OR(A24="",D24=""),"",D24-B24) | F24: =IF(A24="","",IFERROR(B24/D24,"")) | G24: =IF(A24="","",IF(D24<=0,"Set capacity",IF(B24>D24,"Review capacity",IF(B24=D24,"At capacity","Available"))))
A25: =IF(Assumptions!A19="","",Assumptions!A19) | B25: =IF(A25="","",COUNTIFS(Enrollment!$C$5:$C$104,A25,Enrollment!$G$5:$G$104,"Active")) | C25: =IF(A25="","",COUNTIFS(Enrollment!$C$5:$C$104,A25,Enrollment!$G$5:$G$104,"Upcoming")) | D25: =IF(A25="","",IFERROR(VLOOKUP(A25,Assumptions!$A$9:$B$108,2,FALSE),"")) | E25: =IF(OR(A25="",D25=""),"",D25-B25) | F25: =IF(A25="","",IFERROR(B25/D25,"")) | G25: =IF(A25="","",IF(D25<=0,"Set capacity",IF(B25>D25,"Review capacity",IF(B25=D25,"At capacity","Available"))))
A26: =IF(Assumptions!A20="","",Assumptions!A20) | B26: =IF(A26="","",COUNTIFS(Enrollment!$C$5:$C$104,A26,Enrollment!$G$5:$G$104,"Active")) | C26: =IF(A26="","",COUNTIFS(Enrollment!$C$5:$C$104,A26,Enrollment!$G$5:$G$104,"Upcoming")) | D26: =IF(A26="","",IFERROR(VLOOKUP(A26,Assumptions!$A$9:$B$108,2,FALSE),"")) | E26: =IF(OR(A26="",D26=""),"",D26-B26) | F26: =IF(A26="","",IFERROR(B26/D26,"")) | G26: =IF(A26="","",IF(D26<=0,"Set capacity",IF(B26>D26,"Review capacity",IF(B26=D26,"At capacity","Available"))))
... A114: =IF(Assumptions!A108="","",Assumptions!A108) | B114: =IF(A114="","",COUNTIFS(Enrollment!$C$5:$C$104,A114,Enrollment!$G$5:$G$104,"Active")) | C114: =IF(A114="","",COUNTIFS(Enrollment!$C$5:$C$104,A114,Enrollment!$G$5:$G$104,"Upcoming")) | D114: =IF(A114="","",IFERROR(VLOOKUP(A114,Assumptions!$A$9:$B$108,2,FALSE),"")) | E114: =IF(OR(A114="",D114=""),"",D114-B114) | F114: =IF(A114="","",IFERROR(B114/D114,"")) | G114: =IF(A114="","",IF(D114<=0,"Set capacity",IF(B114>D114,"Review capacity",IF(B114=D114,"At capacity","Available"))))
A115: Total | B115: =SUM(B15:B114) | C115: =SUM(C15:C114) | D115: =SUM(D15:D114) | E115: =IFERROR(D115-B115,"") | F115: =IFERROR(B115/D115,"") | G115: =IF(D115<=0,"Set capacity",IF(B115>D115,"Review capacity",""))

Sheet Enrollment
A1: Child Enrollment Tracker
A2: Maintain one operational roster using fictional display labels and only the information needed for enrollment tracking.
A3: Yellow cells are editable. Review prompts are administrative checks that require a human decision.
A4: Enrollment ID | B4: Child Display Label | C4: Program | D4: Room Assignment | E4: Start Date | F4: End Date | G4: Status | H4: Review Prompt
A5: DEMO-001 | B5: Fictional Child A | C5: Infant | D5: Demo Room 1 | E5: 46124 | G5: Active | H5: =IF(COUNTA(A5:G5)=0,"",IF(OR(A5="",B5="",C5="",D5="",E5="",G5=""),"Check required fields",IF(AND(F5<>"",F5<E5),"Check end date",IF(AND(G5="Active",E5>Assumptions!$B$2),"Check start/status",IF(AND(G5="Active",F5<>"",F5<Assumptions!$B$2),"Check end/status",IF(AND(G5="Upcoming",E5<=Assumptions!$B$2),"Check status",IF(AND(G5="Inactive",F5=""),"Check end date","Ready")))))))
A6: DEMO-002 | B6: Fictional Child B | C6: Toddler | D6: Demo Room 2 | E6: 46199 | G6: Active | H6: =IF(COUNTA(A6:G6)=0,"",IF(OR(A6="",B6="",C6="",D6="",E6="",G6=""),"Check required fields",IF(AND(F6<>"",F6<E6),"Check end date",IF(AND(G6="Active",E6>Assumptions!$B$2),"Check start/status",IF(AND(G6="Active",F6<>"",F6<Assumptions!$B$2),"Check end/status",IF(AND(G6="Upcoming",E6<=Assumptions!$B$2),"Check status",IF(AND(G6="Inactive",F6=""),"Check end date","Ready")))))))
A7: DEMO-003 | B7: Fictional Child C | C7: Preschool | D7: Demo Room 3 | E7: 46244 | G7: Active | H7: =IF(COUNTA(A7:G7)=0,"",IF(OR(A7="",B7="",C7="",D7="",E7="",G7=""),"Check required fields",IF(AND(F7<>"",F7<E7),"Check end date",IF(AND(G7="Active",E7>Assumptions!$B$2),"Check start/status",IF(AND(G7="Active",F7<>"",F7<Assumptions!$B$2),"Check end/status",IF(AND(G7="Upcoming",E7<=Assumptions!$B$2),"Check status",IF(AND(G7="Inactive",F7=""),"Check end date","Ready")))))))
A8: DEMO-004 | B8: Fictional Child D | C8: Pre-K | D8: Demo Room 4 | E8: 46074 | G8: Active | H8: =IF(COUNTA(A8:G8)=0,"",IF(OR(A8="",B8="",C8="",D8="",E8="",G8=""),"Check required fields",IF(AND(F8<>"",F8<E8),"Check end date",IF(AND(G8="Active",E8>Assumptions!$B$2),"Check start/status",IF(AND(G8="Active",F8<>"",F8<Assumptions!$B$2),"Check end/status",IF(AND(G8="Upcoming",E8<=Assumptions!$B$2),"Check status",IF(AND(G8="Inactive",F8=""),"Check end date","Ready")))))))
A9: DEMO-005 | B9: Fictional Child E | C9: Infant | D9: Demo Room 1 | E9: 46288 | G9: Upcoming | H9: =IF(COUNTA(A9:G9)=0,"",IF(OR(A9="",B9="",C9="",D9="",E9="",G9=""),"Check required fields",IF(AND(F9<>"",F9<E9),"Check end date",IF(AND(G9="Active",E9>Assumptions!$B$2),"Check start/status",IF(AND(G9="Active",F9<>"",F9<Assumptions!$B$2),"Check end/status",IF(AND(G9="Upcoming",E9<=Assumptions!$B$2),"Check status",IF(AND(G9="Inactive",F9=""),"Check end date","Ready")))))))
A10: DEMO-006 | B10: Fictional Child F | C10: Toddler | D10: Demo Room 2 | E10: 45974 | F10: 46254 | G10: Inactive | H10: =IF(COUNTA(A10:G10)=0,"",IF(OR(A10="",B10="",C10="",D10="",E10="",G10=""),"Check required fields",IF(AND(F10<>"",F10<E10),"Check end date",IF(AND(G10="Active",E10>Assumptions!$B$2),"Check start/status",IF(AND(G10="Active",F10<>"",F10<Assumptions!$B$2),"Check end/status",IF(AND(G10="Upcoming",E10<=Assumptions!$B$2),"Check status",IF(AND(G10="Inactive",F10=""),"Check end date","Ready")))))))
A11: DEMO-007 | B11: Fictional Child G | C11: School Age | D11: Demo Room 5 | E11: 46229 | G11: Active | H11: =IF(COUNTA(A11:G11)=0,"",IF(OR(A11="",B11="",C11="",D11="",E11="",G11=""),"Check required fields",IF(AND(F11<>"",F11<E11),"Check end date",IF(AND(G11="Active",E11>Assumptions!$B$2),"Check start/status",IF(AND(G11="Active",F11<>"",F11<Assumptions!$B$2),"Check end/status",IF(AND(G11="Upcoming",E11<=Assumptions!$B$2),"Check status",IF(AND(G11="Inactive",F11=""),"Check end date","Ready")))))))
A12: DEMO-008 | B12: Fictional Child H | C12: Pre-K | D12: Demo Room 4 | E12: 46304 | G12: Upcoming | H12: =IF(COUNTA(A12:G12)=0,"",IF(OR(A12="",B12="",C12="",D12="",E12="",G12=""),"Check required fields",IF(AND(F12<>"",F12<E12),"Check end date",IF(AND(G12="Active",E12>Assumptions!$B$2),"Check start/status",IF(AND(G12="Active",F12<>"",F12<Assumptions!$B$2),"Check end/status",IF(AND(G12="Upcoming",E12<=Assumptions!$B$2),"Check status",IF(AND(G12="Inactive",F12=""),"Check end date","Ready")))))))
A13: DEMO-009 | B13: Fictional Child I | C13: Preschool | D13: Demo Room 3 | E13: 45824 | F13: 46174 | G13: Inactive | H13: =IF(COUNTA(A13:G13)=0,"",IF(OR(A13="",B13="",C13="",D13="",E13="",G13=""),"Check required fields",IF(AND(F13<>"",F13<E13),"Check end date",IF(AND(G13="Active",E13>Assumptions!$B$2),"Check start/status",IF(AND(G13="Active",F13<>"",F13<Assumptions!$B$2),"Check end/status",IF(AND(G13="Upcoming",E13<=Assumptions!$B$2),"Check status",IF(AND(G13="Inactive",F13=""),"Check end date","Ready")))))))
A14: DEMO-010 | B14: Fictional Child J | C14: Infant | D14: Demo Room 1 | E14: 46274 | G14: Active | H14: =IF(COUNTA(A14:G14)=0,"",IF(OR(A14="",B14="",C14="",D14="",E14="",G14=""),"Check required fields",IF(AND(F14<>"",F14<E14),"Check end date",IF(AND(G14="Active",E14>Assumptions!$B$2),"Check start/status",IF(AND(G14="Active",F14<>"",F14<Assumptions!$B$2),"Check end/status",IF(AND(G14="Upcoming",E14<=Assumptions!$B$2),"Check status",IF(AND(G14="Inactive",F14=""),"Check end date","Ready")))))))
H15: =IF(COUNTA(A15:G15)=0,"",IF(OR(A15="",B15="",C15="",D15="",E15="",G15=""),"Check required fields",IF(AND(F15<>"",F15<E15),"Check end date",IF(AND(G15="Active",E15>Assumptions!$B$2),"Check start/status",IF(AND(G15="Active",F15<>"",F15<Assumptions!$B$2),"Check end/status",IF(AND(G15="Upcoming",E15<=Assumptions!$B$2),"Check status",IF(AND(G15="Inactive",F15=""),"Check end date","Ready")))))))
H16: =IF(COUNTA(A16:G16)=0,"",IF(OR(A16="",B16="",C16="",D16="",E16="",G16=""),"Check required fields",IF(AND(F16<>"",F16<E16),"Check end date",IF(AND(G16="Active",E16>Assumptions!$B$2),"Check start/status",IF(AND(G16="Active",F16<>"",F16<Assumptions!$B$2),"Check end/status",IF(AND(G16="Upcoming",E16<=Assumptions!$B$2),"Check status",IF(AND(G16="Inactive",F16=""),"Check end date","Ready")))))))
H17: =IF(COUNTA(A17:G17)=0,"",IF(OR(A17="",B17="",C17="",D17="",E17="",G17=""),"Check required fields",IF(AND(F17<>"",F17<E17),"Check end date",IF(AND(G17="Active",E17>Assumptions!$B$2),"Check start/status",IF(AND(G17="Active",F17<>"",F17<Assumptions!$B$2),"Check end/status",IF(AND(G17="Upcoming",E17<=Assumptions!$B$2),"Check status",IF(AND(G17="Inactive",F17=""),"Check end date","Ready")))))))
H18: =IF(COUNTA(A18:G18)=0,"",IF(OR(A18="",B18="",C18="",D18="",E18="",G18=""),"Check required fields",IF(AND(F18<>"",F18<E18),"Check end date",IF(AND(G18="Active",E18>Assumptions!$B$2),"Check start/status",IF(AND(G18="Active",F18<>"",F18<Assumptions!$B$2),"Check end/status",IF(AND(G18="Upcoming",E18<=Assumptions!$B$2),"Check status",IF(AND(G18="Inactive",F18=""),"Check end date","Ready")))))))
H19: =IF(COUNTA(A19:G19)=0,"",IF(OR(A19="",B19="",C19="",D19="",E19="",G19=""),"Check required fields",IF(AND(F19<>"",F19<E19),"Check end date",IF(AND(G19="Active",E19>Assumptions!$B$2),"Check start/status",IF(AND(G19="Active",F19<>"",F19<Assumptions!$B$2),"Check end/status",IF(AND(G19="Upcoming",E19<=Assumptions!$B$2),"Check status",IF(AND(G19="Inactive",F19=""),"Check end date","Ready")))))))
H20: =IF(COUNTA(A20:G20)=0,"",IF(OR(A20="",B20="",C20="",D20="",E20="",G20=""),"Check required fields",IF(AND(F20<>"",F20<E20),"Check end date",IF(AND(G20="Active",E20>Assumptions!$B$2),"Check start/status",IF(AND(G20="Active",F20<>"",F20<Assumptions!$B$2),"Check end/status",IF(AND(G20="Upcoming",E20<=Assumptions!$B$2),"Check status",IF(AND(G20="Inactive",F20=""),"Check end date","Ready")))))))
H21: =IF(COUNTA(A21:G21)=0,"",IF(OR(A21="",B21="",C21="",D21="",E21="",G21=""),"Check required fields",IF(AND(F21<>"",F21<E21),"Check end date",IF(AND(G21="Active",E21>Assumptions!$B$2),"Check start/status",IF(AND(G21="Active",F21<>"",F21<Assumptions!$B$2),"Check end/status",IF(AND(G21="Upcoming",E21<=Assumptions!$B$2),"Check status",IF(AND(G21="Inactive",F21=""),"Check end date","Ready")))))))
H22: =IF(COUNTA(A22:G22)=0,"",IF(OR(A22="",B22="",C22="",D22="",E22="",G22=""),"Check required fields",IF(AND(F22<>"",F22<E22),"Check end date",IF(AND(G22="Active",E22>Assumptions!$B$2),"Check start/status",IF(AND(G22="Active",F22<>"",F22<Assumptions!$B$2),"Check end/status",IF(AND(G22="Upcoming",E22<=Assumptions!$B$2),"Check status",IF(AND(G22="Inactive",F22=""),"Check end date","Ready")))))))
H23: =IF(COUNTA(A23:G23)=0,"",IF(OR(A23="",B23="",C23="",D23="",E23="",G23=""),"Check required fields",IF(AND(F23<>"",F23<E23),"Check end date",IF(AND(G23="Active",E23>Assumptions!$B$2),"Check start/status",IF(AND(G23="Active",F23<>"",F23<Assumptions!$B$2),"Check end/status",IF(AND(G23="Upcoming",E23<=Assumptions!$B$2),"Check status",IF(AND(G23="Inactive",F23=""),"Check end date","Ready")))))))
H24: =IF(COUNTA(A24:G24)=0,"",IF(OR(A24="",B24="",C24="",D24="",E24="",G24=""),"Check required fields",IF(AND(F24<>"",F24<E24),"Check end date",IF(AND(G24="Active",E24>Assumptions!$B$2),"Check start/status",IF(AND(G24="Active",F24<>"",F24<Assumptions!$B$2),"Check end/status",IF(AND(G24="Upcoming",E24<=Assumptions!$B$2),"Check status",IF(AND(G24="Inactive",F24=""),"Check end date","Ready")))))))
H25: =IF(COUNTA(A25:G25)=0,"",IF(OR(A25="",B25="",C25="",D25="",E25="",G25=""),"Check required fields",IF(AND(F25<>"",F25<E25),"Check end date",IF(AND(G25="Active",E25>Assumptions!$B$2),"Check start/status",IF(AND(G25="Active",F25<>"",F25<Assumptions!$B$2),"Check end/status",IF(AND(G25="Upcoming",E25<=Assumptions!$B$2),"Check status",IF(AND(G25="Inactive",F25=""),"Check end date","Ready")))))))
H26: =IF(COUNTA(A26:G26)=0,"",IF(OR(A26="",B26="",C26="",D26="",E26="",G26=""),"Check required fields",IF(AND(F26<>"",F26<E26),"Check end date",IF(AND(G26="Active",E26>Assumptions!$B$2),"Check start/status",IF(AND(G26="Active",F26<>"",F26<Assumptions!$B$2),"Check end/status",IF(AND(G26="Upcoming",E26<=Assumptions!$B$2),"Check status",IF(AND(G26="Inactive",F26=""),"Check end date","Ready")))))))
... H104: =IF(COUNTA(A104:G104)=0,"",IF(OR(A104="",B104="",C104="",D104="",E104="",G104=""),"Check required fields",IF(AND(F104<>"",F104<E104),"Check end date",IF(AND(G104="Active",E104>Assumptions!$B$2),"Check start/status",IF(AND(G104="Active",F104<>"",F104<Assumptions!$B$2),"Check end/status",IF(AND(G104="Upcoming",E104<=Assumptions!$B$2),"Check status",IF(AND(G104="Inactive",F104=""),"Check end date","Ready")))))))

Sheet Assumptions
A1: Enrollment Tracker Assumptions
A2: Planning Date | B2: 46274 | C2: Editable date used for summary counts and administrative review prompts.
A3: Earliest Accepted Date | B3: 42370 | C3: Editable lower date limit for enrollment entry.
A4: Latest Accepted Date | B4: 50040 | C4: Editable upper date limit for enrollment entry.
A5: Minimum Listed Capacity | B5: 0 | C5: Editable minimum allowed in the program capacity list.
A6: Maximum Listed Capacity | B6: 500 | C6: Editable maximum allowed in the program capacity list.
A7: Capacity values are local planning limits and require a human review before enrollment decisions.
A8: Program | B8: Listed Capacity | C8: Planning Note
A9: Infant | B9: 8 | C9: Fictional example program.
A10: Toddler | B10: 12 | C10: Fictional example program.
A11: Preschool | B11: 18 | C11: Fictional example program.
A12: Pre-K | B12: 18 | C12: Fictional example program.
A13: School Age | B13: 20 | C13: Fictional example program.
