Workbook

Sheet Summary
A1: Childcare Health Form Renewal Tracker
A2: Calculated from entered records and the editable planning assumptions.
A4: Indicator | B4: Calculated Value | D4: Review Flag | E4: Count
A5: As-of date | B5: =Assumptions!$B$4 | D5: Overdue | E5: =COUNTIF('Health Form Tracker'!$M$4:$M$103,"Overdue review")
A6: Tracked records | B6: =COUNTIF('Health Form Tracker'!$A$4:$A$103,"<>") | D6: Due soon | E6: =COUNTIF('Health Form Tracker'!$M$4:$M$103,"Due soon")
A7: Forms received | B7: =COUNTIFS('Health Form Tracker'!$A$4:$A$103,"<>",'Health Form Tracker'!$G$4:$G$103,"Received") | D7: Current | E7: =COUNTIF('Health Form Tracker'!$M$4:$M$103,"Current")
A8: Pending receipt | B8: =COUNTIFS('Health Form Tracker'!$A$4:$A$103,"<>",'Health Form Tracker'!$G$4:$G$103,"Pending") | D8: No date | E8: =COUNTIF('Health Form Tracker'!$M$4:$M$103,"No due date")
A9: Returned for update | B9: =COUNTIFS('Health Form Tracker'!$A$4:$A$103,"<>",'Health Form Tracker'!$G$4:$G$103,"Returned for Update") | D9: Check date | E9: =COUNTIF('Health Form Tracker'!$M$4:$M$103,"Check date")
A10: Not requested | B10: =COUNTIFS('Health Form Tracker'!$A$4:$A$103,"<>",'Health Form Tracker'!$G$4:$G$103,"Not Requested") | D10: Check settings | E10: =COUNTIF('Health Form Tracker'!$M$4:$M$103,"Check settings")
A11: Overdue reviews | B11: =COUNTIF('Health Form Tracker'!$M$4:$M$103,"Overdue review") | D11: Not applicable | E11: =COUNTIF('Health Form Tracker'!$M$4:$M$103,"Not applicable")
A12: Reviews due soon | B12: =COUNTIF('Health Form Tracker'!$M$4:$M$103,"Due soon")
A13: Follow-ups due | B13: =COUNTIF('Health Form Tracker'!$N$4:$N$103,"Follow-up due")
A14: Follow-ups due soon | B14: =COUNTIF('Health Form Tracker'!$N$4:$N$103,"Follow-up soon")
A15: Needs staff assignment | B15: =COUNTIF('Health Form Tracker'!$N$4:$N$103,"Assign staff")
A16: Missing renewal date | B16: =COUNTIFS('Health Form Tracker'!$A$4:$A$103,"<>",'Health Form Tracker'!$F$4:$F$103,"",'Health Form Tracker'!$G$4:$G$103,"<>Not Applicable")

Sheet Health Form Tracker
A1: Health Form Renewal Records
A2: Replace the fictional examples in highlighted cells. Alerts prompt a human review.
A3: Record ID | B3: Child Identifier | C3: Room | D3: Form Type | E3: Received Date | F3: Renewal Review Date | G3: Receipt Status | H3: Responsible Staff | I3: Last Follow-Up | J3: Next Follow-Up | K3: Administrative Notes | L3: Days Until Review | M3: Review Flag | N3: Follow-Up Flag
A4: HF-001 | B4: Fictional Child A | C4: Sunrise Room | D4: General Health Form | E4: 45914 | F4: 46269 | G4: Received | H4: Fictional Staff A | I4: 46244 | K4: Confirm the renewal date with the source form. | L4: =IF($A4="","",IF(OR($F4="",NOT(ISNUMBER($F4)),NOT(ISNUMBER(Assumptions!$B$4))),"",$F4-Assumptions!$B$4)) | M4: =IF($A4="","",IF(OR(NOT(ISNUMBER(Assumptions!$B$4)),NOT(ISNUMBER(Assumptions!$B$5))),"Check settings",IF($G4="Not Applicable","Not applicable",IF($F4="","No due date",IF(NOT(ISNUMBER($F4)),"Check date",IF($F4<Assumptions!$B$4,"Overdue review",IF($F4<=Assumptions!$B$4+Assumptions!$B$5,"Due soon","Current"))))))) | N4: =IF($A4="","",IF(OR(NOT(ISNUMBER(Assumptions!$B$4)),NOT(ISNUMBER(Assumptions!$B$6))),"Check settings",IF($G4="Not Applicable","None scheduled",IF(OR($H4="",$H4="Unassigned"),IF($G4="Received","None scheduled","Assign staff"),IF($J4="",IF($G4="Received","None scheduled","Set follow-up"),IF(NOT(ISNUMBER($J4)),"Check date",IF($J4<Assumptions!$B$4,"Follow-up due",IF($J4<=Assumptions!$B$4+Assumptions!$B$6,"Follow-up soon","Scheduled"))))))))
A5: HF-002 | B5: Fictional Child B | C5: Garden Room | D5: Physical Examination Form | E5: 45974 | F5: 46281 | G5: Received | H5: Fictional Staff B | I5: 46253 | K5: Review falls within the center-selected planning window. | L5: =IF($A5="","",IF(OR($F5="",NOT(ISNUMBER($F5)),NOT(ISNUMBER(Assumptions!$B$4))),"",$F5-Assumptions!$B$4)) | M5: =IF($A5="","",IF(OR(NOT(ISNUMBER(Assumptions!$B$4)),NOT(ISNUMBER(Assumptions!$B$5))),"Check settings",IF($G5="Not Applicable","Not applicable",IF($F5="","No due date",IF(NOT(ISNUMBER($F5)),"Check date",IF($F5<Assumptions!$B$4,"Overdue review",IF($F5<=Assumptions!$B$4+Assumptions!$B$5,"Due soon","Current"))))))) | N5: =IF($A5="","",IF(OR(NOT(ISNUMBER(Assumptions!$B$4)),NOT(ISNUMBER(Assumptions!$B$6))),"Check settings",IF($G5="Not Applicable","None scheduled",IF(OR($H5="",$H5="Unassigned"),IF($G5="Received","None scheduled","Assign staff"),IF($J5="",IF($G5="Received","None scheduled","Set follow-up"),IF(NOT(ISNUMBER($J5)),"Check date",IF($J5<Assumptions!$B$4,"Follow-up due",IF($J5<=Assumptions!$B$4+Assumptions!$B$6,"Follow-up soon","Scheduled"))))))))
A6: HF-003 | B6: Fictional Child C | C6: Harbor Room | D6: Immunization Record | F6: 46272 | G6: Pending | H6: Fictional Staff C | I6: 46264 | J6: 46273 | K6: Waiting for the guardian-supplied form. | L6: =IF($A6="","",IF(OR($F6="",NOT(ISNUMBER($F6)),NOT(ISNUMBER(Assumptions!$B$4))),"",$F6-Assumptions!$B$4)) | M6: =IF($A6="","",IF(OR(NOT(ISNUMBER(Assumptions!$B$4)),NOT(ISNUMBER(Assumptions!$B$5))),"Check settings",IF($G6="Not Applicable","Not applicable",IF($F6="","No due date",IF(NOT(ISNUMBER($F6)),"Check date",IF($F6<Assumptions!$B$4,"Overdue review",IF($F6<=Assumptions!$B$4+Assumptions!$B$5,"Due soon","Current"))))))) | N6: =IF($A6="","",IF(OR(NOT(ISNUMBER(Assumptions!$B$4)),NOT(ISNUMBER(Assumptions!$B$6))),"Check settings",IF($G6="Not Applicable","None scheduled",IF(OR($H6="",$H6="Unassigned"),IF($G6="Received","None scheduled","Assign staff"),IF($J6="",IF($G6="Received","None scheduled","Set follow-up"),IF(NOT(ISNUMBER($J6)),"Check date",IF($J6<Assumptions!$B$4,"Follow-up due",IF($J6<=Assumptions!$B$4+Assumptions!$B$6,"Follow-up soon","Scheduled"))))))))
A7: HF-004 | B7: Fictional Child D | C7: Maple Room | D7: Allergy Information Form | E7: 46262 | F7: 46294 | G7: Returned for Update | H7: Fictional Staff A | I7: 46270 | J7: 46277 | K7: Returned form requires an administrative update. | L7: =IF($A7="","",IF(OR($F7="",NOT(ISNUMBER($F7)),NOT(ISNUMBER(Assumptions!$B$4))),"",$F7-Assumptions!$B$4)) | M7: =IF($A7="","",IF(OR(NOT(ISNUMBER(Assumptions!$B$4)),NOT(ISNUMBER(Assumptions!$B$5))),"Check settings",IF($G7="Not Applicable","Not applicable",IF($F7="","No due date",IF(NOT(ISNUMBER($F7)),"Check date",IF($F7<Assumptions!$B$4,"Overdue review",IF($F7<=Assumptions!$B$4+Assumptions!$B$5,"Due soon","Current"))))))) | N7: =IF($A7="","",IF(OR(NOT(ISNUMBER(Assumptions!$B$4)),NOT(ISNUMBER(Assumptions!$B$6))),"Check settings",IF($G7="Not Applicable","None scheduled",IF(OR($H7="",$H7="Unassigned"),IF($G7="Received","None scheduled","Assign staff"),IF($J7="",IF($G7="Received","None scheduled","Set follow-up"),IF(NOT(ISNUMBER($J7)),"Check date",IF($J7<Assumptions!$B$4,"Follow-up due",IF($J7<=Assumptions!$B$4+Assumptions!$B$6,"Follow-up soon","Scheduled"))))))))
A8: HF-005 | B8: Fictional Child E | C8: Meadow Room | D8: Medication Authorization Form | E8: 46094 | F8: 46334 | G8: Received | H8: Fictional Staff D | I8: 46260 | K8: No follow-up is currently scheduled. | L8: =IF($A8="","",IF(OR($F8="",NOT(ISNUMBER($F8)),NOT(ISNUMBER(Assumptions!$B$4))),"",$F8-Assumptions!$B$4)) | M8: =IF($A8="","",IF(OR(NOT(ISNUMBER(Assumptions!$B$4)),NOT(ISNUMBER(Assumptions!$B$5))),"Check settings",IF($G8="Not Applicable","Not applicable",IF($F8="","No due date",IF(NOT(ISNUMBER($F8)),"Check date",IF($F8<Assumptions!$B$4,"Overdue review",IF($F8<=Assumptions!$B$4+Assumptions!$B$5,"Due soon","Current"))))))) | N8: =IF($A8="","",IF(OR(NOT(ISNUMBER(Assumptions!$B$4)),NOT(ISNUMBER(Assumptions!$B$6))),"Check settings",IF($G8="Not Applicable","None scheduled",IF(OR($H8="",$H8="Unassigned"),IF($G8="Received","None scheduled","Assign staff"),IF($J8="",IF($G8="Received","None scheduled","Set follow-up"),IF(NOT(ISNUMBER($J8)),"Check date",IF($J8<Assumptions!$B$4,"Follow-up due",IF($J8<=Assumptions!$B$4+Assumptions!$B$6,"Follow-up soon","Scheduled"))))))))
A9: HF-006 | B9: Fictional Child F | C9: School-Age Room | D9: Other Health Form | F9: 46319 | G9: Pending | H9: Fictional Staff B | I9: 46272 | J9: 46288 | K9: Follow-up is scheduled after the current planning window. | L9: =IF($A9="","",IF(OR($F9="",NOT(ISNUMBER($F9)),NOT(ISNUMBER(Assumptions!$B$4))),"",$F9-Assumptions!$B$4)) | M9: =IF($A9="","",IF(OR(NOT(ISNUMBER(Assumptions!$B$4)),NOT(ISNUMBER(Assumptions!$B$5))),"Check settings",IF($G9="Not Applicable","Not applicable",IF($F9="","No due date",IF(NOT(ISNUMBER($F9)),"Check date",IF($F9<Assumptions!$B$4,"Overdue review",IF($F9<=Assumptions!$B$4+Assumptions!$B$5,"Due soon","Current"))))))) | N9: =IF($A9="","",IF(OR(NOT(ISNUMBER(Assumptions!$B$4)),NOT(ISNUMBER(Assumptions!$B$6))),"Check settings",IF($G9="Not Applicable","None scheduled",IF(OR($H9="",$H9="Unassigned"),IF($G9="Received","None scheduled","Assign staff"),IF($J9="",IF($G9="Received","None scheduled","Set follow-up"),IF(NOT(ISNUMBER($J9)),"Check date",IF($J9<Assumptions!$B$4,"Follow-up due",IF($J9<=Assumptions!$B$4+Assumptions!$B$6,"Follow-up soon","Scheduled"))))))))
A10: HF-007 | B10: Fictional Child G | C10: Sunrise Room | D10: Other Health Form | G10: Not Applicable | H10: Unassigned | K10: The center marked this form type not applicable. | L10: =IF($A10="","",IF(OR($F10="",NOT(ISNUMBER($F10)),NOT(ISNUMBER(Assumptions!$B$4))),"",$F10-Assumptions!$B$4)) | M10: =IF($A10="","",IF(OR(NOT(ISNUMBER(Assumptions!$B$4)),NOT(ISNUMBER(Assumptions!$B$5))),"Check settings",IF($G10="Not Applicable","Not applicable",IF($F10="","No due date",IF(NOT(ISNUMBER($F10)),"Check date",IF($F10<Assumptions!$B$4,"Overdue review",IF($F10<=Assumptions!$B$4+Assumptions!$B$5,"Due soon","Current"))))))) | N10: =IF($A10="","",IF(OR(NOT(ISNUMBER(Assumptions!$B$4)),NOT(ISNUMBER(Assumptions!$B$6))),"Check settings",IF($G10="Not Applicable","None scheduled",IF(OR($H10="",$H10="Unassigned"),IF($G10="Received","None scheduled","Assign staff"),IF($J10="",IF($G10="Received","None scheduled","Set follow-up"),IF(NOT(ISNUMBER($J10)),"Check date",IF($J10<Assumptions!$B$4,"Follow-up due",IF($J10<=Assumptions!$B$4+Assumptions!$B$6,"Follow-up soon","Scheduled"))))))))
A11: HF-008 | B11: Fictional Child H | C11: Garden Room | D11: General Health Form | G11: Not Requested | H11: Unassigned | K11: Assign a staff member before beginning follow-up. | L11: =IF($A11="","",IF(OR($F11="",NOT(ISNUMBER($F11)),NOT(ISNUMBER(Assumptions!$B$4))),"",$F11-Assumptions!$B$4)) | M11: =IF($A11="","",IF(OR(NOT(ISNUMBER(Assumptions!$B$4)),NOT(ISNUMBER(Assumptions!$B$5))),"Check settings",IF($G11="Not Applicable","Not applicable",IF($F11="","No due date",IF(NOT(ISNUMBER($F11)),"Check date",IF($F11<Assumptions!$B$4,"Overdue review",IF($F11<=Assumptions!$B$4+Assumptions!$B$5,"Due soon","Current"))))))) | N11: =IF($A11="","",IF(OR(NOT(ISNUMBER(Assumptions!$B$4)),NOT(ISNUMBER(Assumptions!$B$6))),"Check settings",IF($G11="Not Applicable","None scheduled",IF(OR($H11="",$H11="Unassigned"),IF($G11="Received","None scheduled","Assign staff"),IF($J11="",IF($G11="Received","None scheduled","Set follow-up"),IF(NOT(ISNUMBER($J11)),"Check date",IF($J11<Assumptions!$B$4,"Follow-up due",IF($J11<=Assumptions!$B$4+Assumptions!$B$6,"Follow-up soon","Scheduled"))))))))
A12: HF-009 | B12: Fictional Child I | C12: Harbor Room | D12: Physical Examination Form | E12: 45909 | F12: 46274 | G12: Received | H12: Fictional Staff C | I12: 46246 | K12: Renewal review date equals the as-of date. | L12: =IF($A12="","",IF(OR($F12="",NOT(ISNUMBER($F12)),NOT(ISNUMBER(Assumptions!$B$4))),"",$F12-Assumptions!$B$4)) | M12: =IF($A12="","",IF(OR(NOT(ISNUMBER(Assumptions!$B$4)),NOT(ISNUMBER(Assumptions!$B$5))),"Check settings",IF($G12="Not Applicable","Not applicable",IF($F12="","No due date",IF(NOT(ISNUMBER($F12)),"Check date",IF($F12<Assumptions!$B$4,"Overdue review",IF($F12<=Assumptions!$B$4+Assumptions!$B$5,"Due soon","Current"))))))) | N12: =IF($A12="","",IF(OR(NOT(ISNUMBER(Assumptions!$B$4)),NOT(ISNUMBER(Assumptions!$B$6))),"Check settings",IF($G12="Not Applicable","None scheduled",IF(OR($H12="",$H12="Unassigned"),IF($G12="Received","None scheduled","Assign staff"),IF($J12="",IF($G12="Received","None scheduled","Set follow-up"),IF(NOT(ISNUMBER($J12)),"Check date",IF($J12<Assumptions!$B$4,"Follow-up due",IF($J12<=Assumptions!$B$4+Assumptions!$B$6,"Follow-up soon","Scheduled"))))))))
A13: HF-010 | B13: Fictional Child J | C13: Maple Room | D13: Immunization Record | E13: 46268 | F13: 46304 | G13: Returned for Update | H13: Fictional Staff D | I13: 46273 | J13: 46281 | K13: Follow-up date equals the planning-window boundary. | L13: =IF($A13="","",IF(OR($F13="",NOT(ISNUMBER($F13)),NOT(ISNUMBER(Assumptions!$B$4))),"",$F13-Assumptions!$B$4)) | M13: =IF($A13="","",IF(OR(NOT(ISNUMBER(Assumptions!$B$4)),NOT(ISNUMBER(Assumptions!$B$5))),"Check settings",IF($G13="Not Applicable","Not applicable",IF($F13="","No due date",IF(NOT(ISNUMBER($F13)),"Check date",IF($F13<Assumptions!$B$4,"Overdue review",IF($F13<=Assumptions!$B$4+Assumptions!$B$5,"Due soon","Current"))))))) | N13: =IF($A13="","",IF(OR(NOT(ISNUMBER(Assumptions!$B$4)),NOT(ISNUMBER(Assumptions!$B$6))),"Check settings",IF($G13="Not Applicable","None scheduled",IF(OR($H13="",$H13="Unassigned"),IF($G13="Received","None scheduled","Assign staff"),IF($J13="",IF($G13="Received","None scheduled","Set follow-up"),IF(NOT(ISNUMBER($J13)),"Check date",IF($J13<Assumptions!$B$4,"Follow-up due",IF($J13<=Assumptions!$B$4+Assumptions!$B$6,"Follow-up soon","Scheduled"))))))))
L14: =IF($A14="","",IF(OR($F14="",NOT(ISNUMBER($F14)),NOT(ISNUMBER(Assumptions!$B$4))),"",$F14-Assumptions!$B$4)) | M14: =IF($A14="","",IF(OR(NOT(ISNUMBER(Assumptions!$B$4)),NOT(ISNUMBER(Assumptions!$B$5))),"Check settings",IF($G14="Not Applicable","Not applicable",IF($F14="","No due date",IF(NOT(ISNUMBER($F14)),"Check date",IF($F14<Assumptions!$B$4,"Overdue review",IF($F14<=Assumptions!$B$4+Assumptions!$B$5,"Due soon","Current"))))))) | N14: =IF($A14="","",IF(OR(NOT(ISNUMBER(Assumptions!$B$4)),NOT(ISNUMBER(Assumptions!$B$6))),"Check settings",IF($G14="Not Applicable","None scheduled",IF(OR($H14="",$H14="Unassigned"),IF($G14="Received","None scheduled","Assign staff"),IF($J14="",IF($G14="Received","None scheduled","Set follow-up"),IF(NOT(ISNUMBER($J14)),"Check date",IF($J14<Assumptions!$B$4,"Follow-up due",IF($J14<=Assumptions!$B$4+Assumptions!$B$6,"Follow-up soon","Scheduled"))))))))
L15: =IF($A15="","",IF(OR($F15="",NOT(ISNUMBER($F15)),NOT(ISNUMBER(Assumptions!$B$4))),"",$F15-Assumptions!$B$4)) | M15: =IF($A15="","",IF(OR(NOT(ISNUMBER(Assumptions!$B$4)),NOT(ISNUMBER(Assumptions!$B$5))),"Check settings",IF($G15="Not Applicable","Not applicable",IF($F15="","No due date",IF(NOT(ISNUMBER($F15)),"Check date",IF($F15<Assumptions!$B$4,"Overdue review",IF($F15<=Assumptions!$B$4+Assumptions!$B$5,"Due soon","Current"))))))) | N15: =IF($A15="","",IF(OR(NOT(ISNUMBER(Assumptions!$B$4)),NOT(ISNUMBER(Assumptions!$B$6))),"Check settings",IF($G15="Not Applicable","None scheduled",IF(OR($H15="",$H15="Unassigned"),IF($G15="Received","None scheduled","Assign staff"),IF($J15="",IF($G15="Received","None scheduled","Set follow-up"),IF(NOT(ISNUMBER($J15)),"Check date",IF($J15<Assumptions!$B$4,"Follow-up due",IF($J15<=Assumptions!$B$4+Assumptions!$B$6,"Follow-up soon","Scheduled"))))))))
L16: =IF($A16="","",IF(OR($F16="",NOT(ISNUMBER($F16)),NOT(ISNUMBER(Assumptions!$B$4))),"",$F16-Assumptions!$B$4)) | M16: =IF($A16="","",IF(OR(NOT(ISNUMBER(Assumptions!$B$4)),NOT(ISNUMBER(Assumptions!$B$5))),"Check settings",IF($G16="Not Applicable","Not applicable",IF($F16="","No due date",IF(NOT(ISNUMBER($F16)),"Check date",IF($F16<Assumptions!$B$4,"Overdue review",IF($F16<=Assumptions!$B$4+Assumptions!$B$5,"Due soon","Current"))))))) | N16: =IF($A16="","",IF(OR(NOT(ISNUMBER(Assumptions!$B$4)),NOT(ISNUMBER(Assumptions!$B$6))),"Check settings",IF($G16="Not Applicable","None scheduled",IF(OR($H16="",$H16="Unassigned"),IF($G16="Received","None scheduled","Assign staff"),IF($J16="",IF($G16="Received","None scheduled","Set follow-up"),IF(NOT(ISNUMBER($J16)),"Check date",IF($J16<Assumptions!$B$4,"Follow-up due",IF($J16<=Assumptions!$B$4+Assumptions!$B$6,"Follow-up soon","Scheduled"))))))))
L17: =IF($A17="","",IF(OR($F17="",NOT(ISNUMBER($F17)),NOT(ISNUMBER(Assumptions!$B$4))),"",$F17-Assumptions!$B$4)) | M17: =IF($A17="","",IF(OR(NOT(ISNUMBER(Assumptions!$B$4)),NOT(ISNUMBER(Assumptions!$B$5))),"Check settings",IF($G17="Not Applicable","Not applicable",IF($F17="","No due date",IF(NOT(ISNUMBER($F17)),"Check date",IF($F17<Assumptions!$B$4,"Overdue review",IF($F17<=Assumptions!$B$4+Assumptions!$B$5,"Due soon","Current"))))))) | N17: =IF($A17="","",IF(OR(NOT(ISNUMBER(Assumptions!$B$4)),NOT(ISNUMBER(Assumptions!$B$6))),"Check settings",IF($G17="Not Applicable","None scheduled",IF(OR($H17="",$H17="Unassigned"),IF($G17="Received","None scheduled","Assign staff"),IF($J17="",IF($G17="Received","None scheduled","Set follow-up"),IF(NOT(ISNUMBER($J17)),"Check date",IF($J17<Assumptions!$B$4,"Follow-up due",IF($J17<=Assumptions!$B$4+Assumptions!$B$6,"Follow-up soon","Scheduled"))))))))
L18: =IF($A18="","",IF(OR($F18="",NOT(ISNUMBER($F18)),NOT(ISNUMBER(Assumptions!$B$4))),"",$F18-Assumptions!$B$4)) | M18: =IF($A18="","",IF(OR(NOT(ISNUMBER(Assumptions!$B$4)),NOT(ISNUMBER(Assumptions!$B$5))),"Check settings",IF($G18="Not Applicable","Not applicable",IF($F18="","No due date",IF(NOT(ISNUMBER($F18)),"Check date",IF($F18<Assumptions!$B$4,"Overdue review",IF($F18<=Assumptions!$B$4+Assumptions!$B$5,"Due soon","Current"))))))) | N18: =IF($A18="","",IF(OR(NOT(ISNUMBER(Assumptions!$B$4)),NOT(ISNUMBER(Assumptions!$B$6))),"Check settings",IF($G18="Not Applicable","None scheduled",IF(OR($H18="",$H18="Unassigned"),IF($G18="Received","None scheduled","Assign staff"),IF($J18="",IF($G18="Received","None scheduled","Set follow-up"),IF(NOT(ISNUMBER($J18)),"Check date",IF($J18<Assumptions!$B$4,"Follow-up due",IF($J18<=Assumptions!$B$4+Assumptions!$B$6,"Follow-up soon","Scheduled"))))))))
L19: =IF($A19="","",IF(OR($F19="",NOT(ISNUMBER($F19)),NOT(ISNUMBER(Assumptions!$B$4))),"",$F19-Assumptions!$B$4)) | M19: =IF($A19="","",IF(OR(NOT(ISNUMBER(Assumptions!$B$4)),NOT(ISNUMBER(Assumptions!$B$5))),"Check settings",IF($G19="Not Applicable","Not applicable",IF($F19="","No due date",IF(NOT(ISNUMBER($F19)),"Check date",IF($F19<Assumptions!$B$4,"Overdue review",IF($F19<=Assumptions!$B$4+Assumptions!$B$5,"Due soon","Current"))))))) | N19: =IF($A19="","",IF(OR(NOT(ISNUMBER(Assumptions!$B$4)),NOT(ISNUMBER(Assumptions!$B$6))),"Check settings",IF($G19="Not Applicable","None scheduled",IF(OR($H19="",$H19="Unassigned"),IF($G19="Received","None scheduled","Assign staff"),IF($J19="",IF($G19="Received","None scheduled","Set follow-up"),IF(NOT(ISNUMBER($J19)),"Check date",IF($J19<Assumptions!$B$4,"Follow-up due",IF($J19<=Assumptions!$B$4+Assumptions!$B$6,"Follow-up soon","Scheduled"))))))))
L20: =IF($A20="","",IF(OR($F20="",NOT(ISNUMBER($F20)),NOT(ISNUMBER(Assumptions!$B$4))),"",$F20-Assumptions!$B$4)) | M20: =IF($A20="","",IF(OR(NOT(ISNUMBER(Assumptions!$B$4)),NOT(ISNUMBER(Assumptions!$B$5))),"Check settings",IF($G20="Not Applicable","Not applicable",IF($F20="","No due date",IF(NOT(ISNUMBER($F20)),"Check date",IF($F20<Assumptions!$B$4,"Overdue review",IF($F20<=Assumptions!$B$4+Assumptions!$B$5,"Due soon","Current"))))))) | N20: =IF($A20="","",IF(OR(NOT(ISNUMBER(Assumptions!$B$4)),NOT(ISNUMBER(Assumptions!$B$6))),"Check settings",IF($G20="Not Applicable","None scheduled",IF(OR($H20="",$H20="Unassigned"),IF($G20="Received","None scheduled","Assign staff"),IF($J20="",IF($G20="Received","None scheduled","Set follow-up"),IF(NOT(ISNUMBER($J20)),"Check date",IF($J20<Assumptions!$B$4,"Follow-up due",IF($J20<=Assumptions!$B$4+Assumptions!$B$6,"Follow-up soon","Scheduled"))))))))
L21: =IF($A21="","",IF(OR($F21="",NOT(ISNUMBER($F21)),NOT(ISNUMBER(Assumptions!$B$4))),"",$F21-Assumptions!$B$4)) | M21: =IF($A21="","",IF(OR(NOT(ISNUMBER(Assumptions!$B$4)),NOT(ISNUMBER(Assumptions!$B$5))),"Check settings",IF($G21="Not Applicable","Not applicable",IF($F21="","No due date",IF(NOT(ISNUMBER($F21)),"Check date",IF($F21<Assumptions!$B$4,"Overdue review",IF($F21<=Assumptions!$B$4+Assumptions!$B$5,"Due soon","Current"))))))) | N21: =IF($A21="","",IF(OR(NOT(ISNUMBER(Assumptions!$B$4)),NOT(ISNUMBER(Assumptions!$B$6))),"Check settings",IF($G21="Not Applicable","None scheduled",IF(OR($H21="",$H21="Unassigned"),IF($G21="Received","None scheduled","Assign staff"),IF($J21="",IF($G21="Received","None scheduled","Set follow-up"),IF(NOT(ISNUMBER($J21)),"Check date",IF($J21<Assumptions!$B$4,"Follow-up due",IF($J21<=Assumptions!$B$4+Assumptions!$B$6,"Follow-up soon","Scheduled"))))))))
L22: =IF($A22="","",IF(OR($F22="",NOT(ISNUMBER($F22)),NOT(ISNUMBER(Assumptions!$B$4))),"",$F22-Assumptions!$B$4)) | M22: =IF($A22="","",IF(OR(NOT(ISNUMBER(Assumptions!$B$4)),NOT(ISNUMBER(Assumptions!$B$5))),"Check settings",IF($G22="Not Applicable","Not applicable",IF($F22="","No due date",IF(NOT(ISNUMBER($F22)),"Check date",IF($F22<Assumptions!$B$4,"Overdue review",IF($F22<=Assumptions!$B$4+Assumptions!$B$5,"Due soon","Current"))))))) | N22: =IF($A22="","",IF(OR(NOT(ISNUMBER(Assumptions!$B$4)),NOT(ISNUMBER(Assumptions!$B$6))),"Check settings",IF($G22="Not Applicable","None scheduled",IF(OR($H22="",$H22="Unassigned"),IF($G22="Received","None scheduled","Assign staff"),IF($J22="",IF($G22="Received","None scheduled","Set follow-up"),IF(NOT(ISNUMBER($J22)),"Check date",IF($J22<Assumptions!$B$4,"Follow-up due",IF($J22<=Assumptions!$B$4+Assumptions!$B$6,"Follow-up soon","Scheduled"))))))))
L23: =IF($A23="","",IF(OR($F23="",NOT(ISNUMBER($F23)),NOT(ISNUMBER(Assumptions!$B$4))),"",$F23-Assumptions!$B$4)) | M23: =IF($A23="","",IF(OR(NOT(ISNUMBER(Assumptions!$B$4)),NOT(ISNUMBER(Assumptions!$B$5))),"Check settings",IF($G23="Not Applicable","Not applicable",IF($F23="","No due date",IF(NOT(ISNUMBER($F23)),"Check date",IF($F23<Assumptions!$B$4,"Overdue review",IF($F23<=Assumptions!$B$4+Assumptions!$B$5,"Due soon","Current"))))))) | N23: =IF($A23="","",IF(OR(NOT(ISNUMBER(Assumptions!$B$4)),NOT(ISNUMBER(Assumptions!$B$6))),"Check settings",IF($G23="Not Applicable","None scheduled",IF(OR($H23="",$H23="Unassigned"),IF($G23="Received","None scheduled","Assign staff"),IF($J23="",IF($G23="Received","None scheduled","Set follow-up"),IF(NOT(ISNUMBER($J23)),"Check date",IF($J23<Assumptions!$B$4,"Follow-up due",IF($J23<=Assumptions!$B$4+Assumptions!$B$6,"Follow-up soon","Scheduled"))))))))
L24: =IF($A24="","",IF(OR($F24="",NOT(ISNUMBER($F24)),NOT(ISNUMBER(Assumptions!$B$4))),"",$F24-Assumptions!$B$4)) | M24: =IF($A24="","",IF(OR(NOT(ISNUMBER(Assumptions!$B$4)),NOT(ISNUMBER(Assumptions!$B$5))),"Check settings",IF($G24="Not Applicable","Not applicable",IF($F24="","No due date",IF(NOT(ISNUMBER($F24)),"Check date",IF($F24<Assumptions!$B$4,"Overdue review",IF($F24<=Assumptions!$B$4+Assumptions!$B$5,"Due soon","Current"))))))) | N24: =IF($A24="","",IF(OR(NOT(ISNUMBER(Assumptions!$B$4)),NOT(ISNUMBER(Assumptions!$B$6))),"Check settings",IF($G24="Not Applicable","None scheduled",IF(OR($H24="",$H24="Unassigned"),IF($G24="Received","None scheduled","Assign staff"),IF($J24="",IF($G24="Received","None scheduled","Set follow-up"),IF(NOT(ISNUMBER($J24)),"Check date",IF($J24<Assumptions!$B$4,"Follow-up due",IF($J24<=Assumptions!$B$4+Assumptions!$B$6,"Follow-up soon","Scheduled"))))))))
L25: =IF($A25="","",IF(OR($F25="",NOT(ISNUMBER($F25)),NOT(ISNUMBER(Assumptions!$B$4))),"",$F25-Assumptions!$B$4)) | M25: =IF($A25="","",IF(OR(NOT(ISNUMBER(Assumptions!$B$4)),NOT(ISNUMBER(Assumptions!$B$5))),"Check settings",IF($G25="Not Applicable","Not applicable",IF($F25="","No due date",IF(NOT(ISNUMBER($F25)),"Check date",IF($F25<Assumptions!$B$4,"Overdue review",IF($F25<=Assumptions!$B$4+Assumptions!$B$5,"Due soon","Current"))))))) | N25: =IF($A25="","",IF(OR(NOT(ISNUMBER(Assumptions!$B$4)),NOT(ISNUMBER(Assumptions!$B$6))),"Check settings",IF($G25="Not Applicable","None scheduled",IF(OR($H25="",$H25="Unassigned"),IF($G25="Received","None scheduled","Assign staff"),IF($J25="",IF($G25="Received","None scheduled","Set follow-up"),IF(NOT(ISNUMBER($J25)),"Check date",IF($J25<Assumptions!$B$4,"Follow-up due",IF($J25<=Assumptions!$B$4+Assumptions!$B$6,"Follow-up soon","Scheduled"))))))))
... L103: =IF($A103="","",IF(OR($F103="",NOT(ISNUMBER($F103)),NOT(ISNUMBER(Assumptions!$B$4))),"",$F103-Assumptions!$B$4)) | M103: =IF($A103="","",IF(OR(NOT(ISNUMBER(Assumptions!$B$4)),NOT(ISNUMBER(Assumptions!$B$5))),"Check settings",IF($G103="Not Applicable","Not applicable",IF($F103="","No due date",IF(NOT(ISNUMBER($F103)),"Check date",IF($F103<Assumptions!$B$4,"Overdue review",IF($F103<=Assumptions!$B$4+Assumptions!$B$5,"Due soon","Current"))))))) | N103: =IF($A103="","",IF(OR(NOT(ISNUMBER(Assumptions!$B$4)),NOT(ISNUMBER(Assumptions!$B$6))),"Check settings",IF($G103="Not Applicable","None scheduled",IF(OR($H103="",$H103="Unassigned"),IF($G103="Received","None scheduled","Assign staff"),IF($J103="",IF($G103="Received","None scheduled","Set follow-up"),IF(NOT(ISNUMBER($J103)),"Check date",IF($J103<Assumptions!$B$4,"Follow-up due",IF($J103<=Assumptions!$B$4+Assumptions!$B$6,"Follow-up soon","Scheduled"))))))))

Sheet Assumptions
A1: Editable Assumptions and Lists
A2: Edit highlighted settings and list choices to match the center's own process.
A3: Planning Setting | B3: Editable Value | D3: Room Choices | F3: Form Type Choices | H3: Receipt Status Choices | J3: Responsible Staff Choices
A4: As-of date | B4: 46274 | D4: Sunrise Room | F4: General Health Form | H4: Received | J4: Fictional Staff A
A5: Review due-soon window (days) | B5: 30 | D5: Garden Room | F5: Physical Examination Form | H5: Pending | J5: Fictional Staff B
A6: Follow-up due-soon window (days) | B6: 7 | D6: Harbor Room | F6: Immunization Record | H6: Returned for Update | J6: Fictional Staff C
A7: Earliest accepted date | B7: 38974 | D7: Maple Room | F7: Allergy Information Form | H7: Not Requested | J7: Fictional Staff D
A8: Latest accepted date | B8: 53574 | D8: Meadow Room | F8: Medication Authorization Form | H8: Not Applicable | J8: Unassigned
D9: School-Age Room | F9: Other Health Form
A11: Planning windows and dates are center-selected administrative assumptions. Confirm requirements against current source documents and center policy.
A12: Guardian-supplied allergy, medication, immunization, and health records are administrative inputs only; this workbook does not provide medical guidance.
