Workbook

Sheet Summary
A1: Daycare Activity Planner Summary
A2: Indicators recalculate from the entered activity plan.
A3: Plan Indicators | B3: Value | D3: Workload Indicators | E3: Value
A4: Activity records entered | B4: =COUNTA('Activity Plan'!$A$5:$A$104) | D4: Planned child-spots, not canceled | E4: =SUMIFS('Activity Plan'!$O$5:$O$104,'Activity Plan'!$N$5:$N$104,"<>Canceled")
A5: Status marked Planned | B5: =COUNTIF('Activity Plan'!$N$5:$N$104,"Planned") | D5: Entered total activity hours | E5: =SUM('Activity Plan'!$H$5:$H$104)
A6: Status marked Ready | B6: =COUNTIF('Activity Plan'!$N$5:$N$104,"Ready") | D6: Average activity minutes | E6: =IFERROR(AVERAGEIF('Activity Plan'!$E$5:$E$104,">0"),"")
A7: Activities in the next 7 days | B7: =COUNTIFS('Activity Plan'!$B$5:$B$104,">="&TODAY(),'Activity Plan'!$B$5:$B$104,"<="&TODAY()+6,'Activity Plan'!$N$5:$N$104,"<>Canceled",'Activity Plan'!$A$5:$A$104,"<>") | D7: Rows needing a human check | E7: =COUNTIF('Activity Plan'!$P$5:$P$104,"Check*")
A8: Estimated material cost | B8: =SUM('Activity Plan'!$K$5:$K$104) | D8: Status marked Completed | E8: =COUNTIF('Activity Plan'!$N$5:$N$104,"Completed")
A10: Age Group | B10: Activity Records
A11: =Assumptions!$A$5 | B11: =COUNTIF('Activity Plan'!$C$5:$C$104,$A11)
A12: =Assumptions!$A$6 | B12: =COUNTIF('Activity Plan'!$C$5:$C$104,$A12)
A13: =Assumptions!$A$7 | B13: =COUNTIF('Activity Plan'!$C$5:$C$104,$A13)
A14: =Assumptions!$A$8 | B14: =COUNTIF('Activity Plan'!$C$5:$C$104,$A14)
A15: =Assumptions!$A$9 | B15: =COUNTIF('Activity Plan'!$C$5:$C$104,$A15)
A16: =Assumptions!$A$10 | B16: =COUNTIF('Activity Plan'!$C$5:$C$104,$A16)

Sheet Activity Plan
A1: Daycare Activity Plan
A2: Yellow cells are editable. Review alerts are planning prompts for a person to check; they do not determine program requirements.
A4: Activity ID | B4: Activity Date | C4: Age Group | D4: Activity Description | E4: Activity Minutes | F4: Setup Minutes | G4: Cleanup Minutes | H4: Total Time (hrs) | I4: Materials | J4: Material Quantity | K4: Estimated Cost | L4: Room | M4: Lead Assignment | N4: Status | O4: Planned Children | P4: Review Alert
A5: ACT-001 | B5: 46272 | C5: Infant | D5: Soft Scarf Color Reach | E5: 15 | F5: 5 | G5: 5 | H5: =IF($A5="","",IF(OR($E5="",$F5="",$G5=""),"",IFERROR(SUM($E5:$G5)/60,""))) | I5: Washable play scarves | J5: 8 | K5: 12.5 | L5: Nest Room | M5: Fictional Educator Maple | N5: Completed | O5: 8 | P5: =IF($A5="","",IF(COUNTIF($A$5:$A$104,$A5)>1,"Check duplicate ID",IF(OR($B5="",$C5="",$D5="",$E5="",$F5="",$G5="",$L5="",$M5="",$N5="",$O5=""),"Check required fields",IF(OR(COUNTIF(Assumptions!$A$5:$A$10,$C5)=0,COUNTIF(Assumptions!$E$5:$E$9,$L5)=0,COUNTIF(Assumptions!$G$5:$G$9,$N5)=0,COUNTIF(Assumptions!$I$5:$I$9,$M5)=0),"Check list choice",IF($N5="Canceled","No review needed",IF(OR($B5<Assumptions!$L$5,$B5>Assumptions!$L$6),"Check date range",IF($E5>IFERROR(VLOOKUP($C5,Assumptions!$A$5:$C$10,2,FALSE),1E+99),"Check duration",IF($O5>IFERROR(VLOOKUP($C5,Assumptions!$A$5:$C$10,3,FALSE),1E+99),"Check capacity",IF($K5>Assumptions!$L$8,"Check cost","Ready for review")))))))))
A6: ACT-002 | B6: 46274 | C6: Toddler | D6: Large Block Bridge Build | E6: 20 | F6: 10 | G6: 8 | H6: =IF($A6="","",IF(OR($E6="",$F6="",$G6=""),"",IFERROR(SUM($E6:$G6)/60,""))) | I6: Foam blocks from classroom stock | J6: 24 | K6: 0 | L6: Sprout Room | M6: Fictional Educator Comet | N6: Completed | O6: 10 | P6: =IF($A6="","",IF(COUNTIF($A$5:$A$104,$A6)>1,"Check duplicate ID",IF(OR($B6="",$C6="",$D6="",$E6="",$F6="",$G6="",$L6="",$M6="",$N6="",$O6=""),"Check required fields",IF(OR(COUNTIF(Assumptions!$A$5:$A$10,$C6)=0,COUNTIF(Assumptions!$E$5:$E$9,$L6)=0,COUNTIF(Assumptions!$G$5:$G$9,$N6)=0,COUNTIF(Assumptions!$I$5:$I$9,$M6)=0),"Check list choice",IF($N6="Canceled","No review needed",IF(OR($B6<Assumptions!$L$5,$B6>Assumptions!$L$6),"Check date range",IF($E6>IFERROR(VLOOKUP($C6,Assumptions!$A$5:$C$10,2,FALSE),1E+99),"Check duration",IF($O6>IFERROR(VLOOKUP($C6,Assumptions!$A$5:$C$10,3,FALSE),1E+99),"Check capacity",IF($K6>Assumptions!$L$8,"Check cost","Ready for review")))))))))
A7: ACT-003 | B7: 46275 | C7: Preschool 3 | D7: Color Mixing Cup Lab | E7: 25 | F7: 12 | G7: 10 | H7: =IF($A7="","",IF(OR($E7="",$F7="",$G7=""),"",IFERROR(SUM($E7:$G7)/60,""))) | I7: Clear cups and washable paint | J7: 18 | K7: 18.75 | L7: Meadow Room | M7: Fictional Educator Pebble | N7: Ready | O7: 12 | P7: =IF($A7="","",IF(COUNTIF($A$5:$A$104,$A7)>1,"Check duplicate ID",IF(OR($B7="",$C7="",$D7="",$E7="",$F7="",$G7="",$L7="",$M7="",$N7="",$O7=""),"Check required fields",IF(OR(COUNTIF(Assumptions!$A$5:$A$10,$C7)=0,COUNTIF(Assumptions!$E$5:$E$9,$L7)=0,COUNTIF(Assumptions!$G$5:$G$9,$N7)=0,COUNTIF(Assumptions!$I$5:$I$9,$M7)=0),"Check list choice",IF($N7="Canceled","No review needed",IF(OR($B7<Assumptions!$L$5,$B7>Assumptions!$L$6),"Check date range",IF($E7>IFERROR(VLOOKUP($C7,Assumptions!$A$5:$C$10,2,FALSE),1E+99),"Check duration",IF($O7>IFERROR(VLOOKUP($C7,Assumptions!$A$5:$C$10,3,FALSE),1E+99),"Check capacity",IF($K7>Assumptions!$L$8,"Check cost","Ready for review")))))))))
A8: ACT-004 | B8: 46276 | C8: Preschool 4 | D8: Story Sequence Card Circle | E8: 35 | F8: 8 | G8: 7 | H8: =IF($A8="","",IF(OR($E8="",$F8="",$G8=""),"",IFERROR(SUM($E8:$G8)/60,""))) | I8: Laminated picture cards | J8: 16 | K8: 9 | L8: Sunroom Studio | M8: Fictional Educator Sunbeam | N8: Planned | O8: 16 | P8: =IF($A8="","",IF(COUNTIF($A$5:$A$104,$A8)>1,"Check duplicate ID",IF(OR($B8="",$C8="",$D8="",$E8="",$F8="",$G8="",$L8="",$M8="",$N8="",$O8=""),"Check required fields",IF(OR(COUNTIF(Assumptions!$A$5:$A$10,$C8)=0,COUNTIF(Assumptions!$E$5:$E$9,$L8)=0,COUNTIF(Assumptions!$G$5:$G$9,$N8)=0,COUNTIF(Assumptions!$I$5:$I$9,$M8)=0),"Check list choice",IF($N8="Canceled","No review needed",IF(OR($B8<Assumptions!$L$5,$B8>Assumptions!$L$6),"Check date range",IF($E8>IFERROR(VLOOKUP($C8,Assumptions!$A$5:$C$10,2,FALSE),1E+99),"Check duration",IF($O8>IFERROR(VLOOKUP($C8,Assumptions!$A$5:$C$10,3,FALSE),1E+99),"Check capacity",IF($K8>Assumptions!$L$8,"Check cost","Ready for review")))))))))
A9: ACT-005 | B9: 46277 | C9: Pre-K | D9: Garden Measurement Walk | E9: 45 | F9: 15 | G9: 10 | H9: =IF($A9="","",IF(OR($E9="",$F9="",$G9=""),"",IFERROR(SUM($E9:$G9)/60,""))) | I9: Paper rulers and clipboards | J9: 18 | K9: 22 | L9: Courtyard Zone | M9: Fictional Educator Juniper | N9: Planned | O9: 18 | P9: =IF($A9="","",IF(COUNTIF($A$5:$A$104,$A9)>1,"Check duplicate ID",IF(OR($B9="",$C9="",$D9="",$E9="",$F9="",$G9="",$L9="",$M9="",$N9="",$O9=""),"Check required fields",IF(OR(COUNTIF(Assumptions!$A$5:$A$10,$C9)=0,COUNTIF(Assumptions!$E$5:$E$9,$L9)=0,COUNTIF(Assumptions!$G$5:$G$9,$N9)=0,COUNTIF(Assumptions!$I$5:$I$9,$M9)=0),"Check list choice",IF($N9="Canceled","No review needed",IF(OR($B9<Assumptions!$L$5,$B9>Assumptions!$L$6),"Check date range",IF($E9>IFERROR(VLOOKUP($C9,Assumptions!$A$5:$C$10,2,FALSE),1E+99),"Check duration",IF($O9>IFERROR(VLOOKUP($C9,Assumptions!$A$5:$C$10,3,FALSE),1E+99),"Check capacity",IF($K9>Assumptions!$L$8,"Check cost","Ready for review")))))))))
A10: ACT-006 | B10: 46278 | C10: Mixed Age | D10: Rhythm Ribbon Parade | E10: 25 | F10: 10 | G10: 10 | H10: =IF($A10="","",IF(OR($E10="",$F10="",$G10=""),"",IFERROR(SUM($E10:$G10)/60,""))) | I10: Ribbon rings | J10: 13 | K10: 16.25 | L10: Sunroom Studio | M10: Fictional Educator Maple | N10: Planned | O10: 13 | P10: =IF($A10="","",IF(COUNTIF($A$5:$A$104,$A10)>1,"Check duplicate ID",IF(OR($B10="",$C10="",$D10="",$E10="",$F10="",$G10="",$L10="",$M10="",$N10="",$O10=""),"Check required fields",IF(OR(COUNTIF(Assumptions!$A$5:$A$10,$C10)=0,COUNTIF(Assumptions!$E$5:$E$9,$L10)=0,COUNTIF(Assumptions!$G$5:$G$9,$N10)=0,COUNTIF(Assumptions!$I$5:$I$9,$M10)=0),"Check list choice",IF($N10="Canceled","No review needed",IF(OR($B10<Assumptions!$L$5,$B10>Assumptions!$L$6),"Check date range",IF($E10>IFERROR(VLOOKUP($C10,Assumptions!$A$5:$C$10,2,FALSE),1E+99),"Check duration",IF($O10>IFERROR(VLOOKUP($C10,Assumptions!$A$5:$C$10,3,FALSE),1E+99),"Check capacity",IF($K10>Assumptions!$L$8,"Check cost","Ready for review")))))))))
A11: ACT-007 | B11: 46279 | C11: Toddler | D11: Dry Texture Sorting Trays | E11: 18 | F11: 8 | G11: 8 | H11: =IF($A11="","",IF(OR($E11="",$F11="",$G11=""),"",IFERROR(SUM($E11:$G11)/60,""))) | I11: Texture squares and sorting trays | J11: 20 | K11: 14.4 | L11: Sprout Room | M11: Fictional Educator Comet | N11: Canceled | O11: 9 | P11: =IF($A11="","",IF(COUNTIF($A$5:$A$104,$A11)>1,"Check duplicate ID",IF(OR($B11="",$C11="",$D11="",$E11="",$F11="",$G11="",$L11="",$M11="",$N11="",$O11=""),"Check required fields",IF(OR(COUNTIF(Assumptions!$A$5:$A$10,$C11)=0,COUNTIF(Assumptions!$E$5:$E$9,$L11)=0,COUNTIF(Assumptions!$G$5:$G$9,$N11)=0,COUNTIF(Assumptions!$I$5:$I$9,$M11)=0),"Check list choice",IF($N11="Canceled","No review needed",IF(OR($B11<Assumptions!$L$5,$B11>Assumptions!$L$6),"Check date range",IF($E11>IFERROR(VLOOKUP($C11,Assumptions!$A$5:$C$10,2,FALSE),1E+99),"Check duration",IF($O11>IFERROR(VLOOKUP($C11,Assumptions!$A$5:$C$10,3,FALSE),1E+99),"Check capacity",IF($K11>Assumptions!$L$8,"Check cost","Ready for review")))))))))
A12: ACT-008 | B12: 46280 | C12: Preschool 3 | D12: Shadow Shape Match | E12: 30 | F12: 10 | G12: 5 | H12: =IF($A12="","",IF(OR($E12="",$F12="",$G12=""),"",IFERROR(SUM($E12:$G12)/60,""))) | I12: Paper shapes and flashlights | J12: 14 | K12: 11.6 | L12: Meadow Room | M12: Fictional Educator Pebble | N12: Ready | O12: 14 | P12: =IF($A12="","",IF(COUNTIF($A$5:$A$104,$A12)>1,"Check duplicate ID",IF(OR($B12="",$C12="",$D12="",$E12="",$F12="",$G12="",$L12="",$M12="",$N12="",$O12=""),"Check required fields",IF(OR(COUNTIF(Assumptions!$A$5:$A$10,$C12)=0,COUNTIF(Assumptions!$E$5:$E$9,$L12)=0,COUNTIF(Assumptions!$G$5:$G$9,$N12)=0,COUNTIF(Assumptions!$I$5:$I$9,$M12)=0),"Check list choice",IF($N12="Canceled","No review needed",IF(OR($B12<Assumptions!$L$5,$B12>Assumptions!$L$6),"Check date range",IF($E12>IFERROR(VLOOKUP($C12,Assumptions!$A$5:$C$10,2,FALSE),1E+99),"Check duration",IF($O12>IFERROR(VLOOKUP($C12,Assumptions!$A$5:$C$10,3,FALSE),1E+99),"Check capacity",IF($K12>Assumptions!$L$8,"Check cost","Ready for review")))))))))
A13: ACT-009 | B13: 46281 | C13: Preschool 4 | D13: Puppet Prompt Circle | E13: 28 | F13: 7 | G13: 0 | H13: =IF($A13="","",IF(OR($E13="",$F13="",$G13=""),"",IFERROR(SUM($E13:$G13)/60,""))) | I13: Hand puppets from classroom stock | J13: 8 | K13: 0 | L13: Sunroom Studio | M13: Fictional Educator Sunbeam | N13: Draft | O13: 15 | P13: =IF($A13="","",IF(COUNTIF($A$5:$A$104,$A13)>1,"Check duplicate ID",IF(OR($B13="",$C13="",$D13="",$E13="",$F13="",$G13="",$L13="",$M13="",$N13="",$O13=""),"Check required fields",IF(OR(COUNTIF(Assumptions!$A$5:$A$10,$C13)=0,COUNTIF(Assumptions!$E$5:$E$9,$L13)=0,COUNTIF(Assumptions!$G$5:$G$9,$N13)=0,COUNTIF(Assumptions!$I$5:$I$9,$M13)=0),"Check list choice",IF($N13="Canceled","No review needed",IF(OR($B13<Assumptions!$L$5,$B13>Assumptions!$L$6),"Check date range",IF($E13>IFERROR(VLOOKUP($C13,Assumptions!$A$5:$C$10,2,FALSE),1E+99),"Check duration",IF($O13>IFERROR(VLOOKUP($C13,Assumptions!$A$5:$C$10,3,FALSE),1E+99),"Check capacity",IF($K13>Assumptions!$L$8,"Check cost","Ready for review")))))))))
A14: ACT-010 | B14: 46282 | C14: Pre-K | D14: Collaborative Mural Panels | E14: 40 | F14: 15 | G14: 12 | H14: =IF($A14="","",IF(OR($E14="",$F14="",$G14=""),"",IFERROR(SUM($E14:$G14)/60,""))) | I14: Paper panels and washable markers | J14: 30 | K14: 65 | L14: Courtyard Zone | M14: Fictional Educator Juniper | N14: Planned | O14: 17 | P14: =IF($A14="","",IF(COUNTIF($A$5:$A$104,$A14)>1,"Check duplicate ID",IF(OR($B14="",$C14="",$D14="",$E14="",$F14="",$G14="",$L14="",$M14="",$N14="",$O14=""),"Check required fields",IF(OR(COUNTIF(Assumptions!$A$5:$A$10,$C14)=0,COUNTIF(Assumptions!$E$5:$E$9,$L14)=0,COUNTIF(Assumptions!$G$5:$G$9,$N14)=0,COUNTIF(Assumptions!$I$5:$I$9,$M14)=0),"Check list choice",IF($N14="Canceled","No review needed",IF(OR($B14<Assumptions!$L$5,$B14>Assumptions!$L$6),"Check date range",IF($E14>IFERROR(VLOOKUP($C14,Assumptions!$A$5:$C$10,2,FALSE),1E+99),"Check duration",IF($O14>IFERROR(VLOOKUP($C14,Assumptions!$A$5:$C$10,3,FALSE),1E+99),"Check capacity",IF($K14>Assumptions!$L$8,"Check cost","Ready for review")))))))))
H15: =IF($A15="","",IF(OR($E15="",$F15="",$G15=""),"",IFERROR(SUM($E15:$G15)/60,""))) | P15: =IF($A15="","",IF(COUNTIF($A$5:$A$104,$A15)>1,"Check duplicate ID",IF(OR($B15="",$C15="",$D15="",$E15="",$F15="",$G15="",$L15="",$M15="",$N15="",$O15=""),"Check required fields",IF(OR(COUNTIF(Assumptions!$A$5:$A$10,$C15)=0,COUNTIF(Assumptions!$E$5:$E$9,$L15)=0,COUNTIF(Assumptions!$G$5:$G$9,$N15)=0,COUNTIF(Assumptions!$I$5:$I$9,$M15)=0),"Check list choice",IF($N15="Canceled","No review needed",IF(OR($B15<Assumptions!$L$5,$B15>Assumptions!$L$6),"Check date range",IF($E15>IFERROR(VLOOKUP($C15,Assumptions!$A$5:$C$10,2,FALSE),1E+99),"Check duration",IF($O15>IFERROR(VLOOKUP($C15,Assumptions!$A$5:$C$10,3,FALSE),1E+99),"Check capacity",IF($K15>Assumptions!$L$8,"Check cost","Ready for review")))))))))
H16: =IF($A16="","",IF(OR($E16="",$F16="",$G16=""),"",IFERROR(SUM($E16:$G16)/60,""))) | P16: =IF($A16="","",IF(COUNTIF($A$5:$A$104,$A16)>1,"Check duplicate ID",IF(OR($B16="",$C16="",$D16="",$E16="",$F16="",$G16="",$L16="",$M16="",$N16="",$O16=""),"Check required fields",IF(OR(COUNTIF(Assumptions!$A$5:$A$10,$C16)=0,COUNTIF(Assumptions!$E$5:$E$9,$L16)=0,COUNTIF(Assumptions!$G$5:$G$9,$N16)=0,COUNTIF(Assumptions!$I$5:$I$9,$M16)=0),"Check list choice",IF($N16="Canceled","No review needed",IF(OR($B16<Assumptions!$L$5,$B16>Assumptions!$L$6),"Check date range",IF($E16>IFERROR(VLOOKUP($C16,Assumptions!$A$5:$C$10,2,FALSE),1E+99),"Check duration",IF($O16>IFERROR(VLOOKUP($C16,Assumptions!$A$5:$C$10,3,FALSE),1E+99),"Check capacity",IF($K16>Assumptions!$L$8,"Check cost","Ready for review")))))))))
H17: =IF($A17="","",IF(OR($E17="",$F17="",$G17=""),"",IFERROR(SUM($E17:$G17)/60,""))) | P17: =IF($A17="","",IF(COUNTIF($A$5:$A$104,$A17)>1,"Check duplicate ID",IF(OR($B17="",$C17="",$D17="",$E17="",$F17="",$G17="",$L17="",$M17="",$N17="",$O17=""),"Check required fields",IF(OR(COUNTIF(Assumptions!$A$5:$A$10,$C17)=0,COUNTIF(Assumptions!$E$5:$E$9,$L17)=0,COUNTIF(Assumptions!$G$5:$G$9,$N17)=0,COUNTIF(Assumptions!$I$5:$I$9,$M17)=0),"Check list choice",IF($N17="Canceled","No review needed",IF(OR($B17<Assumptions!$L$5,$B17>Assumptions!$L$6),"Check date range",IF($E17>IFERROR(VLOOKUP($C17,Assumptions!$A$5:$C$10,2,FALSE),1E+99),"Check duration",IF($O17>IFERROR(VLOOKUP($C17,Assumptions!$A$5:$C$10,3,FALSE),1E+99),"Check capacity",IF($K17>Assumptions!$L$8,"Check cost","Ready for review")))))))))
H18: =IF($A18="","",IF(OR($E18="",$F18="",$G18=""),"",IFERROR(SUM($E18:$G18)/60,""))) | P18: =IF($A18="","",IF(COUNTIF($A$5:$A$104,$A18)>1,"Check duplicate ID",IF(OR($B18="",$C18="",$D18="",$E18="",$F18="",$G18="",$L18="",$M18="",$N18="",$O18=""),"Check required fields",IF(OR(COUNTIF(Assumptions!$A$5:$A$10,$C18)=0,COUNTIF(Assumptions!$E$5:$E$9,$L18)=0,COUNTIF(Assumptions!$G$5:$G$9,$N18)=0,COUNTIF(Assumptions!$I$5:$I$9,$M18)=0),"Check list choice",IF($N18="Canceled","No review needed",IF(OR($B18<Assumptions!$L$5,$B18>Assumptions!$L$6),"Check date range",IF($E18>IFERROR(VLOOKUP($C18,Assumptions!$A$5:$C$10,2,FALSE),1E+99),"Check duration",IF($O18>IFERROR(VLOOKUP($C18,Assumptions!$A$5:$C$10,3,FALSE),1E+99),"Check capacity",IF($K18>Assumptions!$L$8,"Check cost","Ready for review")))))))))
H19: =IF($A19="","",IF(OR($E19="",$F19="",$G19=""),"",IFERROR(SUM($E19:$G19)/60,""))) | P19: =IF($A19="","",IF(COUNTIF($A$5:$A$104,$A19)>1,"Check duplicate ID",IF(OR($B19="",$C19="",$D19="",$E19="",$F19="",$G19="",$L19="",$M19="",$N19="",$O19=""),"Check required fields",IF(OR(COUNTIF(Assumptions!$A$5:$A$10,$C19)=0,COUNTIF(Assumptions!$E$5:$E$9,$L19)=0,COUNTIF(Assumptions!$G$5:$G$9,$N19)=0,COUNTIF(Assumptions!$I$5:$I$9,$M19)=0),"Check list choice",IF($N19="Canceled","No review needed",IF(OR($B19<Assumptions!$L$5,$B19>Assumptions!$L$6),"Check date range",IF($E19>IFERROR(VLOOKUP($C19,Assumptions!$A$5:$C$10,2,FALSE),1E+99),"Check duration",IF($O19>IFERROR(VLOOKUP($C19,Assumptions!$A$5:$C$10,3,FALSE),1E+99),"Check capacity",IF($K19>Assumptions!$L$8,"Check cost","Ready for review")))))))))
H20: =IF($A20="","",IF(OR($E20="",$F20="",$G20=""),"",IFERROR(SUM($E20:$G20)/60,""))) | P20: =IF($A20="","",IF(COUNTIF($A$5:$A$104,$A20)>1,"Check duplicate ID",IF(OR($B20="",$C20="",$D20="",$E20="",$F20="",$G20="",$L20="",$M20="",$N20="",$O20=""),"Check required fields",IF(OR(COUNTIF(Assumptions!$A$5:$A$10,$C20)=0,COUNTIF(Assumptions!$E$5:$E$9,$L20)=0,COUNTIF(Assumptions!$G$5:$G$9,$N20)=0,COUNTIF(Assumptions!$I$5:$I$9,$M20)=0),"Check list choice",IF($N20="Canceled","No review needed",IF(OR($B20<Assumptions!$L$5,$B20>Assumptions!$L$6),"Check date range",IF($E20>IFERROR(VLOOKUP($C20,Assumptions!$A$5:$C$10,2,FALSE),1E+99),"Check duration",IF($O20>IFERROR(VLOOKUP($C20,Assumptions!$A$5:$C$10,3,FALSE),1E+99),"Check capacity",IF($K20>Assumptions!$L$8,"Check cost","Ready for review")))))))))
H21: =IF($A21="","",IF(OR($E21="",$F21="",$G21=""),"",IFERROR(SUM($E21:$G21)/60,""))) | P21: =IF($A21="","",IF(COUNTIF($A$5:$A$104,$A21)>1,"Check duplicate ID",IF(OR($B21="",$C21="",$D21="",$E21="",$F21="",$G21="",$L21="",$M21="",$N21="",$O21=""),"Check required fields",IF(OR(COUNTIF(Assumptions!$A$5:$A$10,$C21)=0,COUNTIF(Assumptions!$E$5:$E$9,$L21)=0,COUNTIF(Assumptions!$G$5:$G$9,$N21)=0,COUNTIF(Assumptions!$I$5:$I$9,$M21)=0),"Check list choice",IF($N21="Canceled","No review needed",IF(OR($B21<Assumptions!$L$5,$B21>Assumptions!$L$6),"Check date range",IF($E21>IFERROR(VLOOKUP($C21,Assumptions!$A$5:$C$10,2,FALSE),1E+99),"Check duration",IF($O21>IFERROR(VLOOKUP($C21,Assumptions!$A$5:$C$10,3,FALSE),1E+99),"Check capacity",IF($K21>Assumptions!$L$8,"Check cost","Ready for review")))))))))
H22: =IF($A22="","",IF(OR($E22="",$F22="",$G22=""),"",IFERROR(SUM($E22:$G22)/60,""))) | P22: =IF($A22="","",IF(COUNTIF($A$5:$A$104,$A22)>1,"Check duplicate ID",IF(OR($B22="",$C22="",$D22="",$E22="",$F22="",$G22="",$L22="",$M22="",$N22="",$O22=""),"Check required fields",IF(OR(COUNTIF(Assumptions!$A$5:$A$10,$C22)=0,COUNTIF(Assumptions!$E$5:$E$9,$L22)=0,COUNTIF(Assumptions!$G$5:$G$9,$N22)=0,COUNTIF(Assumptions!$I$5:$I$9,$M22)=0),"Check list choice",IF($N22="Canceled","No review needed",IF(OR($B22<Assumptions!$L$5,$B22>Assumptions!$L$6),"Check date range",IF($E22>IFERROR(VLOOKUP($C22,Assumptions!$A$5:$C$10,2,FALSE),1E+99),"Check duration",IF($O22>IFERROR(VLOOKUP($C22,Assumptions!$A$5:$C$10,3,FALSE),1E+99),"Check capacity",IF($K22>Assumptions!$L$8,"Check cost","Ready for review")))))))))
H23: =IF($A23="","",IF(OR($E23="",$F23="",$G23=""),"",IFERROR(SUM($E23:$G23)/60,""))) | P23: =IF($A23="","",IF(COUNTIF($A$5:$A$104,$A23)>1,"Check duplicate ID",IF(OR($B23="",$C23="",$D23="",$E23="",$F23="",$G23="",$L23="",$M23="",$N23="",$O23=""),"Check required fields",IF(OR(COUNTIF(Assumptions!$A$5:$A$10,$C23)=0,COUNTIF(Assumptions!$E$5:$E$9,$L23)=0,COUNTIF(Assumptions!$G$5:$G$9,$N23)=0,COUNTIF(Assumptions!$I$5:$I$9,$M23)=0),"Check list choice",IF($N23="Canceled","No review needed",IF(OR($B23<Assumptions!$L$5,$B23>Assumptions!$L$6),"Check date range",IF($E23>IFERROR(VLOOKUP($C23,Assumptions!$A$5:$C$10,2,FALSE),1E+99),"Check duration",IF($O23>IFERROR(VLOOKUP($C23,Assumptions!$A$5:$C$10,3,FALSE),1E+99),"Check capacity",IF($K23>Assumptions!$L$8,"Check cost","Ready for review")))))))))
H24: =IF($A24="","",IF(OR($E24="",$F24="",$G24=""),"",IFERROR(SUM($E24:$G24)/60,""))) | P24: =IF($A24="","",IF(COUNTIF($A$5:$A$104,$A24)>1,"Check duplicate ID",IF(OR($B24="",$C24="",$D24="",$E24="",$F24="",$G24="",$L24="",$M24="",$N24="",$O24=""),"Check required fields",IF(OR(COUNTIF(Assumptions!$A$5:$A$10,$C24)=0,COUNTIF(Assumptions!$E$5:$E$9,$L24)=0,COUNTIF(Assumptions!$G$5:$G$9,$N24)=0,COUNTIF(Assumptions!$I$5:$I$9,$M24)=0),"Check list choice",IF($N24="Canceled","No review needed",IF(OR($B24<Assumptions!$L$5,$B24>Assumptions!$L$6),"Check date range",IF($E24>IFERROR(VLOOKUP($C24,Assumptions!$A$5:$C$10,2,FALSE),1E+99),"Check duration",IF($O24>IFERROR(VLOOKUP($C24,Assumptions!$A$5:$C$10,3,FALSE),1E+99),"Check capacity",IF($K24>Assumptions!$L$8,"Check cost","Ready for review")))))))))
H25: =IF($A25="","",IF(OR($E25="",$F25="",$G25=""),"",IFERROR(SUM($E25:$G25)/60,""))) | P25: =IF($A25="","",IF(COUNTIF($A$5:$A$104,$A25)>1,"Check duplicate ID",IF(OR($B25="",$C25="",$D25="",$E25="",$F25="",$G25="",$L25="",$M25="",$N25="",$O25=""),"Check required fields",IF(OR(COUNTIF(Assumptions!$A$5:$A$10,$C25)=0,COUNTIF(Assumptions!$E$5:$E$9,$L25)=0,COUNTIF(Assumptions!$G$5:$G$9,$N25)=0,COUNTIF(Assumptions!$I$5:$I$9,$M25)=0),"Check list choice",IF($N25="Canceled","No review needed",IF(OR($B25<Assumptions!$L$5,$B25>Assumptions!$L$6),"Check date range",IF($E25>IFERROR(VLOOKUP($C25,Assumptions!$A$5:$C$10,2,FALSE),1E+99),"Check duration",IF($O25>IFERROR(VLOOKUP($C25,Assumptions!$A$5:$C$10,3,FALSE),1E+99),"Check capacity",IF($K25>Assumptions!$L$8,"Check cost","Ready for review")))))))))
H26: =IF($A26="","",IF(OR($E26="",$F26="",$G26=""),"",IFERROR(SUM($E26:$G26)/60,""))) | P26: =IF($A26="","",IF(COUNTIF($A$5:$A$104,$A26)>1,"Check duplicate ID",IF(OR($B26="",$C26="",$D26="",$E26="",$F26="",$G26="",$L26="",$M26="",$N26="",$O26=""),"Check required fields",IF(OR(COUNTIF(Assumptions!$A$5:$A$10,$C26)=0,COUNTIF(Assumptions!$E$5:$E$9,$L26)=0,COUNTIF(Assumptions!$G$5:$G$9,$N26)=0,COUNTIF(Assumptions!$I$5:$I$9,$M26)=0),"Check list choice",IF($N26="Canceled","No review needed",IF(OR($B26<Assumptions!$L$5,$B26>Assumptions!$L$6),"Check date range",IF($E26>IFERROR(VLOOKUP($C26,Assumptions!$A$5:$C$10,2,FALSE),1E+99),"Check duration",IF($O26>IFERROR(VLOOKUP($C26,Assumptions!$A$5:$C$10,3,FALSE),1E+99),"Check capacity",IF($K26>Assumptions!$L$8,"Check cost","Ready for review")))))))))
... H104: =IF($A104="","",IF(OR($E104="",$F104="",$G104=""),"",IFERROR(SUM($E104:$G104)/60,""))) | P104: =IF($A104="","",IF(COUNTIF($A$5:$A$104,$A104)>1,"Check duplicate ID",IF(OR($B104="",$C104="",$D104="",$E104="",$F104="",$G104="",$L104="",$M104="",$N104="",$O104=""),"Check required fields",IF(OR(COUNTIF(Assumptions!$A$5:$A$10,$C104)=0,COUNTIF(Assumptions!$E$5:$E$9,$L104)=0,COUNTIF(Assumptions!$G$5:$G$9,$N104)=0,COUNTIF(Assumptions!$I$5:$I$9,$M104)=0),"Check list choice",IF($N104="Canceled","No review needed",IF(OR($B104<Assumptions!$L$5,$B104>Assumptions!$L$6),"Check date range",IF($E104>IFERROR(VLOOKUP($C104,Assumptions!$A$5:$C$10,2,FALSE),1E+99),"Check duration",IF($O104>IFERROR(VLOOKUP($C104,Assumptions!$A$5:$C$10,3,FALSE),1E+99),"Check capacity",IF($K104>Assumptions!$L$8,"Check cost","Ready for review")))))))))

Sheet Assumptions
A1: Activity Planner Assumptions
A2: Yellow cells are editable. These are fictional local planning prompts, not regulatory limits, staffing determinations, or official capacities.
A4: Age Group | B4: Suggested Max Activity Minutes | C4: Child-Spot Review Level | E4: Room | G4: Status | I4: Lead Assignment | K4: Setting | L4: Editable Value
A5: Infant | B5: 15 | C5: 8 | E5: Nest Room | G5: Draft | I5: Fictional Educator Maple | K5: Earliest Plan Date | L5: 46245
A6: Toddler | B6: 20 | C6: 10 | E6: Sprout Room | G6: Planned | I6: Fictional Educator Comet | K6: Latest Plan Date | L6: 46640
A7: Preschool 3 | B7: 30 | C7: 14 | E7: Meadow Room | G7: Ready | I7: Fictional Educator Pebble | K7: Maximum Minutes Per Entry | L7: 240
A8: Preschool 4 | B8: 35 | C8: 16 | E8: Sunroom Studio | G8: Completed | I8: Fictional Educator Sunbeam | K8: Cost Review Level | L8: 50
A9: Pre-K | B9: 40 | C9: 18 | E9: Courtyard Zone | G9: Canceled | I9: Fictional Educator Juniper | K9: Maximum Planned Children Entry | L9: 40
A10: Mixed Age | B10: 30 | C10: 12 | K10: Maximum Estimated Cost Entry | L10: 500
K11: Maximum Material Quantity Entry | L11: 500
