Workbook

Sheet Summary
A1: Daycare Attendance Summary
A2: Daily indicators are calculated from the Attendance sheet. All DEMO identifiers and room names are fictional examples. | P2: =Assumptions!$G$5
A3: Report date | B3: 46274 | P3: =Assumptions!$G$6
A5: Daily indicator | B5: Calculated value
A6: Recorded attendance rows | B6: =COUNTIFS(Attendance!$B$6:$B$105,$B$3,Attendance!$A$6:$A$105,"<>")
A7: Present | B7: =COUNTIFS(Attendance!$B$6:$B$105,$B$3,Attendance!$E$6:$E$105,Assumptions!$D$5)
A8: Absent | B8: =COUNTIFS(Attendance!$B$6:$B$105,$B$3,Attendance!$E$6:$E$105,Assumptions!$D$6)
A9: Excused | B9: =COUNTIFS(Attendance!$B$6:$B$105,$B$3,Attendance!$E$6:$E$105,Assumptions!$D$7)
A10: Attendance rate | B10: =IFERROR($B$7/SUM($B$7:$B$9),"")
A11: Recorded hours | B11: =IF($B$6=0,"",SUMIFS(Attendance!$H$6:$H$105,Attendance!$B$6:$B$105,$B$3))
A12: Review flags | B12: =COUNTIFS(Attendance!$B$6:$B$105,$B$3,Attendance!$I$6:$I$105,"<>OK",Attendance!$I$6:$I$105,"<>")
A14: Room breakdown
A15: Room | B15: Planning capacity | C15: Present | D15: Absent | E15: Excused | F15: Records | G15: Attendance rate | H15: Capacity review
A16: =IF(Assumptions!$A$5="","",Assumptions!$A$5) | B16: =IF($A16="","",IFERROR(VLOOKUP($A16,Assumptions!$A$5:$B$10,2,FALSE),"")) | C16: =IF($A16="","",COUNTIFS(Attendance!$B$6:$B$105,$B$3,Attendance!$D$6:$D$105,$A16,Attendance!$E$6:$E$105,Assumptions!$D$5)) | D16: =IF($A16="","",COUNTIFS(Attendance!$B$6:$B$105,$B$3,Attendance!$D$6:$D$105,$A16,Attendance!$E$6:$E$105,Assumptions!$D$6)) | E16: =IF($A16="","",COUNTIFS(Attendance!$B$6:$B$105,$B$3,Attendance!$D$6:$D$105,$A16,Attendance!$E$6:$E$105,Assumptions!$D$7)) | F16: =IF($A16="","",SUM($C16:$E16)) | G16: =IF($A16="","",IFERROR($C16/$F16,"")) | H16: =IF($A16="","",IF($B16="","No limit entered",IF($C16>$B16,"Check capacity","Within limit")))
A17: =IF(Assumptions!$A$6="","",Assumptions!$A$6) | B17: =IF($A17="","",IFERROR(VLOOKUP($A17,Assumptions!$A$5:$B$10,2,FALSE),"")) | C17: =IF($A17="","",COUNTIFS(Attendance!$B$6:$B$105,$B$3,Attendance!$D$6:$D$105,$A17,Attendance!$E$6:$E$105,Assumptions!$D$5)) | D17: =IF($A17="","",COUNTIFS(Attendance!$B$6:$B$105,$B$3,Attendance!$D$6:$D$105,$A17,Attendance!$E$6:$E$105,Assumptions!$D$6)) | E17: =IF($A17="","",COUNTIFS(Attendance!$B$6:$B$105,$B$3,Attendance!$D$6:$D$105,$A17,Attendance!$E$6:$E$105,Assumptions!$D$7)) | F17: =IF($A17="","",SUM($C17:$E17)) | G17: =IF($A17="","",IFERROR($C17/$F17,"")) | H17: =IF($A17="","",IF($B17="","No limit entered",IF($C17>$B17,"Check capacity","Within limit")))
A18: =IF(Assumptions!$A$7="","",Assumptions!$A$7) | B18: =IF($A18="","",IFERROR(VLOOKUP($A18,Assumptions!$A$5:$B$10,2,FALSE),"")) | C18: =IF($A18="","",COUNTIFS(Attendance!$B$6:$B$105,$B$3,Attendance!$D$6:$D$105,$A18,Attendance!$E$6:$E$105,Assumptions!$D$5)) | D18: =IF($A18="","",COUNTIFS(Attendance!$B$6:$B$105,$B$3,Attendance!$D$6:$D$105,$A18,Attendance!$E$6:$E$105,Assumptions!$D$6)) | E18: =IF($A18="","",COUNTIFS(Attendance!$B$6:$B$105,$B$3,Attendance!$D$6:$D$105,$A18,Attendance!$E$6:$E$105,Assumptions!$D$7)) | F18: =IF($A18="","",SUM($C18:$E18)) | G18: =IF($A18="","",IFERROR($C18/$F18,"")) | H18: =IF($A18="","",IF($B18="","No limit entered",IF($C18>$B18,"Check capacity","Within limit")))
A19: =IF(Assumptions!$A$8="","",Assumptions!$A$8) | B19: =IF($A19="","",IFERROR(VLOOKUP($A19,Assumptions!$A$5:$B$10,2,FALSE),"")) | C19: =IF($A19="","",COUNTIFS(Attendance!$B$6:$B$105,$B$3,Attendance!$D$6:$D$105,$A19,Attendance!$E$6:$E$105,Assumptions!$D$5)) | D19: =IF($A19="","",COUNTIFS(Attendance!$B$6:$B$105,$B$3,Attendance!$D$6:$D$105,$A19,Attendance!$E$6:$E$105,Assumptions!$D$6)) | E19: =IF($A19="","",COUNTIFS(Attendance!$B$6:$B$105,$B$3,Attendance!$D$6:$D$105,$A19,Attendance!$E$6:$E$105,Assumptions!$D$7)) | F19: =IF($A19="","",SUM($C19:$E19)) | G19: =IF($A19="","",IFERROR($C19/$F19,"")) | H19: =IF($A19="","",IF($B19="","No limit entered",IF($C19>$B19,"Check capacity","Within limit")))
A20: =IF(Assumptions!$A$9="","",Assumptions!$A$9) | B20: =IF($A20="","",IFERROR(VLOOKUP($A20,Assumptions!$A$5:$B$10,2,FALSE),"")) | C20: =IF($A20="","",COUNTIFS(Attendance!$B$6:$B$105,$B$3,Attendance!$D$6:$D$105,$A20,Attendance!$E$6:$E$105,Assumptions!$D$5)) | D20: =IF($A20="","",COUNTIFS(Attendance!$B$6:$B$105,$B$3,Attendance!$D$6:$D$105,$A20,Attendance!$E$6:$E$105,Assumptions!$D$6)) | E20: =IF($A20="","",COUNTIFS(Attendance!$B$6:$B$105,$B$3,Attendance!$D$6:$D$105,$A20,Attendance!$E$6:$E$105,Assumptions!$D$7)) | F20: =IF($A20="","",SUM($C20:$E20)) | G20: =IF($A20="","",IFERROR($C20/$F20,"")) | H20: =IF($A20="","",IF($B20="","No limit entered",IF($C20>$B20,"Check capacity","Within limit")))
A21: =IF(Assumptions!$A$10="","",Assumptions!$A$10) | B21: =IF($A21="","",IFERROR(VLOOKUP($A21,Assumptions!$A$5:$B$10,2,FALSE),"")) | C21: =IF($A21="","",COUNTIFS(Attendance!$B$6:$B$105,$B$3,Attendance!$D$6:$D$105,$A21,Attendance!$E$6:$E$105,Assumptions!$D$5)) | D21: =IF($A21="","",COUNTIFS(Attendance!$B$6:$B$105,$B$3,Attendance!$D$6:$D$105,$A21,Attendance!$E$6:$E$105,Assumptions!$D$6)) | E21: =IF($A21="","",COUNTIFS(Attendance!$B$6:$B$105,$B$3,Attendance!$D$6:$D$105,$A21,Attendance!$E$6:$E$105,Assumptions!$D$7)) | F21: =IF($A21="","",SUM($C21:$E21)) | G21: =IF($A21="","",IFERROR($C21/$F21,"")) | H21: =IF($A21="","",IF($B21="","No limit entered",IF($C21>$B21,"Check capacity","Within limit")))

Sheet Attendance
A1: Daycare Attendance Sheet
A2: Use one row per child and date. All DEMO child IDs, attendance IDs, and room names are fictional examples.
A3: Enter or choose yellow cells. Hours and review prompts calculate from entered data.
A5: Attendance ID | B5: Date | C5: Child ID | D5: Classroom | E5: Attendance status | F5: Check-In | G5: Check-Out | H5: Hours | I5: Review | M5: =Assumptions!$A$5 | N5: =Assumptions!$D$5
A6: DEMO-ATT-001 | B6: 46274 | C6: DEMO-C001 | D6: Sprout Room | E6: Present | F6: 0.3125 | G6: 0.64583333 | H6: =IF(COUNTA($A6:$G6)=0,"",IF(OR($E6<>Assumptions!$D$5,$F6="",$G6=""),"",IFERROR(IF($G6>=$F6,($G6-$F6)*24,""),""))) | I6: =IF(COUNTA($A6:$G6)=0,"",IF(OR($A6="",$B6="",$C6="",$D6="",$E6=""),"Check required fields",IF(OR($B6<Assumptions!$G$5,$B6>Assumptions!$G$6),"Check date range",IF(COUNTIF(Assumptions!$A$5:$A$10,$D6)=0,"Check classroom",IF(COUNTIF(Assumptions!$D$5:$D$7,$E6)=0,"Check attendance status",IF(COUNTIF($A$6:$A$105,$A6)>1,"Duplicate record ID",IF(AND($E6=Assumptions!$D$5,OR($F6="",$G6="")),"Check present times",IF(AND($E6<>Assumptions!$D$5,OR($F6<>"",$G6<>"")),"Check status and times",IF(AND($F6<>"",$G6<>"",$G6<$F6),"Check time order","OK"))))))))) | M6: =Assumptions!$A$6 | N6: =Assumptions!$D$6
A7: DEMO-ATT-002 | B7: 46274 | C7: DEMO-C002 | D7: Sprout Room | E7: Present | F7: 0.33333333 | G7: 0.66666667 | H7: =IF(COUNTA($A7:$G7)=0,"",IF(OR($E7<>Assumptions!$D$5,$F7="",$G7=""),"",IFERROR(IF($G7>=$F7,($G7-$F7)*24,""),""))) | I7: =IF(COUNTA($A7:$G7)=0,"",IF(OR($A7="",$B7="",$C7="",$D7="",$E7=""),"Check required fields",IF(OR($B7<Assumptions!$G$5,$B7>Assumptions!$G$6),"Check date range",IF(COUNTIF(Assumptions!$A$5:$A$10,$D7)=0,"Check classroom",IF(COUNTIF(Assumptions!$D$5:$D$7,$E7)=0,"Check attendance status",IF(COUNTIF($A$6:$A$105,$A7)>1,"Duplicate record ID",IF(AND($E7=Assumptions!$D$5,OR($F7="",$G7="")),"Check present times",IF(AND($E7<>Assumptions!$D$5,OR($F7<>"",$G7<>"")),"Check status and times",IF(AND($F7<>"",$G7<>"",$G7<$F7),"Check time order","OK"))))))))) | M7: =Assumptions!$A$7 | N7: =Assumptions!$D$7
A8: DEMO-ATT-003 | B8: 46274 | C8: DEMO-C003 | D8: Sprout Room | E8: Absent | H8: =IF(COUNTA($A8:$G8)=0,"",IF(OR($E8<>Assumptions!$D$5,$F8="",$G8=""),"",IFERROR(IF($G8>=$F8,($G8-$F8)*24,""),""))) | I8: =IF(COUNTA($A8:$G8)=0,"",IF(OR($A8="",$B8="",$C8="",$D8="",$E8=""),"Check required fields",IF(OR($B8<Assumptions!$G$5,$B8>Assumptions!$G$6),"Check date range",IF(COUNTIF(Assumptions!$A$5:$A$10,$D8)=0,"Check classroom",IF(COUNTIF(Assumptions!$D$5:$D$7,$E8)=0,"Check attendance status",IF(COUNTIF($A$6:$A$105,$A8)>1,"Duplicate record ID",IF(AND($E8=Assumptions!$D$5,OR($F8="",$G8="")),"Check present times",IF(AND($E8<>Assumptions!$D$5,OR($F8<>"",$G8<>"")),"Check status and times",IF(AND($F8<>"",$G8<>"",$G8<$F8),"Check time order","OK"))))))))) | M8: =Assumptions!$A$8
A9: DEMO-ATT-004 | B9: 46274 | C9: DEMO-C004 | D9: Sunbeam Room | E9: Present | F9: 0.34375 | G9: 0.65625 | H9: =IF(COUNTA($A9:$G9)=0,"",IF(OR($E9<>Assumptions!$D$5,$F9="",$G9=""),"",IFERROR(IF($G9>=$F9,($G9-$F9)*24,""),""))) | I9: =IF(COUNTA($A9:$G9)=0,"",IF(OR($A9="",$B9="",$C9="",$D9="",$E9=""),"Check required fields",IF(OR($B9<Assumptions!$G$5,$B9>Assumptions!$G$6),"Check date range",IF(COUNTIF(Assumptions!$A$5:$A$10,$D9)=0,"Check classroom",IF(COUNTIF(Assumptions!$D$5:$D$7,$E9)=0,"Check attendance status",IF(COUNTIF($A$6:$A$105,$A9)>1,"Duplicate record ID",IF(AND($E9=Assumptions!$D$5,OR($F9="",$G9="")),"Check present times",IF(AND($E9<>Assumptions!$D$5,OR($F9<>"",$G9<>"")),"Check status and times",IF(AND($F9<>"",$G9<>"",$G9<$F9),"Check time order","OK"))))))))) | M9: =Assumptions!$A$9
A10: DEMO-ATT-005 | B10: 46274 | C10: DEMO-C005 | D10: Sunbeam Room | E10: Excused | H10: =IF(COUNTA($A10:$G10)=0,"",IF(OR($E10<>Assumptions!$D$5,$F10="",$G10=""),"",IFERROR(IF($G10>=$F10,($G10-$F10)*24,""),""))) | I10: =IF(COUNTA($A10:$G10)=0,"",IF(OR($A10="",$B10="",$C10="",$D10="",$E10=""),"Check required fields",IF(OR($B10<Assumptions!$G$5,$B10>Assumptions!$G$6),"Check date range",IF(COUNTIF(Assumptions!$A$5:$A$10,$D10)=0,"Check classroom",IF(COUNTIF(Assumptions!$D$5:$D$7,$E10)=0,"Check attendance status",IF(COUNTIF($A$6:$A$105,$A10)>1,"Duplicate record ID",IF(AND($E10=Assumptions!$D$5,OR($F10="",$G10="")),"Check present times",IF(AND($E10<>Assumptions!$D$5,OR($F10<>"",$G10<>"")),"Check status and times",IF(AND($F10<>"",$G10<>"",$G10<$F10),"Check time order","OK"))))))))) | M10: =Assumptions!$A$10
A11: DEMO-ATT-006 | B11: 46274 | C11: DEMO-C006 | D11: Harbor Room | E11: Present | F11: 0.32291667 | G11: 0.61458333 | H11: =IF(COUNTA($A11:$G11)=0,"",IF(OR($E11<>Assumptions!$D$5,$F11="",$G11=""),"",IFERROR(IF($G11>=$F11,($G11-$F11)*24,""),""))) | I11: =IF(COUNTA($A11:$G11)=0,"",IF(OR($A11="",$B11="",$C11="",$D11="",$E11=""),"Check required fields",IF(OR($B11<Assumptions!$G$5,$B11>Assumptions!$G$6),"Check date range",IF(COUNTIF(Assumptions!$A$5:$A$10,$D11)=0,"Check classroom",IF(COUNTIF(Assumptions!$D$5:$D$7,$E11)=0,"Check attendance status",IF(COUNTIF($A$6:$A$105,$A11)>1,"Duplicate record ID",IF(AND($E11=Assumptions!$D$5,OR($F11="",$G11="")),"Check present times",IF(AND($E11<>Assumptions!$D$5,OR($F11<>"",$G11<>"")),"Check status and times",IF(AND($F11<>"",$G11<>"",$G11<$F11),"Check time order","OK")))))))))
A12: DEMO-ATT-007 | B12: 46274 | C12: DEMO-C007 | D12: Harbor Room | E12: Present | F12: 0.33333333 | G12: 0.6875 | H12: =IF(COUNTA($A12:$G12)=0,"",IF(OR($E12<>Assumptions!$D$5,$F12="",$G12=""),"",IFERROR(IF($G12>=$F12,($G12-$F12)*24,""),""))) | I12: =IF(COUNTA($A12:$G12)=0,"",IF(OR($A12="",$B12="",$C12="",$D12="",$E12=""),"Check required fields",IF(OR($B12<Assumptions!$G$5,$B12>Assumptions!$G$6),"Check date range",IF(COUNTIF(Assumptions!$A$5:$A$10,$D12)=0,"Check classroom",IF(COUNTIF(Assumptions!$D$5:$D$7,$E12)=0,"Check attendance status",IF(COUNTIF($A$6:$A$105,$A12)>1,"Duplicate record ID",IF(AND($E12=Assumptions!$D$5,OR($F12="",$G12="")),"Check present times",IF(AND($E12<>Assumptions!$D$5,OR($F12<>"",$G12<>"")),"Check status and times",IF(AND($F12<>"",$G12<>"",$G12<$F12),"Check time order","OK"))))))))) | M12: =Assumptions!$G$5
A13: DEMO-ATT-008 | B13: 46274 | C13: DEMO-C008 | D13: Meadow Room | E13: Absent | H13: =IF(COUNTA($A13:$G13)=0,"",IF(OR($E13<>Assumptions!$D$5,$F13="",$G13=""),"",IFERROR(IF($G13>=$F13,($G13-$F13)*24,""),""))) | I13: =IF(COUNTA($A13:$G13)=0,"",IF(OR($A13="",$B13="",$C13="",$D13="",$E13=""),"Check required fields",IF(OR($B13<Assumptions!$G$5,$B13>Assumptions!$G$6),"Check date range",IF(COUNTIF(Assumptions!$A$5:$A$10,$D13)=0,"Check classroom",IF(COUNTIF(Assumptions!$D$5:$D$7,$E13)=0,"Check attendance status",IF(COUNTIF($A$6:$A$105,$A13)>1,"Duplicate record ID",IF(AND($E13=Assumptions!$D$5,OR($F13="",$G13="")),"Check present times",IF(AND($E13<>Assumptions!$D$5,OR($F13<>"",$G13<>"")),"Check status and times",IF(AND($F13<>"",$G13<>"",$G13<$F13),"Check time order","OK"))))))))) | M13: =Assumptions!$G$6
A14: DEMO-ATT-009 | B14: 46274 | C14: DEMO-C009 | D14: Orchard Room | E14: Present | F14: 0.35416667 | H14: =IF(COUNTA($A14:$G14)=0,"",IF(OR($E14<>Assumptions!$D$5,$F14="",$G14=""),"",IFERROR(IF($G14>=$F14,($G14-$F14)*24,""),""))) | I14: =IF(COUNTA($A14:$G14)=0,"",IF(OR($A14="",$B14="",$C14="",$D14="",$E14=""),"Check required fields",IF(OR($B14<Assumptions!$G$5,$B14>Assumptions!$G$6),"Check date range",IF(COUNTIF(Assumptions!$A$5:$A$10,$D14)=0,"Check classroom",IF(COUNTIF(Assumptions!$D$5:$D$7,$E14)=0,"Check attendance status",IF(COUNTIF($A$6:$A$105,$A14)>1,"Duplicate record ID",IF(AND($E14=Assumptions!$D$5,OR($F14="",$G14="")),"Check present times",IF(AND($E14<>Assumptions!$D$5,OR($F14<>"",$G14<>"")),"Check status and times",IF(AND($F14<>"",$G14<>"",$G14<$F14),"Check time order","OK")))))))))
A15: DEMO-ATT-010 | B15: 46274 | C15: DEMO-C010 | D15: Lantern Room | E15: Excused | H15: =IF(COUNTA($A15:$G15)=0,"",IF(OR($E15<>Assumptions!$D$5,$F15="",$G15=""),"",IFERROR(IF($G15>=$F15,($G15-$F15)*24,""),""))) | I15: =IF(COUNTA($A15:$G15)=0,"",IF(OR($A15="",$B15="",$C15="",$D15="",$E15=""),"Check required fields",IF(OR($B15<Assumptions!$G$5,$B15>Assumptions!$G$6),"Check date range",IF(COUNTIF(Assumptions!$A$5:$A$10,$D15)=0,"Check classroom",IF(COUNTIF(Assumptions!$D$5:$D$7,$E15)=0,"Check attendance status",IF(COUNTIF($A$6:$A$105,$A15)>1,"Duplicate record ID",IF(AND($E15=Assumptions!$D$5,OR($F15="",$G15="")),"Check present times",IF(AND($E15<>Assumptions!$D$5,OR($F15<>"",$G15<>"")),"Check status and times",IF(AND($F15<>"",$G15<>"",$G15<$F15),"Check time order","OK")))))))))
H16: =IF(COUNTA($A16:$G16)=0,"",IF(OR($E16<>Assumptions!$D$5,$F16="",$G16=""),"",IFERROR(IF($G16>=$F16,($G16-$F16)*24,""),""))) | I16: =IF(COUNTA($A16:$G16)=0,"",IF(OR($A16="",$B16="",$C16="",$D16="",$E16=""),"Check required fields",IF(OR($B16<Assumptions!$G$5,$B16>Assumptions!$G$6),"Check date range",IF(COUNTIF(Assumptions!$A$5:$A$10,$D16)=0,"Check classroom",IF(COUNTIF(Assumptions!$D$5:$D$7,$E16)=0,"Check attendance status",IF(COUNTIF($A$6:$A$105,$A16)>1,"Duplicate record ID",IF(AND($E16=Assumptions!$D$5,OR($F16="",$G16="")),"Check present times",IF(AND($E16<>Assumptions!$D$5,OR($F16<>"",$G16<>"")),"Check status and times",IF(AND($F16<>"",$G16<>"",$G16<$F16),"Check time order","OK")))))))))
H17: =IF(COUNTA($A17:$G17)=0,"",IF(OR($E17<>Assumptions!$D$5,$F17="",$G17=""),"",IFERROR(IF($G17>=$F17,($G17-$F17)*24,""),""))) | I17: =IF(COUNTA($A17:$G17)=0,"",IF(OR($A17="",$B17="",$C17="",$D17="",$E17=""),"Check required fields",IF(OR($B17<Assumptions!$G$5,$B17>Assumptions!$G$6),"Check date range",IF(COUNTIF(Assumptions!$A$5:$A$10,$D17)=0,"Check classroom",IF(COUNTIF(Assumptions!$D$5:$D$7,$E17)=0,"Check attendance status",IF(COUNTIF($A$6:$A$105,$A17)>1,"Duplicate record ID",IF(AND($E17=Assumptions!$D$5,OR($F17="",$G17="")),"Check present times",IF(AND($E17<>Assumptions!$D$5,OR($F17<>"",$G17<>"")),"Check status and times",IF(AND($F17<>"",$G17<>"",$G17<$F17),"Check time order","OK")))))))))
H18: =IF(COUNTA($A18:$G18)=0,"",IF(OR($E18<>Assumptions!$D$5,$F18="",$G18=""),"",IFERROR(IF($G18>=$F18,($G18-$F18)*24,""),""))) | I18: =IF(COUNTA($A18:$G18)=0,"",IF(OR($A18="",$B18="",$C18="",$D18="",$E18=""),"Check required fields",IF(OR($B18<Assumptions!$G$5,$B18>Assumptions!$G$6),"Check date range",IF(COUNTIF(Assumptions!$A$5:$A$10,$D18)=0,"Check classroom",IF(COUNTIF(Assumptions!$D$5:$D$7,$E18)=0,"Check attendance status",IF(COUNTIF($A$6:$A$105,$A18)>1,"Duplicate record ID",IF(AND($E18=Assumptions!$D$5,OR($F18="",$G18="")),"Check present times",IF(AND($E18<>Assumptions!$D$5,OR($F18<>"",$G18<>"")),"Check status and times",IF(AND($F18<>"",$G18<>"",$G18<$F18),"Check time order","OK")))))))))
H19: =IF(COUNTA($A19:$G19)=0,"",IF(OR($E19<>Assumptions!$D$5,$F19="",$G19=""),"",IFERROR(IF($G19>=$F19,($G19-$F19)*24,""),""))) | I19: =IF(COUNTA($A19:$G19)=0,"",IF(OR($A19="",$B19="",$C19="",$D19="",$E19=""),"Check required fields",IF(OR($B19<Assumptions!$G$5,$B19>Assumptions!$G$6),"Check date range",IF(COUNTIF(Assumptions!$A$5:$A$10,$D19)=0,"Check classroom",IF(COUNTIF(Assumptions!$D$5:$D$7,$E19)=0,"Check attendance status",IF(COUNTIF($A$6:$A$105,$A19)>1,"Duplicate record ID",IF(AND($E19=Assumptions!$D$5,OR($F19="",$G19="")),"Check present times",IF(AND($E19<>Assumptions!$D$5,OR($F19<>"",$G19<>"")),"Check status and times",IF(AND($F19<>"",$G19<>"",$G19<$F19),"Check time order","OK")))))))))
H20: =IF(COUNTA($A20:$G20)=0,"",IF(OR($E20<>Assumptions!$D$5,$F20="",$G20=""),"",IFERROR(IF($G20>=$F20,($G20-$F20)*24,""),""))) | I20: =IF(COUNTA($A20:$G20)=0,"",IF(OR($A20="",$B20="",$C20="",$D20="",$E20=""),"Check required fields",IF(OR($B20<Assumptions!$G$5,$B20>Assumptions!$G$6),"Check date range",IF(COUNTIF(Assumptions!$A$5:$A$10,$D20)=0,"Check classroom",IF(COUNTIF(Assumptions!$D$5:$D$7,$E20)=0,"Check attendance status",IF(COUNTIF($A$6:$A$105,$A20)>1,"Duplicate record ID",IF(AND($E20=Assumptions!$D$5,OR($F20="",$G20="")),"Check present times",IF(AND($E20<>Assumptions!$D$5,OR($F20<>"",$G20<>"")),"Check status and times",IF(AND($F20<>"",$G20<>"",$G20<$F20),"Check time order","OK")))))))))
H21: =IF(COUNTA($A21:$G21)=0,"",IF(OR($E21<>Assumptions!$D$5,$F21="",$G21=""),"",IFERROR(IF($G21>=$F21,($G21-$F21)*24,""),""))) | I21: =IF(COUNTA($A21:$G21)=0,"",IF(OR($A21="",$B21="",$C21="",$D21="",$E21=""),"Check required fields",IF(OR($B21<Assumptions!$G$5,$B21>Assumptions!$G$6),"Check date range",IF(COUNTIF(Assumptions!$A$5:$A$10,$D21)=0,"Check classroom",IF(COUNTIF(Assumptions!$D$5:$D$7,$E21)=0,"Check attendance status",IF(COUNTIF($A$6:$A$105,$A21)>1,"Duplicate record ID",IF(AND($E21=Assumptions!$D$5,OR($F21="",$G21="")),"Check present times",IF(AND($E21<>Assumptions!$D$5,OR($F21<>"",$G21<>"")),"Check status and times",IF(AND($F21<>"",$G21<>"",$G21<$F21),"Check time order","OK")))))))))
H22: =IF(COUNTA($A22:$G22)=0,"",IF(OR($E22<>Assumptions!$D$5,$F22="",$G22=""),"",IFERROR(IF($G22>=$F22,($G22-$F22)*24,""),""))) | I22: =IF(COUNTA($A22:$G22)=0,"",IF(OR($A22="",$B22="",$C22="",$D22="",$E22=""),"Check required fields",IF(OR($B22<Assumptions!$G$5,$B22>Assumptions!$G$6),"Check date range",IF(COUNTIF(Assumptions!$A$5:$A$10,$D22)=0,"Check classroom",IF(COUNTIF(Assumptions!$D$5:$D$7,$E22)=0,"Check attendance status",IF(COUNTIF($A$6:$A$105,$A22)>1,"Duplicate record ID",IF(AND($E22=Assumptions!$D$5,OR($F22="",$G22="")),"Check present times",IF(AND($E22<>Assumptions!$D$5,OR($F22<>"",$G22<>"")),"Check status and times",IF(AND($F22<>"",$G22<>"",$G22<$F22),"Check time order","OK")))))))))
H23: =IF(COUNTA($A23:$G23)=0,"",IF(OR($E23<>Assumptions!$D$5,$F23="",$G23=""),"",IFERROR(IF($G23>=$F23,($G23-$F23)*24,""),""))) | I23: =IF(COUNTA($A23:$G23)=0,"",IF(OR($A23="",$B23="",$C23="",$D23="",$E23=""),"Check required fields",IF(OR($B23<Assumptions!$G$5,$B23>Assumptions!$G$6),"Check date range",IF(COUNTIF(Assumptions!$A$5:$A$10,$D23)=0,"Check classroom",IF(COUNTIF(Assumptions!$D$5:$D$7,$E23)=0,"Check attendance status",IF(COUNTIF($A$6:$A$105,$A23)>1,"Duplicate record ID",IF(AND($E23=Assumptions!$D$5,OR($F23="",$G23="")),"Check present times",IF(AND($E23<>Assumptions!$D$5,OR($F23<>"",$G23<>"")),"Check status and times",IF(AND($F23<>"",$G23<>"",$G23<$F23),"Check time order","OK")))))))))
H24: =IF(COUNTA($A24:$G24)=0,"",IF(OR($E24<>Assumptions!$D$5,$F24="",$G24=""),"",IFERROR(IF($G24>=$F24,($G24-$F24)*24,""),""))) | I24: =IF(COUNTA($A24:$G24)=0,"",IF(OR($A24="",$B24="",$C24="",$D24="",$E24=""),"Check required fields",IF(OR($B24<Assumptions!$G$5,$B24>Assumptions!$G$6),"Check date range",IF(COUNTIF(Assumptions!$A$5:$A$10,$D24)=0,"Check classroom",IF(COUNTIF(Assumptions!$D$5:$D$7,$E24)=0,"Check attendance status",IF(COUNTIF($A$6:$A$105,$A24)>1,"Duplicate record ID",IF(AND($E24=Assumptions!$D$5,OR($F24="",$G24="")),"Check present times",IF(AND($E24<>Assumptions!$D$5,OR($F24<>"",$G24<>"")),"Check status and times",IF(AND($F24<>"",$G24<>"",$G24<$F24),"Check time order","OK")))))))))
H25: =IF(COUNTA($A25:$G25)=0,"",IF(OR($E25<>Assumptions!$D$5,$F25="",$G25=""),"",IFERROR(IF($G25>=$F25,($G25-$F25)*24,""),""))) | I25: =IF(COUNTA($A25:$G25)=0,"",IF(OR($A25="",$B25="",$C25="",$D25="",$E25=""),"Check required fields",IF(OR($B25<Assumptions!$G$5,$B25>Assumptions!$G$6),"Check date range",IF(COUNTIF(Assumptions!$A$5:$A$10,$D25)=0,"Check classroom",IF(COUNTIF(Assumptions!$D$5:$D$7,$E25)=0,"Check attendance status",IF(COUNTIF($A$6:$A$105,$A25)>1,"Duplicate record ID",IF(AND($E25=Assumptions!$D$5,OR($F25="",$G25="")),"Check present times",IF(AND($E25<>Assumptions!$D$5,OR($F25<>"",$G25<>"")),"Check status and times",IF(AND($F25<>"",$G25<>"",$G25<$F25),"Check time order","OK")))))))))
H26: =IF(COUNTA($A26:$G26)=0,"",IF(OR($E26<>Assumptions!$D$5,$F26="",$G26=""),"",IFERROR(IF($G26>=$F26,($G26-$F26)*24,""),""))) | I26: =IF(COUNTA($A26:$G26)=0,"",IF(OR($A26="",$B26="",$C26="",$D26="",$E26=""),"Check required fields",IF(OR($B26<Assumptions!$G$5,$B26>Assumptions!$G$6),"Check date range",IF(COUNTIF(Assumptions!$A$5:$A$10,$D26)=0,"Check classroom",IF(COUNTIF(Assumptions!$D$5:$D$7,$E26)=0,"Check attendance status",IF(COUNTIF($A$6:$A$105,$A26)>1,"Duplicate record ID",IF(AND($E26=Assumptions!$D$5,OR($F26="",$G26="")),"Check present times",IF(AND($E26<>Assumptions!$D$5,OR($F26<>"",$G26<>"")),"Check status and times",IF(AND($F26<>"",$G26<>"",$G26<$F26),"Check time order","OK")))))))))
H27: =IF(COUNTA($A27:$G27)=0,"",IF(OR($E27<>Assumptions!$D$5,$F27="",$G27=""),"",IFERROR(IF($G27>=$F27,($G27-$F27)*24,""),""))) | I27: =IF(COUNTA($A27:$G27)=0,"",IF(OR($A27="",$B27="",$C27="",$D27="",$E27=""),"Check required fields",IF(OR($B27<Assumptions!$G$5,$B27>Assumptions!$G$6),"Check date range",IF(COUNTIF(Assumptions!$A$5:$A$10,$D27)=0,"Check classroom",IF(COUNTIF(Assumptions!$D$5:$D$7,$E27)=0,"Check attendance status",IF(COUNTIF($A$6:$A$105,$A27)>1,"Duplicate record ID",IF(AND($E27=Assumptions!$D$5,OR($F27="",$G27="")),"Check present times",IF(AND($E27<>Assumptions!$D$5,OR($F27<>"",$G27<>"")),"Check status and times",IF(AND($F27<>"",$G27<>"",$G27<$F27),"Check time order","OK")))))))))
... H105: =IF(COUNTA($A105:$G105)=0,"",IF(OR($E105<>Assumptions!$D$5,$F105="",$G105=""),"",IFERROR(IF($G105>=$F105,($G105-$F105)*24,""),""))) | I105: =IF(COUNTA($A105:$G105)=0,"",IF(OR($A105="",$B105="",$C105="",$D105="",$E105=""),"Check required fields",IF(OR($B105<Assumptions!$G$5,$B105>Assumptions!$G$6),"Check date range",IF(COUNTIF(Assumptions!$A$5:$A$10,$D105)=0,"Check classroom",IF(COUNTIF(Assumptions!$D$5:$D$7,$E105)=0,"Check attendance status",IF(COUNTIF($A$6:$A$105,$A105)>1,"Duplicate record ID",IF(AND($E105=Assumptions!$D$5,OR($F105="",$G105="")),"Check present times",IF(AND($E105<>Assumptions!$D$5,OR($F105<>"",$G105<>"")),"Check status and times",IF(AND($F105<>"",$G105<>"",$G105<$F105),"Check time order","OK")))))))))

Sheet Assumptions
A1: Attendance Settings
A2: Yellow cells are editable center planning inputs. Capacities are internal planning values and are not regulatory limits.
A4: Classroom | B4: Daily planning capacity | D4: Stable attendance status | F4: Setting | G4: Value
A5: Sprout Room | B5: 2 | D5: Present | F5: Earliest attendance date | G5: 45658
A6: Sunbeam Room | B6: 3 | D6: Absent | F6: Latest attendance date | G6: 46752
A7: Harbor Room | B7: 1 | D7: Excused | F7: Minimum capacity entry | G7: 1
A8: Meadow Room | B8: 3 | F8: Maximum capacity entry | G8: 60
A9: Orchard Room | B9: 2 | D9: Stable choices used by attendance formulas.
A10: Lantern Room | B10: 3
