Workbook

Sheet Summary
A1: Daycare Behavior Incident Log Summary
A2: Indicators use the reporting dates on Assumptions and the fictional sample entries on Incident Log. Alerts prompt a human check.
A4: Indicator | B4: Calculated Value | D4: Observed Event Type | E4: Incidents
A5: Incidents in reporting period | B5: =IF(OR(Assumptions!$B$5="",Assumptions!$B$6="",Assumptions!$B$5>Assumptions!$B$6),"",COUNTIFS('Incident Log'!$B$4:$B$103,">="&Assumptions!$B$5,'Incident Log'!$B$4:$B$103,"<="&Assumptions!$B$6)) | D5: =Assumptions!G5 | E5: =IF(OR(Assumptions!$B$5="",Assumptions!$B$6="",Assumptions!$B$5>Assumptions!$B$6),"",COUNTIFS('Incident Log'!$B$4:$B$103,">="&Assumptions!$B$5,'Incident Log'!$B$4:$B$103,"<="&Assumptions!$B$6,'Incident Log'!$G$4:$G$103,$D5))
A6: Open or in-review records | B6: =IF(OR(Assumptions!$B$5="",Assumptions!$B$6="",Assumptions!$B$5>Assumptions!$B$6),"",COUNTIFS('Incident Log'!$B$4:$B$103,">="&Assumptions!$B$5,'Incident Log'!$B$4:$B$103,"<="&Assumptions!$B$6,'Incident Log'!$P$4:$P$103,"Open")+COUNTIFS('Incident Log'!$B$4:$B$103,">="&Assumptions!$B$5,'Incident Log'!$B$4:$B$103,"<="&Assumptions!$B$6,'Incident Log'!$P$4:$P$103,"In Review")) | D6: =Assumptions!G6 | E6: =IF(OR(Assumptions!$B$5="",Assumptions!$B$6="",Assumptions!$B$5>Assumptions!$B$6),"",COUNTIFS('Incident Log'!$B$4:$B$103,">="&Assumptions!$B$5,'Incident Log'!$B$4:$B$103,"<="&Assumptions!$B$6,'Incident Log'!$G$4:$G$103,$D6))
A7: Follow-ups due for human review | B7: =IF(OR(Assumptions!$B$5="",Assumptions!$B$6="",Assumptions!$B$5>Assumptions!$B$6),"",COUNTIFS('Incident Log'!$B$4:$B$103,">="&Assumptions!$B$5,'Incident Log'!$B$4:$B$103,"<="&Assumptions!$B$6,'Incident Log'!$M$4:$M$103,"Yes",'Incident Log'!$N$4:$N$103,">=1",'Incident Log'!$N$4:$N$103,"<="&TODAY(),'Incident Log'!$O$4:$O$103,"<>Complete")) | D7: =Assumptions!G7 | E7: =IF(OR(Assumptions!$B$5="",Assumptions!$B$6="",Assumptions!$B$5>Assumptions!$B$6),"",COUNTIFS('Incident Log'!$B$4:$B$103,">="&Assumptions!$B$5,'Incident Log'!$B$4:$B$103,"<="&Assumptions!$B$6,'Incident Log'!$G$4:$G$103,$D7))
A8: Family contact pending or attempted | B8: =IF(OR(Assumptions!$B$5="",Assumptions!$B$6="",Assumptions!$B$5>Assumptions!$B$6),"",COUNTIFS('Incident Log'!$B$4:$B$103,">="&Assumptions!$B$5,'Incident Log'!$B$4:$B$103,"<="&Assumptions!$B$6,'Incident Log'!$K$4:$K$103,"Pending")+COUNTIFS('Incident Log'!$B$4:$B$103,">="&Assumptions!$B$5,'Incident Log'!$B$4:$B$103,"<="&Assumptions!$B$6,'Incident Log'!$K$4:$K$103,"Attempted")) | D8: =Assumptions!G8 | E8: =IF(OR(Assumptions!$B$5="",Assumptions!$B$6="",Assumptions!$B$5>Assumptions!$B$6),"",COUNTIFS('Incident Log'!$B$4:$B$103,">="&Assumptions!$B$5,'Incident Log'!$B$4:$B$103,"<="&Assumptions!$B$6,'Incident Log'!$G$4:$G$103,$D8))
A9: Records with entry checks | B9: =IF(OR(Assumptions!$B$5="",Assumptions!$B$6="",Assumptions!$B$5>Assumptions!$B$6),"",COUNTIFS('Incident Log'!$B$4:$B$103,">="&Assumptions!$B$5,'Incident Log'!$B$4:$B$103,"<="&Assumptions!$B$6,'Incident Log'!$T$4:$T$103,"Check:*")) | D9: =Assumptions!G9 | E9: =IF(OR(Assumptions!$B$5="",Assumptions!$B$6="",Assumptions!$B$5>Assumptions!$B$6),"",COUNTIFS('Incident Log'!$B$4:$B$103,">="&Assumptions!$B$5,'Incident Log'!$B$4:$B$103,"<="&Assumptions!$B$6,'Incident Log'!$G$4:$G$103,$D9))
A10: Closed records | B10: =IF(OR(Assumptions!$B$5="",Assumptions!$B$6="",Assumptions!$B$5>Assumptions!$B$6),"",COUNTIFS('Incident Log'!$B$4:$B$103,">="&Assumptions!$B$5,'Incident Log'!$B$4:$B$103,"<="&Assumptions!$B$6,'Incident Log'!$P$4:$P$103,"Closed")) | D10: =Assumptions!G10 | E10: =IF(OR(Assumptions!$B$5="",Assumptions!$B$6="",Assumptions!$B$5>Assumptions!$B$6),"",COUNTIFS('Incident Log'!$B$4:$B$103,">="&Assumptions!$B$5,'Incident Log'!$B$4:$B$103,"<="&Assumptions!$B$6,'Incident Log'!$G$4:$G$103,$D10))
A11: Closure rate | B11: =IFERROR(B10/B5,"") | D11: Total | E11: =SUM(E5:E10)
A12: Average days open | B12: =IF(OR(Assumptions!$B$5="",Assumptions!$B$6="",Assumptions!$B$5>Assumptions!$B$6),"",IFERROR(SUMIFS('Incident Log'!$S$4:$S$103,'Incident Log'!$B$4:$B$103,">="&Assumptions!$B$5,'Incident Log'!$B$4:$B$103,"<="&Assumptions!$B$6)/(COUNTIFS('Incident Log'!$B$4:$B$103,">="&Assumptions!$B$5,'Incident Log'!$B$4:$B$103,"<="&Assumptions!$B$6,'Incident Log'!$P$4:$P$103,"Open")+COUNTIFS('Incident Log'!$B$4:$B$103,">="&Assumptions!$B$5,'Incident Log'!$B$4:$B$103,"<="&Assumptions!$B$6,'Incident Log'!$P$4:$P$103,"In Review")),""))

Sheet Incident Log
A1: Daycare Behavior Incident Log
A2: Yellow cells are editable. Formula columns calculate review targets, days open, and entry checks. All displayed records are fictional examples.
A3: Incident ID | B3: Event Date | C3: Event Time | D3: Child ID | E3: Room | F3: Observed By | G3: Observed Event Type | H3: Context or Activity | I3: Objective Description | J3: Immediate Response | K3: Family Contact Status | L3: Family Contact Date | M3: Follow-Up Needed | N3: Follow-Up Due Date | O3: Follow-Up Status | P3: Review Status | Q3: Review Completed Date | R3: Review Target Date | S3: Days Open | T3: Record Check
A4: SAMPLE-BI-001 | B4: 46246 | C4: 0.38541667 | D4: FICTIONAL-C101 | E4: Sunbeam Room | F4: Fictional Staff A | G4: Peer conflict | H4: Block play | I4: Two children reached for the same toy truck, and one child pushed the truck away. | J4: Separated the materials, checked that both children had space, and restated turn-taking expectations. | K4: Completed | L4: 46246 | M4: No | O4: Not Needed | P4: Closed | Q4: 46247 | R4: =IF(OR($B4="",Assumptions!$B$7=""),"",IFERROR($B4+Assumptions!$B$7,"")) | S4: =IF(OR($B4="",$B4>TODAY(),$P4="Closed"),"",IFERROR(MAX(0,TODAY()-$B4),"")) | T4: =IF(COUNTA($A4:$Q4)=0,"",IF($B4="","Check: add event date",IF($A4="","Check: add incident ID",IF(COUNTIF($A$4:$A$103,$A4)>1,"Check: duplicate incident ID",IF($B4>TODAY(),"Check: future event date",IF($B4<Assumptions!$B$8,"Check: event date limit",IF($C4="","Check: add event time",IF($D4="","Check: add child ID",IF($E4="","Check: add room",IF($F4="","Check: add observer",IF($G4="","Check: add event type",IF($H4="","Check: add context or activity",IF($I4="","Check: add objective description",IF($J4="","Check: add immediate response",IF($K4="","Check: add family contact status",IF(AND(OR($K4="Completed",$K4="Attempted"),$L4=""),"Check: add family contact date",IF(AND($L4<>"",$L4<$B4),"Check: family contact date",IF(AND($L4<>"",$L4>TODAY()),"Check: family contact date",IF($M4="","Check: add follow-up need",IF(AND($M4="Yes",$N4=""),"Check: add follow-up due date",IF(AND($N4<>"",$N4<$B4),"Check: follow-up due date",IF(AND($M4="No",OR($N4<>"",$O4<>"Not Needed")),"Check: follow-up fields",IF(AND($M4="Yes",$O4="Not Needed"),"Check: follow-up status",IF($O4="","Check: add follow-up status",IF($P4="","Check: add review status",IF(AND($P4="Closed",$Q4=""),"Check: add review date",IF(AND($Q4<>"",$Q4<$B4),"Check: review date",IF(AND($Q4<>"",$Q4>TODAY()),"Check: review date",IF(AND($Q4<>"",$P4<>"Closed"),"Check: review status",IF(AND($P4<>"Closed",$R4<>"",$R4<TODAY()),"Check: review is past target","OK"))))))))))))))))))))))))))))))
A5: SAMPLE-BI-002 | B5: 46267 | C5: 0.46180556 | D5: FICTIONAL-C102 | E5: Meadow Room | F5: Fictional Staff B | G5: Transition difficulty | H5: Cleanup before lunch | I5: The child remained at the activity table after the cleanup direction and moved two bins back to the shelf. | J5: Paused the transition, pointed to the picture schedule, and offered a marked waiting spot. | K5: Completed | L5: 46267 | M5: Yes | N5: 46269 | O5: Complete | P5: Closed | Q5: 46268 | R5: =IF(OR($B5="",Assumptions!$B$7=""),"",IFERROR($B5+Assumptions!$B$7,"")) | S5: =IF(OR($B5="",$B5>TODAY(),$P5="Closed"),"",IFERROR(MAX(0,TODAY()-$B5),"")) | T5: =IF(COUNTA($A5:$Q5)=0,"",IF($B5="","Check: add event date",IF($A5="","Check: add incident ID",IF(COUNTIF($A$4:$A$103,$A5)>1,"Check: duplicate incident ID",IF($B5>TODAY(),"Check: future event date",IF($B5<Assumptions!$B$8,"Check: event date limit",IF($C5="","Check: add event time",IF($D5="","Check: add child ID",IF($E5="","Check: add room",IF($F5="","Check: add observer",IF($G5="","Check: add event type",IF($H5="","Check: add context or activity",IF($I5="","Check: add objective description",IF($J5="","Check: add immediate response",IF($K5="","Check: add family contact status",IF(AND(OR($K5="Completed",$K5="Attempted"),$L5=""),"Check: add family contact date",IF(AND($L5<>"",$L5<$B5),"Check: family contact date",IF(AND($L5<>"",$L5>TODAY()),"Check: family contact date",IF($M5="","Check: add follow-up need",IF(AND($M5="Yes",$N5=""),"Check: add follow-up due date",IF(AND($N5<>"",$N5<$B5),"Check: follow-up due date",IF(AND($M5="No",OR($N5<>"",$O5<>"Not Needed")),"Check: follow-up fields",IF(AND($M5="Yes",$O5="Not Needed"),"Check: follow-up status",IF($O5="","Check: add follow-up status",IF($P5="","Check: add review status",IF(AND($P5="Closed",$Q5=""),"Check: add review date",IF(AND($Q5<>"",$Q5<$B5),"Check: review date",IF(AND($Q5<>"",$Q5>TODAY()),"Check: review date",IF(AND($Q5<>"",$P5<>"Closed"),"Check: review status",IF(AND($P5<>"Closed",$R5<>"",$R5<TODAY()),"Check: review is past target","OK"))))))))))))))))))))))))))))))
A6: SAMPLE-BI-003 | B6: 46268 | C6: 0.43055556 | D6: FICTIONAL-C103 | E6: Harbor Room | F6: Fictional Staff C | G6: Unsafe movement | H6: Indoor movement activity | I6: The child climbed onto a chair and stepped toward the adjacent table. | J6: Directed the child back to the floor area and moved nearby chairs away from the activity space. | K6: Attempted | L6: 46268 | M6: Yes | N6: 46270 | O6: Open | P6: In Review | R6: =IF(OR($B6="",Assumptions!$B$7=""),"",IFERROR($B6+Assumptions!$B$7,"")) | S6: =IF(OR($B6="",$B6>TODAY(),$P6="Closed"),"",IFERROR(MAX(0,TODAY()-$B6),"")) | T6: =IF(COUNTA($A6:$Q6)=0,"",IF($B6="","Check: add event date",IF($A6="","Check: add incident ID",IF(COUNTIF($A$4:$A$103,$A6)>1,"Check: duplicate incident ID",IF($B6>TODAY(),"Check: future event date",IF($B6<Assumptions!$B$8,"Check: event date limit",IF($C6="","Check: add event time",IF($D6="","Check: add child ID",IF($E6="","Check: add room",IF($F6="","Check: add observer",IF($G6="","Check: add event type",IF($H6="","Check: add context or activity",IF($I6="","Check: add objective description",IF($J6="","Check: add immediate response",IF($K6="","Check: add family contact status",IF(AND(OR($K6="Completed",$K6="Attempted"),$L6=""),"Check: add family contact date",IF(AND($L6<>"",$L6<$B6),"Check: family contact date",IF(AND($L6<>"",$L6>TODAY()),"Check: family contact date",IF($M6="","Check: add follow-up need",IF(AND($M6="Yes",$N6=""),"Check: add follow-up due date",IF(AND($N6<>"",$N6<$B6),"Check: follow-up due date",IF(AND($M6="No",OR($N6<>"",$O6<>"Not Needed")),"Check: follow-up fields",IF(AND($M6="Yes",$O6="Not Needed"),"Check: follow-up status",IF($O6="","Check: add follow-up status",IF($P6="","Check: add review status",IF(AND($P6="Closed",$Q6=""),"Check: add review date",IF(AND($Q6<>"",$Q6<$B6),"Check: review date",IF(AND($Q6<>"",$Q6>TODAY()),"Check: review date",IF(AND($Q6<>"",$P6<>"Closed"),"Check: review status",IF(AND($P6<>"Closed",$R6<>"",$R6<TODAY()),"Check: review is past target","OK"))))))))))))))))))))))))))))))
A7: SAMPLE-BI-004 | B7: 46269 | C7: 0.59027778 | D7: FICTIONAL-C104 | E7: Seedling Room | F7: Fictional Staff D | G7: Property disruption | H7: Tabletop art | I7: The child swept paper and crayons from the table after the art materials were changed. | J7: Cleared the floor area, provided a small tray, and restated how materials stay on the table. | K7: Completed | L7: 46269 | M7: No | O7: Not Needed | P7: Closed | Q7: 46270 | R7: =IF(OR($B7="",Assumptions!$B$7=""),"",IFERROR($B7+Assumptions!$B$7,"")) | S7: =IF(OR($B7="",$B7>TODAY(),$P7="Closed"),"",IFERROR(MAX(0,TODAY()-$B7),"")) | T7: =IF(COUNTA($A7:$Q7)=0,"",IF($B7="","Check: add event date",IF($A7="","Check: add incident ID",IF(COUNTIF($A$4:$A$103,$A7)>1,"Check: duplicate incident ID",IF($B7>TODAY(),"Check: future event date",IF($B7<Assumptions!$B$8,"Check: event date limit",IF($C7="","Check: add event time",IF($D7="","Check: add child ID",IF($E7="","Check: add room",IF($F7="","Check: add observer",IF($G7="","Check: add event type",IF($H7="","Check: add context or activity",IF($I7="","Check: add objective description",IF($J7="","Check: add immediate response",IF($K7="","Check: add family contact status",IF(AND(OR($K7="Completed",$K7="Attempted"),$L7=""),"Check: add family contact date",IF(AND($L7<>"",$L7<$B7),"Check: family contact date",IF(AND($L7<>"",$L7>TODAY()),"Check: family contact date",IF($M7="","Check: add follow-up need",IF(AND($M7="Yes",$N7=""),"Check: add follow-up due date",IF(AND($N7<>"",$N7<$B7),"Check: follow-up due date",IF(AND($M7="No",OR($N7<>"",$O7<>"Not Needed")),"Check: follow-up fields",IF(AND($M7="Yes",$O7="Not Needed"),"Check: follow-up status",IF($O7="","Check: add follow-up status",IF($P7="","Check: add review status",IF(AND($P7="Closed",$Q7=""),"Check: add review date",IF(AND($Q7<>"",$Q7<$B7),"Check: review date",IF(AND($Q7<>"",$Q7>TODAY()),"Check: review date",IF(AND($Q7<>"",$P7<>"Closed"),"Check: review status",IF(AND($P7<>"Closed",$R7<>"",$R7<TODAY()),"Check: review is past target","OK"))))))))))))))))))))))))))))))
A8: SAMPLE-BI-005 | B8: 46270 | C8: 0.64236111 | D8: FICTIONAL-C105 | E8: Sunbeam Room | F8: Fictional Staff A | G8: Verbal conflict | H8: Choice-time reading area | I8: The child repeatedly told a peer to leave the reading area while holding the book basket. | J8: Created space between the children, returned the basket to the shelf, and reviewed shared-area expectations. | K8: Completed | L8: 46270 | M8: Yes | N8: 46274 | O8: Scheduled | P8: In Review | R8: =IF(OR($B8="",Assumptions!$B$7=""),"",IFERROR($B8+Assumptions!$B$7,"")) | S8: =IF(OR($B8="",$B8>TODAY(),$P8="Closed"),"",IFERROR(MAX(0,TODAY()-$B8),"")) | T8: =IF(COUNTA($A8:$Q8)=0,"",IF($B8="","Check: add event date",IF($A8="","Check: add incident ID",IF(COUNTIF($A$4:$A$103,$A8)>1,"Check: duplicate incident ID",IF($B8>TODAY(),"Check: future event date",IF($B8<Assumptions!$B$8,"Check: event date limit",IF($C8="","Check: add event time",IF($D8="","Check: add child ID",IF($E8="","Check: add room",IF($F8="","Check: add observer",IF($G8="","Check: add event type",IF($H8="","Check: add context or activity",IF($I8="","Check: add objective description",IF($J8="","Check: add immediate response",IF($K8="","Check: add family contact status",IF(AND(OR($K8="Completed",$K8="Attempted"),$L8=""),"Check: add family contact date",IF(AND($L8<>"",$L8<$B8),"Check: family contact date",IF(AND($L8<>"",$L8>TODAY()),"Check: family contact date",IF($M8="","Check: add follow-up need",IF(AND($M8="Yes",$N8=""),"Check: add follow-up due date",IF(AND($N8<>"",$N8<$B8),"Check: follow-up due date",IF(AND($M8="No",OR($N8<>"",$O8<>"Not Needed")),"Check: follow-up fields",IF(AND($M8="Yes",$O8="Not Needed"),"Check: follow-up status",IF($O8="","Check: add follow-up status",IF($P8="","Check: add review status",IF(AND($P8="Closed",$Q8=""),"Check: add review date",IF(AND($Q8<>"",$Q8<$B8),"Check: review date",IF(AND($Q8<>"",$Q8>TODAY()),"Check: review date",IF(AND($Q8<>"",$P8<>"Closed"),"Check: review status",IF(AND($P8<>"Closed",$R8<>"",$R8<TODAY()),"Check: review is past target","OK"))))))))))))))))))))))))))))))
A9: SAMPLE-BI-006 | B9: 46272 | C9: 0.36458333 | D9: FICTIONAL-C106 | E9: Meadow Room | F9: Fictional Staff B | G9: Peer conflict | H9: Arrival puzzle table | I9: The child pulled a puzzle board toward them while another child was placing a piece. | J9: Placed a second puzzle nearby and guided both children to choose separate work spaces. | K9: Not Needed | M9: No | O9: Not Needed | P9: Closed | Q9: 46273 | R9: =IF(OR($B9="",Assumptions!$B$7=""),"",IFERROR($B9+Assumptions!$B$7,"")) | S9: =IF(OR($B9="",$B9>TODAY(),$P9="Closed"),"",IFERROR(MAX(0,TODAY()-$B9),"")) | T9: =IF(COUNTA($A9:$Q9)=0,"",IF($B9="","Check: add event date",IF($A9="","Check: add incident ID",IF(COUNTIF($A$4:$A$103,$A9)>1,"Check: duplicate incident ID",IF($B9>TODAY(),"Check: future event date",IF($B9<Assumptions!$B$8,"Check: event date limit",IF($C9="","Check: add event time",IF($D9="","Check: add child ID",IF($E9="","Check: add room",IF($F9="","Check: add observer",IF($G9="","Check: add event type",IF($H9="","Check: add context or activity",IF($I9="","Check: add objective description",IF($J9="","Check: add immediate response",IF($K9="","Check: add family contact status",IF(AND(OR($K9="Completed",$K9="Attempted"),$L9=""),"Check: add family contact date",IF(AND($L9<>"",$L9<$B9),"Check: family contact date",IF(AND($L9<>"",$L9>TODAY()),"Check: family contact date",IF($M9="","Check: add follow-up need",IF(AND($M9="Yes",$N9=""),"Check: add follow-up due date",IF(AND($N9<>"",$N9<$B9),"Check: follow-up due date",IF(AND($M9="No",OR($N9<>"",$O9<>"Not Needed")),"Check: follow-up fields",IF(AND($M9="Yes",$O9="Not Needed"),"Check: follow-up status",IF($O9="","Check: add follow-up status",IF($P9="","Check: add review status",IF(AND($P9="Closed",$Q9=""),"Check: add review date",IF(AND($Q9<>"",$Q9<$B9),"Check: review date",IF(AND($Q9<>"",$Q9>TODAY()),"Check: review date",IF(AND($Q9<>"",$P9<>"Closed"),"Check: review status",IF(AND($P9<>"Closed",$R9<>"",$R9<TODAY()),"Check: review is past target","OK"))))))))))))))))))))))))))))))
A10: SAMPLE-BI-007 | B10: 46273 | C10: 0.52430556 | D10: FICTIONAL-C107 | E10: Harbor Room | F10: Fictional Staff C | G10: Transition difficulty | H10: Rest-time setup | I10: The child moved a cot away from the assigned floor marker after the rest-time direction. | J10: Returned the cot to the marker, reduced nearby materials, and repeated the next classroom step. | K10: Pending | M10: Yes | N10: 46277 | O10: Scheduled | P10: Open | R10: =IF(OR($B10="",Assumptions!$B$7=""),"",IFERROR($B10+Assumptions!$B$7,"")) | S10: =IF(OR($B10="",$B10>TODAY(),$P10="Closed"),"",IFERROR(MAX(0,TODAY()-$B10),"")) | T10: =IF(COUNTA($A10:$Q10)=0,"",IF($B10="","Check: add event date",IF($A10="","Check: add incident ID",IF(COUNTIF($A$4:$A$103,$A10)>1,"Check: duplicate incident ID",IF($B10>TODAY(),"Check: future event date",IF($B10<Assumptions!$B$8,"Check: event date limit",IF($C10="","Check: add event time",IF($D10="","Check: add child ID",IF($E10="","Check: add room",IF($F10="","Check: add observer",IF($G10="","Check: add event type",IF($H10="","Check: add context or activity",IF($I10="","Check: add objective description",IF($J10="","Check: add immediate response",IF($K10="","Check: add family contact status",IF(AND(OR($K10="Completed",$K10="Attempted"),$L10=""),"Check: add family contact date",IF(AND($L10<>"",$L10<$B10),"Check: family contact date",IF(AND($L10<>"",$L10>TODAY()),"Check: family contact date",IF($M10="","Check: add follow-up need",IF(AND($M10="Yes",$N10=""),"Check: add follow-up due date",IF(AND($N10<>"",$N10<$B10),"Check: follow-up due date",IF(AND($M10="No",OR($N10<>"",$O10<>"Not Needed")),"Check: follow-up fields",IF(AND($M10="Yes",$O10="Not Needed"),"Check: follow-up status",IF($O10="","Check: add follow-up status",IF($P10="","Check: add review status",IF(AND($P10="Closed",$Q10=""),"Check: add review date",IF(AND($Q10<>"",$Q10<$B10),"Check: review date",IF(AND($Q10<>"",$Q10>TODAY()),"Check: review date",IF(AND($Q10<>"",$P10<>"Closed"),"Check: review status",IF(AND($P10<>"Closed",$R10<>"",$R10<TODAY()),"Check: review is past target","OK"))))))))))))))))))))))))))))))
A11: SAMPLE-BI-008 | B11: 46274 | C11: 0.45138889 | D11: FICTIONAL-C108 | E11: Seedling Room | F11: Fictional Staff D | G11: Other observed behavior | H11: Sensory table | I11: The child poured table material onto the floor twice after the container was placed at the center. | J11: Closed the container, marked the spill area, and offered a scoop activity at a separate tray. | K11: Completed | L11: 46274 | M11: No | O11: Not Needed | P11: Closed | Q11: 46275 | R11: =IF(OR($B11="",Assumptions!$B$7=""),"",IFERROR($B11+Assumptions!$B$7,"")) | S11: =IF(OR($B11="",$B11>TODAY(),$P11="Closed"),"",IFERROR(MAX(0,TODAY()-$B11),"")) | T11: =IF(COUNTA($A11:$Q11)=0,"",IF($B11="","Check: add event date",IF($A11="","Check: add incident ID",IF(COUNTIF($A$4:$A$103,$A11)>1,"Check: duplicate incident ID",IF($B11>TODAY(),"Check: future event date",IF($B11<Assumptions!$B$8,"Check: event date limit",IF($C11="","Check: add event time",IF($D11="","Check: add child ID",IF($E11="","Check: add room",IF($F11="","Check: add observer",IF($G11="","Check: add event type",IF($H11="","Check: add context or activity",IF($I11="","Check: add objective description",IF($J11="","Check: add immediate response",IF($K11="","Check: add family contact status",IF(AND(OR($K11="Completed",$K11="Attempted"),$L11=""),"Check: add family contact date",IF(AND($L11<>"",$L11<$B11),"Check: family contact date",IF(AND($L11<>"",$L11>TODAY()),"Check: family contact date",IF($M11="","Check: add follow-up need",IF(AND($M11="Yes",$N11=""),"Check: add follow-up due date",IF(AND($N11<>"",$N11<$B11),"Check: follow-up due date",IF(AND($M11="No",OR($N11<>"",$O11<>"Not Needed")),"Check: follow-up fields",IF(AND($M11="Yes",$O11="Not Needed"),"Check: follow-up status",IF($O11="","Check: add follow-up status",IF($P11="","Check: add review status",IF(AND($P11="Closed",$Q11=""),"Check: add review date",IF(AND($Q11<>"",$Q11<$B11),"Check: review date",IF(AND($Q11<>"",$Q11>TODAY()),"Check: review date",IF(AND($Q11<>"",$P11<>"Closed"),"Check: review status",IF(AND($P11<>"Closed",$R11<>"",$R11<TODAY()),"Check: review is past target","OK"))))))))))))))))))))))))))))))
A12: SAMPLE-BI-009 | B12: 46275 | C12: 0.56944444 | D12: FICTIONAL-C109 | E12: Sunbeam Room | F12: Fictional Staff A | G12: Unsafe movement | H12: Outdoor play | I12: The child ran through the tricycle path while two tricycles were moving. | J12: Stopped the tricycles, guided the child to the walking boundary, and reviewed the marked path. | K12: Attempted | L12: 46275 | M12: Yes | N12: 46276 | O12: Open | P12: In Review | R12: =IF(OR($B12="",Assumptions!$B$7=""),"",IFERROR($B12+Assumptions!$B$7,"")) | S12: =IF(OR($B12="",$B12>TODAY(),$P12="Closed"),"",IFERROR(MAX(0,TODAY()-$B12),"")) | T12: =IF(COUNTA($A12:$Q12)=0,"",IF($B12="","Check: add event date",IF($A12="","Check: add incident ID",IF(COUNTIF($A$4:$A$103,$A12)>1,"Check: duplicate incident ID",IF($B12>TODAY(),"Check: future event date",IF($B12<Assumptions!$B$8,"Check: event date limit",IF($C12="","Check: add event time",IF($D12="","Check: add child ID",IF($E12="","Check: add room",IF($F12="","Check: add observer",IF($G12="","Check: add event type",IF($H12="","Check: add context or activity",IF($I12="","Check: add objective description",IF($J12="","Check: add immediate response",IF($K12="","Check: add family contact status",IF(AND(OR($K12="Completed",$K12="Attempted"),$L12=""),"Check: add family contact date",IF(AND($L12<>"",$L12<$B12),"Check: family contact date",IF(AND($L12<>"",$L12>TODAY()),"Check: family contact date",IF($M12="","Check: add follow-up need",IF(AND($M12="Yes",$N12=""),"Check: add follow-up due date",IF(AND($N12<>"",$N12<$B12),"Check: follow-up due date",IF(AND($M12="No",OR($N12<>"",$O12<>"Not Needed")),"Check: follow-up fields",IF(AND($M12="Yes",$O12="Not Needed"),"Check: follow-up status",IF($O12="","Check: add follow-up status",IF($P12="","Check: add review status",IF(AND($P12="Closed",$Q12=""),"Check: add review date",IF(AND($Q12<>"",$Q12<$B12),"Check: review date",IF(AND($Q12<>"",$Q12>TODAY()),"Check: review date",IF(AND($Q12<>"",$P12<>"Closed"),"Check: review status",IF(AND($P12<>"Closed",$R12<>"",$R12<TODAY()),"Check: review is past target","OK"))))))))))))))))))))))))))))))
A13: SAMPLE-BI-010 | B13: 46276 | C13: 0.39583333 | D13: FICTIONAL-C110 | E13: Meadow Room | F13: Fictional Staff B | G13: Verbal conflict | H13: Dramatic play | I13: The child used a raised voice and repeated that a peer could not use the play kitchen. | J13: Separated the play roles, offered two activity choices, and reviewed shared-use expectations. | K13: Not Needed | M13: No | O13: Not Needed | P13: Open | R13: =IF(OR($B13="",Assumptions!$B$7=""),"",IFERROR($B13+Assumptions!$B$7,"")) | S13: =IF(OR($B13="",$B13>TODAY(),$P13="Closed"),"",IFERROR(MAX(0,TODAY()-$B13),"")) | T13: =IF(COUNTA($A13:$Q13)=0,"",IF($B13="","Check: add event date",IF($A13="","Check: add incident ID",IF(COUNTIF($A$4:$A$103,$A13)>1,"Check: duplicate incident ID",IF($B13>TODAY(),"Check: future event date",IF($B13<Assumptions!$B$8,"Check: event date limit",IF($C13="","Check: add event time",IF($D13="","Check: add child ID",IF($E13="","Check: add room",IF($F13="","Check: add observer",IF($G13="","Check: add event type",IF($H13="","Check: add context or activity",IF($I13="","Check: add objective description",IF($J13="","Check: add immediate response",IF($K13="","Check: add family contact status",IF(AND(OR($K13="Completed",$K13="Attempted"),$L13=""),"Check: add family contact date",IF(AND($L13<>"",$L13<$B13),"Check: family contact date",IF(AND($L13<>"",$L13>TODAY()),"Check: family contact date",IF($M13="","Check: add follow-up need",IF(AND($M13="Yes",$N13=""),"Check: add follow-up due date",IF(AND($N13<>"",$N13<$B13),"Check: follow-up due date",IF(AND($M13="No",OR($N13<>"",$O13<>"Not Needed")),"Check: follow-up fields",IF(AND($M13="Yes",$O13="Not Needed"),"Check: follow-up status",IF($O13="","Check: add follow-up status",IF($P13="","Check: add review status",IF(AND($P13="Closed",$Q13=""),"Check: add review date",IF(AND($Q13<>"",$Q13<$B13),"Check: review date",IF(AND($Q13<>"",$Q13>TODAY()),"Check: review date",IF(AND($Q13<>"",$P13<>"Closed"),"Check: review status",IF(AND($P13<>"Closed",$R13<>"",$R13<TODAY()),"Check: review is past target","OK"))))))))))))))))))))))))))))))
R14: =IF(OR($B14="",Assumptions!$B$7=""),"",IFERROR($B14+Assumptions!$B$7,"")) | S14: =IF(OR($B14="",$B14>TODAY(),$P14="Closed"),"",IFERROR(MAX(0,TODAY()-$B14),"")) | T14: =IF(COUNTA($A14:$Q14)=0,"",IF($B14="","Check: add event date",IF($A14="","Check: add incident ID",IF(COUNTIF($A$4:$A$103,$A14)>1,"Check: duplicate incident ID",IF($B14>TODAY(),"Check: future event date",IF($B14<Assumptions!$B$8,"Check: event date limit",IF($C14="","Check: add event time",IF($D14="","Check: add child ID",IF($E14="","Check: add room",IF($F14="","Check: add observer",IF($G14="","Check: add event type",IF($H14="","Check: add context or activity",IF($I14="","Check: add objective description",IF($J14="","Check: add immediate response",IF($K14="","Check: add family contact status",IF(AND(OR($K14="Completed",$K14="Attempted"),$L14=""),"Check: add family contact date",IF(AND($L14<>"",$L14<$B14),"Check: family contact date",IF(AND($L14<>"",$L14>TODAY()),"Check: family contact date",IF($M14="","Check: add follow-up need",IF(AND($M14="Yes",$N14=""),"Check: add follow-up due date",IF(AND($N14<>"",$N14<$B14),"Check: follow-up due date",IF(AND($M14="No",OR($N14<>"",$O14<>"Not Needed")),"Check: follow-up fields",IF(AND($M14="Yes",$O14="Not Needed"),"Check: follow-up status",IF($O14="","Check: add follow-up status",IF($P14="","Check: add review status",IF(AND($P14="Closed",$Q14=""),"Check: add review date",IF(AND($Q14<>"",$Q14<$B14),"Check: review date",IF(AND($Q14<>"",$Q14>TODAY()),"Check: review date",IF(AND($Q14<>"",$P14<>"Closed"),"Check: review status",IF(AND($P14<>"Closed",$R14<>"",$R14<TODAY()),"Check: review is past target","OK"))))))))))))))))))))))))))))))
R15: =IF(OR($B15="",Assumptions!$B$7=""),"",IFERROR($B15+Assumptions!$B$7,"")) | S15: =IF(OR($B15="",$B15>TODAY(),$P15="Closed"),"",IFERROR(MAX(0,TODAY()-$B15),"")) | T15: =IF(COUNTA($A15:$Q15)=0,"",IF($B15="","Check: add event date",IF($A15="","Check: add incident ID",IF(COUNTIF($A$4:$A$103,$A15)>1,"Check: duplicate incident ID",IF($B15>TODAY(),"Check: future event date",IF($B15<Assumptions!$B$8,"Check: event date limit",IF($C15="","Check: add event time",IF($D15="","Check: add child ID",IF($E15="","Check: add room",IF($F15="","Check: add observer",IF($G15="","Check: add event type",IF($H15="","Check: add context or activity",IF($I15="","Check: add objective description",IF($J15="","Check: add immediate response",IF($K15="","Check: add family contact status",IF(AND(OR($K15="Completed",$K15="Attempted"),$L15=""),"Check: add family contact date",IF(AND($L15<>"",$L15<$B15),"Check: family contact date",IF(AND($L15<>"",$L15>TODAY()),"Check: family contact date",IF($M15="","Check: add follow-up need",IF(AND($M15="Yes",$N15=""),"Check: add follow-up due date",IF(AND($N15<>"",$N15<$B15),"Check: follow-up due date",IF(AND($M15="No",OR($N15<>"",$O15<>"Not Needed")),"Check: follow-up fields",IF(AND($M15="Yes",$O15="Not Needed"),"Check: follow-up status",IF($O15="","Check: add follow-up status",IF($P15="","Check: add review status",IF(AND($P15="Closed",$Q15=""),"Check: add review date",IF(AND($Q15<>"",$Q15<$B15),"Check: review date",IF(AND($Q15<>"",$Q15>TODAY()),"Check: review date",IF(AND($Q15<>"",$P15<>"Closed"),"Check: review status",IF(AND($P15<>"Closed",$R15<>"",$R15<TODAY()),"Check: review is past target","OK"))))))))))))))))))))))))))))))
R16: =IF(OR($B16="",Assumptions!$B$7=""),"",IFERROR($B16+Assumptions!$B$7,"")) | S16: =IF(OR($B16="",$B16>TODAY(),$P16="Closed"),"",IFERROR(MAX(0,TODAY()-$B16),"")) | T16: =IF(COUNTA($A16:$Q16)=0,"",IF($B16="","Check: add event date",IF($A16="","Check: add incident ID",IF(COUNTIF($A$4:$A$103,$A16)>1,"Check: duplicate incident ID",IF($B16>TODAY(),"Check: future event date",IF($B16<Assumptions!$B$8,"Check: event date limit",IF($C16="","Check: add event time",IF($D16="","Check: add child ID",IF($E16="","Check: add room",IF($F16="","Check: add observer",IF($G16="","Check: add event type",IF($H16="","Check: add context or activity",IF($I16="","Check: add objective description",IF($J16="","Check: add immediate response",IF($K16="","Check: add family contact status",IF(AND(OR($K16="Completed",$K16="Attempted"),$L16=""),"Check: add family contact date",IF(AND($L16<>"",$L16<$B16),"Check: family contact date",IF(AND($L16<>"",$L16>TODAY()),"Check: family contact date",IF($M16="","Check: add follow-up need",IF(AND($M16="Yes",$N16=""),"Check: add follow-up due date",IF(AND($N16<>"",$N16<$B16),"Check: follow-up due date",IF(AND($M16="No",OR($N16<>"",$O16<>"Not Needed")),"Check: follow-up fields",IF(AND($M16="Yes",$O16="Not Needed"),"Check: follow-up status",IF($O16="","Check: add follow-up status",IF($P16="","Check: add review status",IF(AND($P16="Closed",$Q16=""),"Check: add review date",IF(AND($Q16<>"",$Q16<$B16),"Check: review date",IF(AND($Q16<>"",$Q16>TODAY()),"Check: review date",IF(AND($Q16<>"",$P16<>"Closed"),"Check: review status",IF(AND($P16<>"Closed",$R16<>"",$R16<TODAY()),"Check: review is past target","OK"))))))))))))))))))))))))))))))
R17: =IF(OR($B17="",Assumptions!$B$7=""),"",IFERROR($B17+Assumptions!$B$7,"")) | S17: =IF(OR($B17="",$B17>TODAY(),$P17="Closed"),"",IFERROR(MAX(0,TODAY()-$B17),"")) | T17: =IF(COUNTA($A17:$Q17)=0,"",IF($B17="","Check: add event date",IF($A17="","Check: add incident ID",IF(COUNTIF($A$4:$A$103,$A17)>1,"Check: duplicate incident ID",IF($B17>TODAY(),"Check: future event date",IF($B17<Assumptions!$B$8,"Check: event date limit",IF($C17="","Check: add event time",IF($D17="","Check: add child ID",IF($E17="","Check: add room",IF($F17="","Check: add observer",IF($G17="","Check: add event type",IF($H17="","Check: add context or activity",IF($I17="","Check: add objective description",IF($J17="","Check: add immediate response",IF($K17="","Check: add family contact status",IF(AND(OR($K17="Completed",$K17="Attempted"),$L17=""),"Check: add family contact date",IF(AND($L17<>"",$L17<$B17),"Check: family contact date",IF(AND($L17<>"",$L17>TODAY()),"Check: family contact date",IF($M17="","Check: add follow-up need",IF(AND($M17="Yes",$N17=""),"Check: add follow-up due date",IF(AND($N17<>"",$N17<$B17),"Check: follow-up due date",IF(AND($M17="No",OR($N17<>"",$O17<>"Not Needed")),"Check: follow-up fields",IF(AND($M17="Yes",$O17="Not Needed"),"Check: follow-up status",IF($O17="","Check: add follow-up status",IF($P17="","Check: add review status",IF(AND($P17="Closed",$Q17=""),"Check: add review date",IF(AND($Q17<>"",$Q17<$B17),"Check: review date",IF(AND($Q17<>"",$Q17>TODAY()),"Check: review date",IF(AND($Q17<>"",$P17<>"Closed"),"Check: review status",IF(AND($P17<>"Closed",$R17<>"",$R17<TODAY()),"Check: review is past target","OK"))))))))))))))))))))))))))))))
R18: =IF(OR($B18="",Assumptions!$B$7=""),"",IFERROR($B18+Assumptions!$B$7,"")) | S18: =IF(OR($B18="",$B18>TODAY(),$P18="Closed"),"",IFERROR(MAX(0,TODAY()-$B18),"")) | T18: =IF(COUNTA($A18:$Q18)=0,"",IF($B18="","Check: add event date",IF($A18="","Check: add incident ID",IF(COUNTIF($A$4:$A$103,$A18)>1,"Check: duplicate incident ID",IF($B18>TODAY(),"Check: future event date",IF($B18<Assumptions!$B$8,"Check: event date limit",IF($C18="","Check: add event time",IF($D18="","Check: add child ID",IF($E18="","Check: add room",IF($F18="","Check: add observer",IF($G18="","Check: add event type",IF($H18="","Check: add context or activity",IF($I18="","Check: add objective description",IF($J18="","Check: add immediate response",IF($K18="","Check: add family contact status",IF(AND(OR($K18="Completed",$K18="Attempted"),$L18=""),"Check: add family contact date",IF(AND($L18<>"",$L18<$B18),"Check: family contact date",IF(AND($L18<>"",$L18>TODAY()),"Check: family contact date",IF($M18="","Check: add follow-up need",IF(AND($M18="Yes",$N18=""),"Check: add follow-up due date",IF(AND($N18<>"",$N18<$B18),"Check: follow-up due date",IF(AND($M18="No",OR($N18<>"",$O18<>"Not Needed")),"Check: follow-up fields",IF(AND($M18="Yes",$O18="Not Needed"),"Check: follow-up status",IF($O18="","Check: add follow-up status",IF($P18="","Check: add review status",IF(AND($P18="Closed",$Q18=""),"Check: add review date",IF(AND($Q18<>"",$Q18<$B18),"Check: review date",IF(AND($Q18<>"",$Q18>TODAY()),"Check: review date",IF(AND($Q18<>"",$P18<>"Closed"),"Check: review status",IF(AND($P18<>"Closed",$R18<>"",$R18<TODAY()),"Check: review is past target","OK"))))))))))))))))))))))))))))))
R19: =IF(OR($B19="",Assumptions!$B$7=""),"",IFERROR($B19+Assumptions!$B$7,"")) | S19: =IF(OR($B19="",$B19>TODAY(),$P19="Closed"),"",IFERROR(MAX(0,TODAY()-$B19),"")) | T19: =IF(COUNTA($A19:$Q19)=0,"",IF($B19="","Check: add event date",IF($A19="","Check: add incident ID",IF(COUNTIF($A$4:$A$103,$A19)>1,"Check: duplicate incident ID",IF($B19>TODAY(),"Check: future event date",IF($B19<Assumptions!$B$8,"Check: event date limit",IF($C19="","Check: add event time",IF($D19="","Check: add child ID",IF($E19="","Check: add room",IF($F19="","Check: add observer",IF($G19="","Check: add event type",IF($H19="","Check: add context or activity",IF($I19="","Check: add objective description",IF($J19="","Check: add immediate response",IF($K19="","Check: add family contact status",IF(AND(OR($K19="Completed",$K19="Attempted"),$L19=""),"Check: add family contact date",IF(AND($L19<>"",$L19<$B19),"Check: family contact date",IF(AND($L19<>"",$L19>TODAY()),"Check: family contact date",IF($M19="","Check: add follow-up need",IF(AND($M19="Yes",$N19=""),"Check: add follow-up due date",IF(AND($N19<>"",$N19<$B19),"Check: follow-up due date",IF(AND($M19="No",OR($N19<>"",$O19<>"Not Needed")),"Check: follow-up fields",IF(AND($M19="Yes",$O19="Not Needed"),"Check: follow-up status",IF($O19="","Check: add follow-up status",IF($P19="","Check: add review status",IF(AND($P19="Closed",$Q19=""),"Check: add review date",IF(AND($Q19<>"",$Q19<$B19),"Check: review date",IF(AND($Q19<>"",$Q19>TODAY()),"Check: review date",IF(AND($Q19<>"",$P19<>"Closed"),"Check: review status",IF(AND($P19<>"Closed",$R19<>"",$R19<TODAY()),"Check: review is past target","OK"))))))))))))))))))))))))))))))
R20: =IF(OR($B20="",Assumptions!$B$7=""),"",IFERROR($B20+Assumptions!$B$7,"")) | S20: =IF(OR($B20="",$B20>TODAY(),$P20="Closed"),"",IFERROR(MAX(0,TODAY()-$B20),"")) | T20: =IF(COUNTA($A20:$Q20)=0,"",IF($B20="","Check: add event date",IF($A20="","Check: add incident ID",IF(COUNTIF($A$4:$A$103,$A20)>1,"Check: duplicate incident ID",IF($B20>TODAY(),"Check: future event date",IF($B20<Assumptions!$B$8,"Check: event date limit",IF($C20="","Check: add event time",IF($D20="","Check: add child ID",IF($E20="","Check: add room",IF($F20="","Check: add observer",IF($G20="","Check: add event type",IF($H20="","Check: add context or activity",IF($I20="","Check: add objective description",IF($J20="","Check: add immediate response",IF($K20="","Check: add family contact status",IF(AND(OR($K20="Completed",$K20="Attempted"),$L20=""),"Check: add family contact date",IF(AND($L20<>"",$L20<$B20),"Check: family contact date",IF(AND($L20<>"",$L20>TODAY()),"Check: family contact date",IF($M20="","Check: add follow-up need",IF(AND($M20="Yes",$N20=""),"Check: add follow-up due date",IF(AND($N20<>"",$N20<$B20),"Check: follow-up due date",IF(AND($M20="No",OR($N20<>"",$O20<>"Not Needed")),"Check: follow-up fields",IF(AND($M20="Yes",$O20="Not Needed"),"Check: follow-up status",IF($O20="","Check: add follow-up status",IF($P20="","Check: add review status",IF(AND($P20="Closed",$Q20=""),"Check: add review date",IF(AND($Q20<>"",$Q20<$B20),"Check: review date",IF(AND($Q20<>"",$Q20>TODAY()),"Check: review date",IF(AND($Q20<>"",$P20<>"Closed"),"Check: review status",IF(AND($P20<>"Closed",$R20<>"",$R20<TODAY()),"Check: review is past target","OK"))))))))))))))))))))))))))))))
R21: =IF(OR($B21="",Assumptions!$B$7=""),"",IFERROR($B21+Assumptions!$B$7,"")) | S21: =IF(OR($B21="",$B21>TODAY(),$P21="Closed"),"",IFERROR(MAX(0,TODAY()-$B21),"")) | T21: =IF(COUNTA($A21:$Q21)=0,"",IF($B21="","Check: add event date",IF($A21="","Check: add incident ID",IF(COUNTIF($A$4:$A$103,$A21)>1,"Check: duplicate incident ID",IF($B21>TODAY(),"Check: future event date",IF($B21<Assumptions!$B$8,"Check: event date limit",IF($C21="","Check: add event time",IF($D21="","Check: add child ID",IF($E21="","Check: add room",IF($F21="","Check: add observer",IF($G21="","Check: add event type",IF($H21="","Check: add context or activity",IF($I21="","Check: add objective description",IF($J21="","Check: add immediate response",IF($K21="","Check: add family contact status",IF(AND(OR($K21="Completed",$K21="Attempted"),$L21=""),"Check: add family contact date",IF(AND($L21<>"",$L21<$B21),"Check: family contact date",IF(AND($L21<>"",$L21>TODAY()),"Check: family contact date",IF($M21="","Check: add follow-up need",IF(AND($M21="Yes",$N21=""),"Check: add follow-up due date",IF(AND($N21<>"",$N21<$B21),"Check: follow-up due date",IF(AND($M21="No",OR($N21<>"",$O21<>"Not Needed")),"Check: follow-up fields",IF(AND($M21="Yes",$O21="Not Needed"),"Check: follow-up status",IF($O21="","Check: add follow-up status",IF($P21="","Check: add review status",IF(AND($P21="Closed",$Q21=""),"Check: add review date",IF(AND($Q21<>"",$Q21<$B21),"Check: review date",IF(AND($Q21<>"",$Q21>TODAY()),"Check: review date",IF(AND($Q21<>"",$P21<>"Closed"),"Check: review status",IF(AND($P21<>"Closed",$R21<>"",$R21<TODAY()),"Check: review is past target","OK"))))))))))))))))))))))))))))))
R22: =IF(OR($B22="",Assumptions!$B$7=""),"",IFERROR($B22+Assumptions!$B$7,"")) | S22: =IF(OR($B22="",$B22>TODAY(),$P22="Closed"),"",IFERROR(MAX(0,TODAY()-$B22),"")) | T22: =IF(COUNTA($A22:$Q22)=0,"",IF($B22="","Check: add event date",IF($A22="","Check: add incident ID",IF(COUNTIF($A$4:$A$103,$A22)>1,"Check: duplicate incident ID",IF($B22>TODAY(),"Check: future event date",IF($B22<Assumptions!$B$8,"Check: event date limit",IF($C22="","Check: add event time",IF($D22="","Check: add child ID",IF($E22="","Check: add room",IF($F22="","Check: add observer",IF($G22="","Check: add event type",IF($H22="","Check: add context or activity",IF($I22="","Check: add objective description",IF($J22="","Check: add immediate response",IF($K22="","Check: add family contact status",IF(AND(OR($K22="Completed",$K22="Attempted"),$L22=""),"Check: add family contact date",IF(AND($L22<>"",$L22<$B22),"Check: family contact date",IF(AND($L22<>"",$L22>TODAY()),"Check: family contact date",IF($M22="","Check: add follow-up need",IF(AND($M22="Yes",$N22=""),"Check: add follow-up due date",IF(AND($N22<>"",$N22<$B22),"Check: follow-up due date",IF(AND($M22="No",OR($N22<>"",$O22<>"Not Needed")),"Check: follow-up fields",IF(AND($M22="Yes",$O22="Not Needed"),"Check: follow-up status",IF($O22="","Check: add follow-up status",IF($P22="","Check: add review status",IF(AND($P22="Closed",$Q22=""),"Check: add review date",IF(AND($Q22<>"",$Q22<$B22),"Check: review date",IF(AND($Q22<>"",$Q22>TODAY()),"Check: review date",IF(AND($Q22<>"",$P22<>"Closed"),"Check: review status",IF(AND($P22<>"Closed",$R22<>"",$R22<TODAY()),"Check: review is past target","OK"))))))))))))))))))))))))))))))
R23: =IF(OR($B23="",Assumptions!$B$7=""),"",IFERROR($B23+Assumptions!$B$7,"")) | S23: =IF(OR($B23="",$B23>TODAY(),$P23="Closed"),"",IFERROR(MAX(0,TODAY()-$B23),"")) | T23: =IF(COUNTA($A23:$Q23)=0,"",IF($B23="","Check: add event date",IF($A23="","Check: add incident ID",IF(COUNTIF($A$4:$A$103,$A23)>1,"Check: duplicate incident ID",IF($B23>TODAY(),"Check: future event date",IF($B23<Assumptions!$B$8,"Check: event date limit",IF($C23="","Check: add event time",IF($D23="","Check: add child ID",IF($E23="","Check: add room",IF($F23="","Check: add observer",IF($G23="","Check: add event type",IF($H23="","Check: add context or activity",IF($I23="","Check: add objective description",IF($J23="","Check: add immediate response",IF($K23="","Check: add family contact status",IF(AND(OR($K23="Completed",$K23="Attempted"),$L23=""),"Check: add family contact date",IF(AND($L23<>"",$L23<$B23),"Check: family contact date",IF(AND($L23<>"",$L23>TODAY()),"Check: family contact date",IF($M23="","Check: add follow-up need",IF(AND($M23="Yes",$N23=""),"Check: add follow-up due date",IF(AND($N23<>"",$N23<$B23),"Check: follow-up due date",IF(AND($M23="No",OR($N23<>"",$O23<>"Not Needed")),"Check: follow-up fields",IF(AND($M23="Yes",$O23="Not Needed"),"Check: follow-up status",IF($O23="","Check: add follow-up status",IF($P23="","Check: add review status",IF(AND($P23="Closed",$Q23=""),"Check: add review date",IF(AND($Q23<>"",$Q23<$B23),"Check: review date",IF(AND($Q23<>"",$Q23>TODAY()),"Check: review date",IF(AND($Q23<>"",$P23<>"Closed"),"Check: review status",IF(AND($P23<>"Closed",$R23<>"",$R23<TODAY()),"Check: review is past target","OK"))))))))))))))))))))))))))))))
R24: =IF(OR($B24="",Assumptions!$B$7=""),"",IFERROR($B24+Assumptions!$B$7,"")) | S24: =IF(OR($B24="",$B24>TODAY(),$P24="Closed"),"",IFERROR(MAX(0,TODAY()-$B24),"")) | T24: =IF(COUNTA($A24:$Q24)=0,"",IF($B24="","Check: add event date",IF($A24="","Check: add incident ID",IF(COUNTIF($A$4:$A$103,$A24)>1,"Check: duplicate incident ID",IF($B24>TODAY(),"Check: future event date",IF($B24<Assumptions!$B$8,"Check: event date limit",IF($C24="","Check: add event time",IF($D24="","Check: add child ID",IF($E24="","Check: add room",IF($F24="","Check: add observer",IF($G24="","Check: add event type",IF($H24="","Check: add context or activity",IF($I24="","Check: add objective description",IF($J24="","Check: add immediate response",IF($K24="","Check: add family contact status",IF(AND(OR($K24="Completed",$K24="Attempted"),$L24=""),"Check: add family contact date",IF(AND($L24<>"",$L24<$B24),"Check: family contact date",IF(AND($L24<>"",$L24>TODAY()),"Check: family contact date",IF($M24="","Check: add follow-up need",IF(AND($M24="Yes",$N24=""),"Check: add follow-up due date",IF(AND($N24<>"",$N24<$B24),"Check: follow-up due date",IF(AND($M24="No",OR($N24<>"",$O24<>"Not Needed")),"Check: follow-up fields",IF(AND($M24="Yes",$O24="Not Needed"),"Check: follow-up status",IF($O24="","Check: add follow-up status",IF($P24="","Check: add review status",IF(AND($P24="Closed",$Q24=""),"Check: add review date",IF(AND($Q24<>"",$Q24<$B24),"Check: review date",IF(AND($Q24<>"",$Q24>TODAY()),"Check: review date",IF(AND($Q24<>"",$P24<>"Closed"),"Check: review status",IF(AND($P24<>"Closed",$R24<>"",$R24<TODAY()),"Check: review is past target","OK"))))))))))))))))))))))))))))))
R25: =IF(OR($B25="",Assumptions!$B$7=""),"",IFERROR($B25+Assumptions!$B$7,"")) | S25: =IF(OR($B25="",$B25>TODAY(),$P25="Closed"),"",IFERROR(MAX(0,TODAY()-$B25),"")) | T25: =IF(COUNTA($A25:$Q25)=0,"",IF($B25="","Check: add event date",IF($A25="","Check: add incident ID",IF(COUNTIF($A$4:$A$103,$A25)>1,"Check: duplicate incident ID",IF($B25>TODAY(),"Check: future event date",IF($B25<Assumptions!$B$8,"Check: event date limit",IF($C25="","Check: add event time",IF($D25="","Check: add child ID",IF($E25="","Check: add room",IF($F25="","Check: add observer",IF($G25="","Check: add event type",IF($H25="","Check: add context or activity",IF($I25="","Check: add objective description",IF($J25="","Check: add immediate response",IF($K25="","Check: add family contact status",IF(AND(OR($K25="Completed",$K25="Attempted"),$L25=""),"Check: add family contact date",IF(AND($L25<>"",$L25<$B25),"Check: family contact date",IF(AND($L25<>"",$L25>TODAY()),"Check: family contact date",IF($M25="","Check: add follow-up need",IF(AND($M25="Yes",$N25=""),"Check: add follow-up due date",IF(AND($N25<>"",$N25<$B25),"Check: follow-up due date",IF(AND($M25="No",OR($N25<>"",$O25<>"Not Needed")),"Check: follow-up fields",IF(AND($M25="Yes",$O25="Not Needed"),"Check: follow-up status",IF($O25="","Check: add follow-up status",IF($P25="","Check: add review status",IF(AND($P25="Closed",$Q25=""),"Check: add review date",IF(AND($Q25<>"",$Q25<$B25),"Check: review date",IF(AND($Q25<>"",$Q25>TODAY()),"Check: review date",IF(AND($Q25<>"",$P25<>"Closed"),"Check: review status",IF(AND($P25<>"Closed",$R25<>"",$R25<TODAY()),"Check: review is past target","OK"))))))))))))))))))))))))))))))
... R103: =IF(OR($B103="",Assumptions!$B$7=""),"",IFERROR($B103+Assumptions!$B$7,"")) | S103: =IF(OR($B103="",$B103>TODAY(),$P103="Closed"),"",IFERROR(MAX(0,TODAY()-$B103),"")) | T103: =IF(COUNTA($A103:$Q103)=0,"",IF($B103="","Check: add event date",IF($A103="","Check: add incident ID",IF(COUNTIF($A$4:$A$103,$A103)>1,"Check: duplicate incident ID",IF($B103>TODAY(),"Check: future event date",IF($B103<Assumptions!$B$8,"Check: event date limit",IF($C103="","Check: add event time",IF($D103="","Check: add child ID",IF($E103="","Check: add room",IF($F103="","Check: add observer",IF($G103="","Check: add event type",IF($H103="","Check: add context or activity",IF($I103="","Check: add objective description",IF($J103="","Check: add immediate response",IF($K103="","Check: add family contact status",IF(AND(OR($K103="Completed",$K103="Attempted"),$L103=""),"Check: add family contact date",IF(AND($L103<>"",$L103<$B103),"Check: family contact date",IF(AND($L103<>"",$L103>TODAY()),"Check: family contact date",IF($M103="","Check: add follow-up need",IF(AND($M103="Yes",$N103=""),"Check: add follow-up due date",IF(AND($N103<>"",$N103<$B103),"Check: follow-up due date",IF(AND($M103="No",OR($N103<>"",$O103<>"Not Needed")),"Check: follow-up fields",IF(AND($M103="Yes",$O103="Not Needed"),"Check: follow-up status",IF($O103="","Check: add follow-up status",IF($P103="","Check: add review status",IF(AND($P103="Closed",$Q103=""),"Check: add review date",IF(AND($Q103<>"",$Q103<$B103),"Check: review date",IF(AND($Q103<>"",$Q103>TODAY()),"Check: review date",IF(AND($Q103<>"",$P103<>"Closed"),"Check: review status",IF(AND($P103<>"Closed",$R103<>"",$R103<TODAY()),"Check: review is past target","OK"))))))))))))))))))))))))))))))

Sheet Assumptions
A1: Editable Assumptions and Entry Lists
A2: Yellow cells are editable. These settings support calculations and consistent entry; they are not policy, legal, or compliance determinations.
A4: Setting | B4: Editable Value | C4: Use in Workbook | E4: Room Choices | F4: Observer Choices | G4: Event Type Choices | H4: Family Contact Status | I4: Follow-Up Needed | J4: Follow-Up Status | K4: Review Status
A5: Reporting period start | B5: 46246 | C5: First event date included in Summary indicators. | E5: Seedling Room | F5: Fictional Staff A | G5: Peer conflict | H5: Not Needed | I5: Yes | J5: Not Needed | K5: Open
A6: Reporting period end | B6: 46276 | C6: Last event date included in Summary indicators. | E6: Sunbeam Room | F6: Fictional Staff B | G6: Transition difficulty | H6: Pending | I6: No | J6: Open | K6: In Review
A7: Review target days | B7: 3 | C7: Calendar days added to the event date for the review target. | E7: Meadow Room | F7: Fictional Staff C | G7: Unsafe movement | H7: Attempted | J7: Scheduled | K7: Closed
A8: Earliest event date | B8: 45911 | C8: Lower date limit for new event entries. | E8: Harbor Room | F8: Fictional Staff D | G8: Property disruption | H8: Completed | J8: Complete
A9: Future event allowance days | B9: 0 | C9: Days after today allowed for an event date. | G9: Verbal conflict
A10: Latest related date | B10: 46641 | C10: Upper limit for contact, follow-up, and review dates. | G10: Other observed behavior
