Workbook

Sheet Summary
A1: Daycare Emergency Contact Sheet — Summary
A3: Indicator | B3: Result
A4: Entered child records | B4: =COUNTIF('Emergency Contacts'!$A$5:$A$104,"?*")
A5: Active records | B5: =COUNTIFS('Emergency Contacts'!$A$5:$A$104,"?*",'Emergency Contacts'!$L$5:$L$104,"Active")
A6: Records meeting preferred contact count | B6: =COUNTIF('Emergency Contacts'!$M$5:$M$104,">="&Assumptions!$G$5)
A7: Records needing review | B7: =COUNTIF('Emergency Contacts'!$N$5:$N$104,"Review due")+COUNTIF('Emergency Contacts'!$N$5:$N$104,"Needs review date")+COUNTIF('Emergency Contacts'!$N$5:$N$104,"Check review inputs")
A8: Records needing a field check | B8: =COUNTIF('Emergency Contacts'!$O$5:$O$104,"Check*")+COUNTIF('Emergency Contacts'!$O$5:$O$104,"Add*")
A9: Preferred-contact coverage | B9: =IFERROR(B6/B4,"")
A10: Inactive records | B10: =COUNTIFS('Emergency Contacts'!$A$5:$A$104,"?*",'Emergency Contacts'!$L$5:$L$104,"Inactive")
A12: Room | B12: Entered Records | C12: Active Records
A13: =Assumptions!A4 | B13: =COUNTIF('Emergency Contacts'!$C$5:$C$104,$A13) | C13: =COUNTIFS('Emergency Contacts'!$C$5:$C$104,$A13,'Emergency Contacts'!$L$5:$L$104,"Active")
A14: =Assumptions!A5 | B14: =COUNTIF('Emergency Contacts'!$C$5:$C$104,$A14) | C14: =COUNTIFS('Emergency Contacts'!$C$5:$C$104,$A14,'Emergency Contacts'!$L$5:$L$104,"Active")
A15: =Assumptions!A6 | B15: =COUNTIF('Emergency Contacts'!$C$5:$C$104,$A15) | C15: =COUNTIFS('Emergency Contacts'!$C$5:$C$104,$A15,'Emergency Contacts'!$L$5:$L$104,"Active")
A16: =Assumptions!A7 | B16: =COUNTIF('Emergency Contacts'!$C$5:$C$104,$A16) | C16: =COUNTIFS('Emergency Contacts'!$C$5:$C$104,$A16,'Emergency Contacts'!$L$5:$L$104,"Active")
A17: =Assumptions!A8 | B17: =COUNTIF('Emergency Contacts'!$C$5:$C$104,$A17) | C17: =COUNTIFS('Emergency Contacts'!$C$5:$C$104,$A17,'Emergency Contacts'!$L$5:$L$104,"Active")

Sheet Emergency Contacts
A1: Daycare Emergency Contact Sheet
A2: Use this roster for quick contact reference. Pale-yellow cells are editable; calculated alerts request a human check.
A4: Child ID | B4: Child Display Name | C4: Room | D4: Primary Staff | E4: Contact 1 Name | F4: Contact 1 Relationship | G4: Contact 1 Phone | H4: Contact 2 Name | I4: Contact 2 Relationship | J4: Contact 2 Phone | K4: Last Reviewed | L4: Record Status | M4: Complete Contacts | N4: Review Status | O4: Record Check
A5: FIC-001 | B5: Fictional Child Aster-01 | C5: Infant Room | D5: Fictional Staff Atlas-01 | E5: Fictional Adult Comet-01 | F5: Parent / guardian | G5: (212) 555-0100 | H5: Fictional Adult Nova-01 | I5: Grandparent | J5: (212) 555-0101 | K5: 46244 | L5: Active | M5: =IF($A5="","",IF(AND($E5<>"",$F5<>"",$G5<>""),1,0)+IF(AND($H5<>"",$I5<>"",$J5<>""),1,0)) | N5: =IF($A5="","",IF($K5="","Needs review date",IFERROR(IF($K5<TODAY()-Assumptions!$G$4,"Review due","Current"),"Check review inputs"))) | O5: =IF($A5="","",IF(COUNTIF($A$5:$A$104,$A5)>1,"Check duplicate child ID",IF(OR($B5="",$C5="",$D5=""),"Check child details",IF($M5=0,"Add complete contact",IF(OR(AND(COUNTA($E5:$G5)>0,COUNTA($E5:$G5)<3),AND(COUNTA($H5:$J5)>0,COUNTA($H5:$J5)<3)),"Check incomplete contact",IF($L5="Inactive","Inactive record","No missing fields found"))))))
A6: FIC-002 | B6: Fictional Child Briar-02 | C6: Infant Room | D6: Fictional Staff Atlas-01 | E6: Fictional Adult Orbit-02 | F6: Parent / guardian | G6: (212) 555-0102 | K6: 46094 | L6: Active | M6: =IF($A6="","",IF(AND($E6<>"",$F6<>"",$G6<>""),1,0)+IF(AND($H6<>"",$I6<>"",$J6<>""),1,0)) | N6: =IF($A6="","",IF($K6="","Needs review date",IFERROR(IF($K6<TODAY()-Assumptions!$G$4,"Review due","Current"),"Check review inputs"))) | O6: =IF($A6="","",IF(COUNTIF($A$5:$A$104,$A6)>1,"Check duplicate child ID",IF(OR($B6="",$C6="",$D6=""),"Check child details",IF($M6=0,"Add complete contact",IF(OR(AND(COUNTA($E6:$G6)>0,COUNTA($E6:$G6)<3),AND(COUNTA($H6:$J6)>0,COUNTA($H6:$J6)<3)),"Check incomplete contact",IF($L6="Inactive","Inactive record","No missing fields found"))))))
A7: FIC-003 | B7: Fictional Child Clover-03 | C7: Toddler Room | D7: Fictional Staff Birch-01 | E7: Fictional Adult Quasar-03 | F7: Parent / guardian | G7: (212) 555-0103 | H7: Fictional Adult Rocket-03 | I7: Aunt / uncle | J7: (212) 555-0104 | K7: 46093 | L7: Active | M7: =IF($A7="","",IF(AND($E7<>"",$F7<>"",$G7<>""),1,0)+IF(AND($H7<>"",$I7<>"",$J7<>""),1,0)) | N7: =IF($A7="","",IF($K7="","Needs review date",IFERROR(IF($K7<TODAY()-Assumptions!$G$4,"Review due","Current"),"Check review inputs"))) | O7: =IF($A7="","",IF(COUNTIF($A$5:$A$104,$A7)>1,"Check duplicate child ID",IF(OR($B7="",$C7="",$D7=""),"Check child details",IF($M7=0,"Add complete contact",IF(OR(AND(COUNTA($E7:$G7)>0,COUNTA($E7:$G7)<3),AND(COUNTA($H7:$J7)>0,COUNTA($H7:$J7)<3)),"Check incomplete contact",IF($L7="Inactive","Inactive record","No missing fields found"))))))
A8: FIC-004 | B8: Fictional Child Dune-04 | C8: Toddler Room | D8: Fictional Staff Birch-01 | L8: Pending review | M8: =IF($A8="","",IF(AND($E8<>"",$F8<>"",$G8<>""),1,0)+IF(AND($H8<>"",$I8<>"",$J8<>""),1,0)) | N8: =IF($A8="","",IF($K8="","Needs review date",IFERROR(IF($K8<TODAY()-Assumptions!$G$4,"Review due","Current"),"Check review inputs"))) | O8: =IF($A8="","",IF(COUNTIF($A$5:$A$104,$A8)>1,"Check duplicate child ID",IF(OR($B8="",$C8="",$D8=""),"Check child details",IF($M8=0,"Add complete contact",IF(OR(AND(COUNTA($E8:$G8)>0,COUNTA($E8:$G8)<3),AND(COUNTA($H8:$J8)>0,COUNTA($H8:$J8)<3)),"Check incomplete contact",IF($L8="Inactive","Inactive record","No missing fields found"))))))
A9: FIC-005 | B9: Fictional Child Echo-05 | C9: Preschool Room A | D9: Fictional Staff Cedar-01 | E9: Fictional Adult Solstice-05 | F9: Parent / guardian | G9: (212) 555-0105 | H9: Fictional Adult Tinsel-05 | I9: Family friend | J9: (212) 555-0106 | K9: 46269 | L9: Active | M9: =IF($A9="","",IF(AND($E9<>"",$F9<>"",$G9<>""),1,0)+IF(AND($H9<>"",$I9<>"",$J9<>""),1,0)) | N9: =IF($A9="","",IF($K9="","Needs review date",IFERROR(IF($K9<TODAY()-Assumptions!$G$4,"Review due","Current"),"Check review inputs"))) | O9: =IF($A9="","",IF(COUNTIF($A$5:$A$104,$A9)>1,"Check duplicate child ID",IF(OR($B9="",$C9="",$D9=""),"Check child details",IF($M9=0,"Add complete contact",IF(OR(AND(COUNTA($E9:$G9)>0,COUNTA($E9:$G9)<3),AND(COUNTA($H9:$J9)>0,COUNTA($H9:$J9)<3)),"Check incomplete contact",IF($L9="Inactive","Inactive record","No missing fields found"))))))
A10: FIC-006 | B10: Fictional Child Fern-06 | C10: Preschool Room A | D10: Fictional Staff Cedar-01 | E10: Fictional Adult Umbra-06 | F10: Parent / guardian | G10: (212) 555-0107 | H10: Fictional Adult Vela-06 | I10: Grandparent | K10: 45909 | L10: Active | M10: =IF($A10="","",IF(AND($E10<>"",$F10<>"",$G10<>""),1,0)+IF(AND($H10<>"",$I10<>"",$J10<>""),1,0)) | N10: =IF($A10="","",IF($K10="","Needs review date",IFERROR(IF($K10<TODAY()-Assumptions!$G$4,"Review due","Current"),"Check review inputs"))) | O10: =IF($A10="","",IF(COUNTIF($A$5:$A$104,$A10)>1,"Check duplicate child ID",IF(OR($B10="",$C10="",$D10=""),"Check child details",IF($M10=0,"Add complete contact",IF(OR(AND(COUNTA($E10:$G10)>0,COUNTA($E10:$G10)<3),AND(COUNTA($H10:$J10)>0,COUNTA($H10:$J10)<3)),"Check incomplete contact",IF($L10="Inactive","Inactive record","No missing fields found"))))))
A11: FIC-007 | B11: Fictional Child Glimmer-07 | C11: Preschool Room B | D11: Fictional Staff Drift-01 | E11: Fictional Adult Whimsy-07 | F11: Parent / guardian | G11: (212) 555-0108 | H11: Fictional Adult Xeno-07 | I11: Other authorized adult | J11: (212) 555-0109 | K11: 46095 | L11: Active | M11: =IF($A11="","",IF(AND($E11<>"",$F11<>"",$G11<>""),1,0)+IF(AND($H11<>"",$I11<>"",$J11<>""),1,0)) | N11: =IF($A11="","",IF($K11="","Needs review date",IFERROR(IF($K11<TODAY()-Assumptions!$G$4,"Review due","Current"),"Check review inputs"))) | O11: =IF($A11="","",IF(COUNTIF($A$5:$A$104,$A11)>1,"Check duplicate child ID",IF(OR($B11="",$C11="",$D11=""),"Check child details",IF($M11=0,"Add complete contact",IF(OR(AND(COUNTA($E11:$G11)>0,COUNTA($E11:$G11)<3),AND(COUNTA($H11:$J11)>0,COUNTA($H11:$J11)<3)),"Check incomplete contact",IF($L11="Inactive","Inactive record","No missing fields found"))))))
A12: FIC-008 | B12: Fictional Child Harbor-08 | C12: Preschool Room B | D12: Fictional Staff Drift-01 | E12: Fictional Adult Yonder-08 | F12: Parent / guardian | G12: (212) 555-0110 | H12: Fictional Adult Zephyr-08 | I12: Grandparent | J12: (212) 555-0111 | K12: 46274 | L12: Active | M12: =IF($A12="","",IF(AND($E12<>"",$F12<>"",$G12<>""),1,0)+IF(AND($H12<>"",$I12<>"",$J12<>""),1,0)) | N12: =IF($A12="","",IF($K12="","Needs review date",IFERROR(IF($K12<TODAY()-Assumptions!$G$4,"Review due","Current"),"Check review inputs"))) | O12: =IF($A12="","",IF(COUNTIF($A$5:$A$104,$A12)>1,"Check duplicate child ID",IF(OR($B12="",$C12="",$D12=""),"Check child details",IF($M12=0,"Add complete contact",IF(OR(AND(COUNTA($E12:$G12)>0,COUNTA($E12:$G12)<3),AND(COUNTA($H12:$J12)>0,COUNTA($H12:$J12)<3)),"Check incomplete contact",IF($L12="Inactive","Inactive record","No missing fields found"))))))
A13: FIC-009 | B13: Fictional Child Indigo-09 | C13: Pre-K Room | D13: Fictional Staff Ember-01 | E13: Fictional Adult Aurora-09 | F13: Parent / guardian | G13: (212) 555-0112 | H13: Fictional Adult Beacon-09 | I13: Aunt / uncle | J13: (212) 555-0113 | K13: 46074 | L13: Inactive | M13: =IF($A13="","",IF(AND($E13<>"",$F13<>"",$G13<>""),1,0)+IF(AND($H13<>"",$I13<>"",$J13<>""),1,0)) | N13: =IF($A13="","",IF($K13="","Needs review date",IFERROR(IF($K13<TODAY()-Assumptions!$G$4,"Review due","Current"),"Check review inputs"))) | O13: =IF($A13="","",IF(COUNTIF($A$5:$A$104,$A13)>1,"Check duplicate child ID",IF(OR($B13="",$C13="",$D13=""),"Check child details",IF($M13=0,"Add complete contact",IF(OR(AND(COUNTA($E13:$G13)>0,COUNTA($E13:$G13)<3),AND(COUNTA($H13:$J13)>0,COUNTA($H13:$J13)<3)),"Check incomplete contact",IF($L13="Inactive","Inactive record","No missing fields found"))))))
A14: FIC-010 | B14: Fictional Child Juniper-10 | C14: Pre-K Room | E14: Fictional Adult Cipher-10 | F14: Parent / guardian | G14: (212) 555-0114 | K14: 46184 | L14: Pending review | M14: =IF($A14="","",IF(AND($E14<>"",$F14<>"",$G14<>""),1,0)+IF(AND($H14<>"",$I14<>"",$J14<>""),1,0)) | N14: =IF($A14="","",IF($K14="","Needs review date",IFERROR(IF($K14<TODAY()-Assumptions!$G$4,"Review due","Current"),"Check review inputs"))) | O14: =IF($A14="","",IF(COUNTIF($A$5:$A$104,$A14)>1,"Check duplicate child ID",IF(OR($B14="",$C14="",$D14=""),"Check child details",IF($M14=0,"Add complete contact",IF(OR(AND(COUNTA($E14:$G14)>0,COUNTA($E14:$G14)<3),AND(COUNTA($H14:$J14)>0,COUNTA($H14:$J14)<3)),"Check incomplete contact",IF($L14="Inactive","Inactive record","No missing fields found"))))))
M15: =IF($A15="","",IF(AND($E15<>"",$F15<>"",$G15<>""),1,0)+IF(AND($H15<>"",$I15<>"",$J15<>""),1,0)) | N15: =IF($A15="","",IF($K15="","Needs review date",IFERROR(IF($K15<TODAY()-Assumptions!$G$4,"Review due","Current"),"Check review inputs"))) | O15: =IF($A15="","",IF(COUNTIF($A$5:$A$104,$A15)>1,"Check duplicate child ID",IF(OR($B15="",$C15="",$D15=""),"Check child details",IF($M15=0,"Add complete contact",IF(OR(AND(COUNTA($E15:$G15)>0,COUNTA($E15:$G15)<3),AND(COUNTA($H15:$J15)>0,COUNTA($H15:$J15)<3)),"Check incomplete contact",IF($L15="Inactive","Inactive record","No missing fields found"))))))
M16: =IF($A16="","",IF(AND($E16<>"",$F16<>"",$G16<>""),1,0)+IF(AND($H16<>"",$I16<>"",$J16<>""),1,0)) | N16: =IF($A16="","",IF($K16="","Needs review date",IFERROR(IF($K16<TODAY()-Assumptions!$G$4,"Review due","Current"),"Check review inputs"))) | O16: =IF($A16="","",IF(COUNTIF($A$5:$A$104,$A16)>1,"Check duplicate child ID",IF(OR($B16="",$C16="",$D16=""),"Check child details",IF($M16=0,"Add complete contact",IF(OR(AND(COUNTA($E16:$G16)>0,COUNTA($E16:$G16)<3),AND(COUNTA($H16:$J16)>0,COUNTA($H16:$J16)<3)),"Check incomplete contact",IF($L16="Inactive","Inactive record","No missing fields found"))))))
M17: =IF($A17="","",IF(AND($E17<>"",$F17<>"",$G17<>""),1,0)+IF(AND($H17<>"",$I17<>"",$J17<>""),1,0)) | N17: =IF($A17="","",IF($K17="","Needs review date",IFERROR(IF($K17<TODAY()-Assumptions!$G$4,"Review due","Current"),"Check review inputs"))) | O17: =IF($A17="","",IF(COUNTIF($A$5:$A$104,$A17)>1,"Check duplicate child ID",IF(OR($B17="",$C17="",$D17=""),"Check child details",IF($M17=0,"Add complete contact",IF(OR(AND(COUNTA($E17:$G17)>0,COUNTA($E17:$G17)<3),AND(COUNTA($H17:$J17)>0,COUNTA($H17:$J17)<3)),"Check incomplete contact",IF($L17="Inactive","Inactive record","No missing fields found"))))))
M18: =IF($A18="","",IF(AND($E18<>"",$F18<>"",$G18<>""),1,0)+IF(AND($H18<>"",$I18<>"",$J18<>""),1,0)) | N18: =IF($A18="","",IF($K18="","Needs review date",IFERROR(IF($K18<TODAY()-Assumptions!$G$4,"Review due","Current"),"Check review inputs"))) | O18: =IF($A18="","",IF(COUNTIF($A$5:$A$104,$A18)>1,"Check duplicate child ID",IF(OR($B18="",$C18="",$D18=""),"Check child details",IF($M18=0,"Add complete contact",IF(OR(AND(COUNTA($E18:$G18)>0,COUNTA($E18:$G18)<3),AND(COUNTA($H18:$J18)>0,COUNTA($H18:$J18)<3)),"Check incomplete contact",IF($L18="Inactive","Inactive record","No missing fields found"))))))
M19: =IF($A19="","",IF(AND($E19<>"",$F19<>"",$G19<>""),1,0)+IF(AND($H19<>"",$I19<>"",$J19<>""),1,0)) | N19: =IF($A19="","",IF($K19="","Needs review date",IFERROR(IF($K19<TODAY()-Assumptions!$G$4,"Review due","Current"),"Check review inputs"))) | O19: =IF($A19="","",IF(COUNTIF($A$5:$A$104,$A19)>1,"Check duplicate child ID",IF(OR($B19="",$C19="",$D19=""),"Check child details",IF($M19=0,"Add complete contact",IF(OR(AND(COUNTA($E19:$G19)>0,COUNTA($E19:$G19)<3),AND(COUNTA($H19:$J19)>0,COUNTA($H19:$J19)<3)),"Check incomplete contact",IF($L19="Inactive","Inactive record","No missing fields found"))))))
M20: =IF($A20="","",IF(AND($E20<>"",$F20<>"",$G20<>""),1,0)+IF(AND($H20<>"",$I20<>"",$J20<>""),1,0)) | N20: =IF($A20="","",IF($K20="","Needs review date",IFERROR(IF($K20<TODAY()-Assumptions!$G$4,"Review due","Current"),"Check review inputs"))) | O20: =IF($A20="","",IF(COUNTIF($A$5:$A$104,$A20)>1,"Check duplicate child ID",IF(OR($B20="",$C20="",$D20=""),"Check child details",IF($M20=0,"Add complete contact",IF(OR(AND(COUNTA($E20:$G20)>0,COUNTA($E20:$G20)<3),AND(COUNTA($H20:$J20)>0,COUNTA($H20:$J20)<3)),"Check incomplete contact",IF($L20="Inactive","Inactive record","No missing fields found"))))))
M21: =IF($A21="","",IF(AND($E21<>"",$F21<>"",$G21<>""),1,0)+IF(AND($H21<>"",$I21<>"",$J21<>""),1,0)) | N21: =IF($A21="","",IF($K21="","Needs review date",IFERROR(IF($K21<TODAY()-Assumptions!$G$4,"Review due","Current"),"Check review inputs"))) | O21: =IF($A21="","",IF(COUNTIF($A$5:$A$104,$A21)>1,"Check duplicate child ID",IF(OR($B21="",$C21="",$D21=""),"Check child details",IF($M21=0,"Add complete contact",IF(OR(AND(COUNTA($E21:$G21)>0,COUNTA($E21:$G21)<3),AND(COUNTA($H21:$J21)>0,COUNTA($H21:$J21)<3)),"Check incomplete contact",IF($L21="Inactive","Inactive record","No missing fields found"))))))
M22: =IF($A22="","",IF(AND($E22<>"",$F22<>"",$G22<>""),1,0)+IF(AND($H22<>"",$I22<>"",$J22<>""),1,0)) | N22: =IF($A22="","",IF($K22="","Needs review date",IFERROR(IF($K22<TODAY()-Assumptions!$G$4,"Review due","Current"),"Check review inputs"))) | O22: =IF($A22="","",IF(COUNTIF($A$5:$A$104,$A22)>1,"Check duplicate child ID",IF(OR($B22="",$C22="",$D22=""),"Check child details",IF($M22=0,"Add complete contact",IF(OR(AND(COUNTA($E22:$G22)>0,COUNTA($E22:$G22)<3),AND(COUNTA($H22:$J22)>0,COUNTA($H22:$J22)<3)),"Check incomplete contact",IF($L22="Inactive","Inactive record","No missing fields found"))))))
M23: =IF($A23="","",IF(AND($E23<>"",$F23<>"",$G23<>""),1,0)+IF(AND($H23<>"",$I23<>"",$J23<>""),1,0)) | N23: =IF($A23="","",IF($K23="","Needs review date",IFERROR(IF($K23<TODAY()-Assumptions!$G$4,"Review due","Current"),"Check review inputs"))) | O23: =IF($A23="","",IF(COUNTIF($A$5:$A$104,$A23)>1,"Check duplicate child ID",IF(OR($B23="",$C23="",$D23=""),"Check child details",IF($M23=0,"Add complete contact",IF(OR(AND(COUNTA($E23:$G23)>0,COUNTA($E23:$G23)<3),AND(COUNTA($H23:$J23)>0,COUNTA($H23:$J23)<3)),"Check incomplete contact",IF($L23="Inactive","Inactive record","No missing fields found"))))))
M24: =IF($A24="","",IF(AND($E24<>"",$F24<>"",$G24<>""),1,0)+IF(AND($H24<>"",$I24<>"",$J24<>""),1,0)) | N24: =IF($A24="","",IF($K24="","Needs review date",IFERROR(IF($K24<TODAY()-Assumptions!$G$4,"Review due","Current"),"Check review inputs"))) | O24: =IF($A24="","",IF(COUNTIF($A$5:$A$104,$A24)>1,"Check duplicate child ID",IF(OR($B24="",$C24="",$D24=""),"Check child details",IF($M24=0,"Add complete contact",IF(OR(AND(COUNTA($E24:$G24)>0,COUNTA($E24:$G24)<3),AND(COUNTA($H24:$J24)>0,COUNTA($H24:$J24)<3)),"Check incomplete contact",IF($L24="Inactive","Inactive record","No missing fields found"))))))
M25: =IF($A25="","",IF(AND($E25<>"",$F25<>"",$G25<>""),1,0)+IF(AND($H25<>"",$I25<>"",$J25<>""),1,0)) | N25: =IF($A25="","",IF($K25="","Needs review date",IFERROR(IF($K25<TODAY()-Assumptions!$G$4,"Review due","Current"),"Check review inputs"))) | O25: =IF($A25="","",IF(COUNTIF($A$5:$A$104,$A25)>1,"Check duplicate child ID",IF(OR($B25="",$C25="",$D25=""),"Check child details",IF($M25=0,"Add complete contact",IF(OR(AND(COUNTA($E25:$G25)>0,COUNTA($E25:$G25)<3),AND(COUNTA($H25:$J25)>0,COUNTA($H25:$J25)<3)),"Check incomplete contact",IF($L25="Inactive","Inactive record","No missing fields found"))))))
M26: =IF($A26="","",IF(AND($E26<>"",$F26<>"",$G26<>""),1,0)+IF(AND($H26<>"",$I26<>"",$J26<>""),1,0)) | N26: =IF($A26="","",IF($K26="","Needs review date",IFERROR(IF($K26<TODAY()-Assumptions!$G$4,"Review due","Current"),"Check review inputs"))) | O26: =IF($A26="","",IF(COUNTIF($A$5:$A$104,$A26)>1,"Check duplicate child ID",IF(OR($B26="",$C26="",$D26=""),"Check child details",IF($M26=0,"Add complete contact",IF(OR(AND(COUNTA($E26:$G26)>0,COUNTA($E26:$G26)<3),AND(COUNTA($H26:$J26)>0,COUNTA($H26:$J26)<3)),"Check incomplete contact",IF($L26="Inactive","Inactive record","No missing fields found"))))))
... M104: =IF($A104="","",IF(AND($E104<>"",$F104<>"",$G104<>""),1,0)+IF(AND($H104<>"",$I104<>"",$J104<>""),1,0)) | N104: =IF($A104="","",IF($K104="","Needs review date",IFERROR(IF($K104<TODAY()-Assumptions!$G$4,"Review due","Current"),"Check review inputs"))) | O104: =IF($A104="","",IF(COUNTIF($A$5:$A$104,$A104)>1,"Check duplicate child ID",IF(OR($B104="",$C104="",$D104=""),"Check child details",IF($M104=0,"Add complete contact",IF(OR(AND(COUNTA($E104:$G104)>0,COUNTA($E104:$G104)<3),AND(COUNTA($H104:$J104)>0,COUNTA($H104:$J104)<3)),"Check incomplete contact",IF($L104="Inactive","Inactive record","No missing fields found"))))))

Sheet Assumptions
A1: Daycare Emergency Contact Sheet — Assumptions
A2: Edit the pale-yellow choices and limits to match center procedures. Reminder results are prompts for a human review.
A3: Room Choices | B3: Staff Choices | C3: Relationship Choices | D3: Record Status Choices | F3: Operational Setting | G3: Value | H3: Use
A4: Infant Room | B4: Fictional Staff Atlas-01 | C4: Parent / guardian | D4: Active | F4: Internal review reminder (days) | G4: 180 | H4: Creates a reminder for human review; confirm center policy.
A5: Toddler Room | B5: Fictional Staff Birch-01 | C5: Grandparent | D5: Pending review | F5: Preferred complete contacts per child | G5: 2 | H5: Used only for summary counts and does not set an outside requirement.
A6: Preschool Room A | B6: Fictional Staff Cedar-01 | C6: Aunt / uncle | D6: Inactive | F6: Earliest accepted review date | G6: 44449 | H6: Used only to validate dates entered on the contact roster.
A7: Preschool Room B | B7: Fictional Staff Drift-01 | C7: Family friend
A8: Pre-K Room | B8: Fictional Staff Ember-01 | C8: Other authorized adult
