Workbook

Sheet Summary
A1: Daycare Enrollment Summary
A2: As of Date | B2: =TODAY()
A4: Indicator | B4: Calculated Value | D4: Status | E4: Records
A5: Applications entered | B5: =COUNTIF(Enrollment!$A$5:$A$154,"<>") | D5: =Assumptions!E5 | E5: =IF(D5="","",COUNTIF(Enrollment!$H$5:$H$154,D5))
A6: Active pipeline | B6: =COUNTIF(Enrollment!$H$5:$H$154,Assumptions!$E$6)+COUNTIF(Enrollment!$H$5:$H$154,Assumptions!$E$7)+COUNTIF(Enrollment!$H$5:$H$154,Assumptions!$E$9) | D6: =Assumptions!E6 | E6: =IF(D6="","",COUNTIF(Enrollment!$H$5:$H$154,D6))
A7: Enrolled records | B7: =COUNTIF(Enrollment!$H$5:$H$154,Assumptions!$E$8) | D7: =Assumptions!E7 | E7: =IF(D7="","",COUNTIF(Enrollment!$H$5:$H$154,D7))
A8: Waitlisted records | B8: =COUNTIF(Enrollment!$H$5:$H$154,Assumptions!$E$9) | D8: =Assumptions!E8 | E8: =IF(D8="","",COUNTIF(Enrollment!$H$5:$H$154,D8))
A9: Confirmed starts in planning window | B9: =COUNTIFS(Enrollment!$H$5:$H$154,Assumptions!$E$8,Enrollment!$I$5:$I$154,">="&TODAY(),Enrollment!$I$5:$I$154,"<="&TODAY()+Assumptions!$N$9) | D9: =Assumptions!E9 | E9: =IF(D9="","",COUNTIF(Enrollment!$H$5:$H$154,D9))
A10: Records needing staff review | B10: =COUNTIFS(Enrollment!$A$5:$A$154,"<>",Enrollment!$R$5:$R$154,"<>Ready",Enrollment!$R$5:$R$154,"<>No action") | D10: =Assumptions!E10 | E10: =IF(D10="","",COUNTIF(Enrollment!$H$5:$H$154,D10))
A11: Outstanding onboarding steps | B11: =SUM(Enrollment!$P$5:$P$154)
A12: Overall planned occupancy | B12: =IFERROR(COUNTIF(Enrollment!$H$5:$H$154,Assumptions!$E$8)/SUM(Assumptions!$C$5:$C$10),"")
A15: Room | B15: Capacity | C15: Enrolled | D15: Open Seats | E15: Occupancy | F15: Capacity Review
A16: =Assumptions!A5 | B16: =Assumptions!C5 | C16: =IF(A16="","",COUNTIFS(Enrollment!$G$5:$G$154,A16,Enrollment!$H$5:$H$154,Assumptions!$E$8)) | D16: =IF(AND(ISNUMBER(B16),ISNUMBER(C16)),B16-C16,"") | E16: =IF(AND(ISNUMBER(B16),ISNUMBER(C16)),IFERROR(C16/B16,""),"") | F16: =IF(OR(B16="",C16=""),"",IF(C16>B16,"Review capacity","Within limit"))
A17: =Assumptions!A6 | B17: =Assumptions!C6 | C17: =IF(A17="","",COUNTIFS(Enrollment!$G$5:$G$154,A17,Enrollment!$H$5:$H$154,Assumptions!$E$8)) | D17: =IF(AND(ISNUMBER(B17),ISNUMBER(C17)),B17-C17,"") | E17: =IF(AND(ISNUMBER(B17),ISNUMBER(C17)),IFERROR(C17/B17,""),"") | F17: =IF(OR(B17="",C17=""),"",IF(C17>B17,"Review capacity","Within limit"))
A18: =Assumptions!A7 | B18: =Assumptions!C7 | C18: =IF(A18="","",COUNTIFS(Enrollment!$G$5:$G$154,A18,Enrollment!$H$5:$H$154,Assumptions!$E$8)) | D18: =IF(AND(ISNUMBER(B18),ISNUMBER(C18)),B18-C18,"") | E18: =IF(AND(ISNUMBER(B18),ISNUMBER(C18)),IFERROR(C18/B18,""),"") | F18: =IF(OR(B18="",C18=""),"",IF(C18>B18,"Review capacity","Within limit"))
A19: =Assumptions!A8 | B19: =Assumptions!C8 | C19: =IF(A19="","",COUNTIFS(Enrollment!$G$5:$G$154,A19,Enrollment!$H$5:$H$154,Assumptions!$E$8)) | D19: =IF(AND(ISNUMBER(B19),ISNUMBER(C19)),B19-C19,"") | E19: =IF(AND(ISNUMBER(B19),ISNUMBER(C19)),IFERROR(C19/B19,""),"") | F19: =IF(OR(B19="",C19=""),"",IF(C19>B19,"Review capacity","Within limit"))
A20: =Assumptions!A9 | B20: =Assumptions!C9 | C20: =IF(A20="","",COUNTIFS(Enrollment!$G$5:$G$154,A20,Enrollment!$H$5:$H$154,Assumptions!$E$8)) | D20: =IF(AND(ISNUMBER(B20),ISNUMBER(C20)),B20-C20,"") | E20: =IF(AND(ISNUMBER(B20),ISNUMBER(C20)),IFERROR(C20/B20,""),"") | F20: =IF(OR(B20="",C20=""),"",IF(C20>B20,"Review capacity","Within limit"))
A21: =Assumptions!A10 | B21: =Assumptions!C10 | C21: =IF(A21="","",COUNTIFS(Enrollment!$G$5:$G$154,A21,Enrollment!$H$5:$H$154,Assumptions!$E$8)) | D21: =IF(AND(ISNUMBER(B21),ISNUMBER(C21)),B21-C21,"") | E21: =IF(AND(ISNUMBER(B21),ISNUMBER(C21)),IFERROR(C21/B21,""),"") | F21: =IF(OR(B21="",C21=""),"",IF(C21>B21,"Review capacity","Within limit"))

Sheet Enrollment
A1: Daycare Enrollment Spreadsheet
A2: Enter applications in yellow cells. Formula columns identify records that need a human review.
A4: Application ID | B4: Child or Family Label | C4: Application Date | D4: Requested Start Date | E4: Program | F4: Schedule | G4: Assigned Room | H4: Enrollment Status | I4: Confirmed Start Date | J4: Enrollment Forms | K4: Emergency Contact Record | L4: Immunization Record | M4: Orientation | N4: Administrative Notes | O4: Last Reviewed | P4: Outstanding Step Count | Q4: Days to Start | R4: Review Alert | S4: Room and Program Check
A5: SAMPLE-001 | B5: Fictional Child A | C5: 46229 | D5: 46294 | E5: Preschool | F5: Full Week | H5: Applied | J5: Complete | K5: Pending | L5: Complete | M5: Pending | N5: Waiting for administrative record review. | O5: 46272 | P5: =IF($A5="","",COUNTIF($J5:$M5,Assumptions!$K$6)+COUNTBLANK($J5:$M5)) | Q5: =IF($A5="","",IFERROR(IF(ISNUMBER($I5),$I5-TODAY(),IF(ISNUMBER($D5),$D5-TODAY(),"")),"")) | R5: =IFERROR(IF($A5="","",IF(OR($B5="",$C5="",$D5="",$E5="",$F5="",$H5=""),"Check required fields",IF(OR(AND(ISNUMBER($D5),ISNUMBER($C5),$D5<$C5),AND(ISNUMBER($I5),ISNUMBER($C5),$I5<$C5)),"Check date order",IF($H5=Assumptions!$E$10,"No action",IF(AND($H5=Assumptions!$E$8,$G5=""),"Assign room",IF(AND($H5=Assumptions!$E$8,$I5=""),"Confirm start",IF(AND($H5=Assumptions!$E$9,$G5<>""),"Review room assignment",IF(OR($S5="Review program",$S5="Review room"),"Check room setup",IF(AND($P5>0,$Q5<>"",$Q5<=Assumptions!$N$10),"Onboarding due soon",IF($P5>0,"Onboarding check","Ready")))))))))),IF($A5="","","Check required fields")) | S5: =IF($A5="","",IF($G5="","Unassigned",IFERROR(IF(VLOOKUP($G5,Assumptions!$A$5:$B$10,2,FALSE)=$E5,"Match","Review program"),"Review room")))
A6: SAMPLE-002 | B6: Fictional Child B | C6: 46234 | D6: 46262 | E6: Toddlers | F6: Three Days | G6: Meadow Room | H6: Enrolled | I6: 46264 | J6: Complete | K6: Complete | L6: Complete | M6: Complete | N6: Start date confirmed. | O6: 46274 | P6: =IF($A6="","",COUNTIF($J6:$M6,Assumptions!$K$6)+COUNTBLANK($J6:$M6)) | Q6: =IF($A6="","",IFERROR(IF(ISNUMBER($I6),$I6-TODAY(),IF(ISNUMBER($D6),$D6-TODAY(),"")),"")) | R6: =IFERROR(IF($A6="","",IF(OR($B6="",$C6="",$D6="",$E6="",$F6="",$H6=""),"Check required fields",IF(OR(AND(ISNUMBER($D6),ISNUMBER($C6),$D6<$C6),AND(ISNUMBER($I6),ISNUMBER($C6),$I6<$C6)),"Check date order",IF($H6=Assumptions!$E$10,"No action",IF(AND($H6=Assumptions!$E$8,$G6=""),"Assign room",IF(AND($H6=Assumptions!$E$8,$I6=""),"Confirm start",IF(AND($H6=Assumptions!$E$9,$G6<>""),"Review room assignment",IF(OR($S6="Review program",$S6="Review room"),"Check room setup",IF(AND($P6>0,$Q6<>"",$Q6<=Assumptions!$N$10),"Onboarding due soon",IF($P6>0,"Onboarding check","Ready")))))))))),IF($A6="","","Check required fields")) | S6: =IF($A6="","",IF($G6="","Unassigned",IFERROR(IF(VLOOKUP($G6,Assumptions!$A$5:$B$10,2,FALSE)=$E6,"Match","Review program"),"Review room")))
A7: SAMPLE-003 | B7: Fictional Child C | C7: 46256 | D7: 46309 | E7: Infants | F7: Full Week | H7: Waitlisted | J7: Pending | K7: Pending | L7: Pending | M7: Pending | N7: Waiting for space review. | O7: 46271 | P7: =IF($A7="","",COUNTIF($J7:$M7,Assumptions!$K$6)+COUNTBLANK($J7:$M7)) | Q7: =IF($A7="","",IFERROR(IF(ISNUMBER($I7),$I7-TODAY(),IF(ISNUMBER($D7),$D7-TODAY(),"")),"")) | R7: =IFERROR(IF($A7="","",IF(OR($B7="",$C7="",$D7="",$E7="",$F7="",$H7=""),"Check required fields",IF(OR(AND(ISNUMBER($D7),ISNUMBER($C7),$D7<$C7),AND(ISNUMBER($I7),ISNUMBER($C7),$I7<$C7)),"Check date order",IF($H7=Assumptions!$E$10,"No action",IF(AND($H7=Assumptions!$E$8,$G7=""),"Assign room",IF(AND($H7=Assumptions!$E$8,$I7=""),"Confirm start",IF(AND($H7=Assumptions!$E$9,$G7<>""),"Review room assignment",IF(OR($S7="Review program",$S7="Review room"),"Check room setup",IF(AND($P7>0,$Q7<>"",$Q7<=Assumptions!$N$10),"Onboarding due soon",IF($P7>0,"Onboarding check","Ready")))))))))),IF($A7="","","Check required fields")) | S7: =IF($A7="","",IF($G7="","Unassigned",IFERROR(IF(VLOOKUP($G7,Assumptions!$A$5:$B$10,2,FALSE)=$E7,"Match","Review program"),"Review room")))
A8: SAMPLE-004 | B8: Fictional Child D | C8: 46253 | D8: 46289 | E8: Pre-K | F8: Full Week | G8: Orchard Room | H8: Offered | J8: Complete | K8: Complete | L8: Pending | M8: Pending | N8: Tentative room entry needs program review. | O8: 46273 | P8: =IF($A8="","",COUNTIF($J8:$M8,Assumptions!$K$6)+COUNTBLANK($J8:$M8)) | Q8: =IF($A8="","",IFERROR(IF(ISNUMBER($I8),$I8-TODAY(),IF(ISNUMBER($D8),$D8-TODAY(),"")),"")) | R8: =IFERROR(IF($A8="","",IF(OR($B8="",$C8="",$D8="",$E8="",$F8="",$H8=""),"Check required fields",IF(OR(AND(ISNUMBER($D8),ISNUMBER($C8),$D8<$C8),AND(ISNUMBER($I8),ISNUMBER($C8),$I8<$C8)),"Check date order",IF($H8=Assumptions!$E$10,"No action",IF(AND($H8=Assumptions!$E$8,$G8=""),"Assign room",IF(AND($H8=Assumptions!$E$8,$I8=""),"Confirm start",IF(AND($H8=Assumptions!$E$9,$G8<>""),"Review room assignment",IF(OR($S8="Review program",$S8="Review room"),"Check room setup",IF(AND($P8>0,$Q8<>"",$Q8<=Assumptions!$N$10),"Onboarding due soon",IF($P8>0,"Onboarding check","Ready")))))))))),IF($A8="","","Check required fields")) | S8: =IF($A8="","",IF($G8="","Unassigned",IFERROR(IF(VLOOKUP($G8,Assumptions!$A$5:$B$10,2,FALSE)=$E8,"Match","Review program"),"Review room")))
A9: SAMPLE-005 | B9: Fictional Child E | C9: 46244 | D9: 46288 | E9: Preschool | F9: Full Week | G9: Orchard Room | H9: Enrolled | I9: 46288 | J9: Complete | K9: Pending | L9: Complete | M9: Complete | N9: Emergency contact record is pending. | O9: 46274 | P9: =IF($A9="","",COUNTIF($J9:$M9,Assumptions!$K$6)+COUNTBLANK($J9:$M9)) | Q9: =IF($A9="","",IFERROR(IF(ISNUMBER($I9),$I9-TODAY(),IF(ISNUMBER($D9),$D9-TODAY(),"")),"")) | R9: =IFERROR(IF($A9="","",IF(OR($B9="",$C9="",$D9="",$E9="",$F9="",$H9=""),"Check required fields",IF(OR(AND(ISNUMBER($D9),ISNUMBER($C9),$D9<$C9),AND(ISNUMBER($I9),ISNUMBER($C9),$I9<$C9)),"Check date order",IF($H9=Assumptions!$E$10,"No action",IF(AND($H9=Assumptions!$E$8,$G9=""),"Assign room",IF(AND($H9=Assumptions!$E$8,$I9=""),"Confirm start",IF(AND($H9=Assumptions!$E$9,$G9<>""),"Review room assignment",IF(OR($S9="Review program",$S9="Review room"),"Check room setup",IF(AND($P9>0,$Q9<>"",$Q9<=Assumptions!$N$10),"Onboarding due soon",IF($P9>0,"Onboarding check","Ready")))))))))),IF($A9="","","Check required fields")) | S9: =IF($A9="","",IF($G9="","Unassigned",IFERROR(IF(VLOOKUP($G9,Assumptions!$A$5:$B$10,2,FALSE)=$E9,"Match","Review program"),"Review room")))
A10: SAMPLE-006 | B10: Fictional Child F | C10: 46262 | D10: 46334 | E10: School Age | F10: Before/After School | H10: Withdrawn | J10: Not Required | K10: Not Required | L10: Not Required | M10: Not Required | N10: Application withdrawn by the fictional family. | O10: 46270 | P10: =IF($A10="","",COUNTIF($J10:$M10,Assumptions!$K$6)+COUNTBLANK($J10:$M10)) | Q10: =IF($A10="","",IFERROR(IF(ISNUMBER($I10),$I10-TODAY(),IF(ISNUMBER($D10),$D10-TODAY(),"")),"")) | R10: =IFERROR(IF($A10="","",IF(OR($B10="",$C10="",$D10="",$E10="",$F10="",$H10=""),"Check required fields",IF(OR(AND(ISNUMBER($D10),ISNUMBER($C10),$D10<$C10),AND(ISNUMBER($I10),ISNUMBER($C10),$I10<$C10)),"Check date order",IF($H10=Assumptions!$E$10,"No action",IF(AND($H10=Assumptions!$E$8,$G10=""),"Assign room",IF(AND($H10=Assumptions!$E$8,$I10=""),"Confirm start",IF(AND($H10=Assumptions!$E$9,$G10<>""),"Review room assignment",IF(OR($S10="Review program",$S10="Review room"),"Check room setup",IF(AND($P10>0,$Q10<>"",$Q10<=Assumptions!$N$10),"Onboarding due soon",IF($P10>0,"Onboarding check","Ready")))))))))),IF($A10="","","Check required fields")) | S10: =IF($A10="","",IF($G10="","Unassigned",IFERROR(IF(VLOOKUP($G10,Assumptions!$A$5:$B$10,2,FALSE)=$E10,"Match","Review program"),"Review room")))
A11: SAMPLE-007 | B11: Fictional Child G | C11: 46269 | D11: 46364 | E11: Toddlers | F11: Two Days | H11: Inquiry | J11: Not Required | K11: Not Required | L11: Not Required | M11: Not Required | N11: Inquiry details entered for planning. | O11: 46273 | P11: =IF($A11="","",COUNTIF($J11:$M11,Assumptions!$K$6)+COUNTBLANK($J11:$M11)) | Q11: =IF($A11="","",IFERROR(IF(ISNUMBER($I11),$I11-TODAY(),IF(ISNUMBER($D11),$D11-TODAY(),"")),"")) | R11: =IFERROR(IF($A11="","",IF(OR($B11="",$C11="",$D11="",$E11="",$F11="",$H11=""),"Check required fields",IF(OR(AND(ISNUMBER($D11),ISNUMBER($C11),$D11<$C11),AND(ISNUMBER($I11),ISNUMBER($C11),$I11<$C11)),"Check date order",IF($H11=Assumptions!$E$10,"No action",IF(AND($H11=Assumptions!$E$8,$G11=""),"Assign room",IF(AND($H11=Assumptions!$E$8,$I11=""),"Confirm start",IF(AND($H11=Assumptions!$E$9,$G11<>""),"Review room assignment",IF(OR($S11="Review program",$S11="Review room"),"Check room setup",IF(AND($P11>0,$Q11<>"",$Q11<=Assumptions!$N$10),"Onboarding due soon",IF($P11>0,"Onboarding check","Ready")))))))))),IF($A11="","","Check required fields")) | S11: =IF($A11="","",IF($G11="","Unassigned",IFERROR(IF(VLOOKUP($G11,Assumptions!$A$5:$B$10,2,FALSE)=$E11,"Match","Review program"),"Review room")))
A12: SAMPLE-008 | B12: Fictional Child H | C12: 46249 | D12: 46274 | E12: Infants | F12: Full Week | G12: Sprout Room | H12: Enrolled | I12: 46274 | J12: Complete | K12: Complete | L12: Complete | M12: Complete | N12: Onboarding entries are complete. | O12: 46274 | P12: =IF($A12="","",COUNTIF($J12:$M12,Assumptions!$K$6)+COUNTBLANK($J12:$M12)) | Q12: =IF($A12="","",IFERROR(IF(ISNUMBER($I12),$I12-TODAY(),IF(ISNUMBER($D12),$D12-TODAY(),"")),"")) | R12: =IFERROR(IF($A12="","",IF(OR($B12="",$C12="",$D12="",$E12="",$F12="",$H12=""),"Check required fields",IF(OR(AND(ISNUMBER($D12),ISNUMBER($C12),$D12<$C12),AND(ISNUMBER($I12),ISNUMBER($C12),$I12<$C12)),"Check date order",IF($H12=Assumptions!$E$10,"No action",IF(AND($H12=Assumptions!$E$8,$G12=""),"Assign room",IF(AND($H12=Assumptions!$E$8,$I12=""),"Confirm start",IF(AND($H12=Assumptions!$E$9,$G12<>""),"Review room assignment",IF(OR($S12="Review program",$S12="Review room"),"Check room setup",IF(AND($P12>0,$Q12<>"",$Q12<=Assumptions!$N$10),"Onboarding due soon",IF($P12>0,"Onboarding check","Ready")))))))))),IF($A12="","","Check required fields")) | S12: =IF($A12="","",IF($G12="","Unassigned",IFERROR(IF(VLOOKUP($G12,Assumptions!$A$5:$B$10,2,FALSE)=$E12,"Match","Review program"),"Review room")))
A13: SAMPLE-009 | B13: Fictional Child I | C13: 46265 | D13: 46319 | E13: School Age | F13: Before/After School | H13: Applied | J13: Pending | K13: Pending | L13: Pending | M13: Pending | N13: Application is awaiting onboarding entries. | O13: 46272 | P13: =IF($A13="","",COUNTIF($J13:$M13,Assumptions!$K$6)+COUNTBLANK($J13:$M13)) | Q13: =IF($A13="","",IFERROR(IF(ISNUMBER($I13),$I13-TODAY(),IF(ISNUMBER($D13),$D13-TODAY(),"")),"")) | R13: =IFERROR(IF($A13="","",IF(OR($B13="",$C13="",$D13="",$E13="",$F13="",$H13=""),"Check required fields",IF(OR(AND(ISNUMBER($D13),ISNUMBER($C13),$D13<$C13),AND(ISNUMBER($I13),ISNUMBER($C13),$I13<$C13)),"Check date order",IF($H13=Assumptions!$E$10,"No action",IF(AND($H13=Assumptions!$E$8,$G13=""),"Assign room",IF(AND($H13=Assumptions!$E$8,$I13=""),"Confirm start",IF(AND($H13=Assumptions!$E$9,$G13<>""),"Review room assignment",IF(OR($S13="Review program",$S13="Review room"),"Check room setup",IF(AND($P13>0,$Q13<>"",$Q13<=Assumptions!$N$10),"Onboarding due soon",IF($P13>0,"Onboarding check","Ready")))))))))),IF($A13="","","Check required fields")) | S13: =IF($A13="","",IF($G13="","Unassigned",IFERROR(IF(VLOOKUP($G13,Assumptions!$A$5:$B$10,2,FALSE)=$E13,"Match","Review program"),"Review room")))
A14: SAMPLE-010 | B14: Fictional Child J | C14: 46260 | D14: 46299 | E14: Preschool | F14: Three Days | G14: Sunroom | H14: Waitlisted | J14: Pending | K14: Pending | L14: Pending | M14: Pending | N14: Room entry requires review while waitlisted. | O14: 46273 | P14: =IF($A14="","",COUNTIF($J14:$M14,Assumptions!$K$6)+COUNTBLANK($J14:$M14)) | Q14: =IF($A14="","",IFERROR(IF(ISNUMBER($I14),$I14-TODAY(),IF(ISNUMBER($D14),$D14-TODAY(),"")),"")) | R14: =IFERROR(IF($A14="","",IF(OR($B14="",$C14="",$D14="",$E14="",$F14="",$H14=""),"Check required fields",IF(OR(AND(ISNUMBER($D14),ISNUMBER($C14),$D14<$C14),AND(ISNUMBER($I14),ISNUMBER($C14),$I14<$C14)),"Check date order",IF($H14=Assumptions!$E$10,"No action",IF(AND($H14=Assumptions!$E$8,$G14=""),"Assign room",IF(AND($H14=Assumptions!$E$8,$I14=""),"Confirm start",IF(AND($H14=Assumptions!$E$9,$G14<>""),"Review room assignment",IF(OR($S14="Review program",$S14="Review room"),"Check room setup",IF(AND($P14>0,$Q14<>"",$Q14<=Assumptions!$N$10),"Onboarding due soon",IF($P14>0,"Onboarding check","Ready")))))))))),IF($A14="","","Check required fields")) | S14: =IF($A14="","",IF($G14="","Unassigned",IFERROR(IF(VLOOKUP($G14,Assumptions!$A$5:$B$10,2,FALSE)=$E14,"Match","Review program"),"Review room")))
P15: =IF($A15="","",COUNTIF($J15:$M15,Assumptions!$K$6)+COUNTBLANK($J15:$M15)) | Q15: =IF($A15="","",IFERROR(IF(ISNUMBER($I15),$I15-TODAY(),IF(ISNUMBER($D15),$D15-TODAY(),"")),"")) | R15: =IFERROR(IF($A15="","",IF(OR($B15="",$C15="",$D15="",$E15="",$F15="",$H15=""),"Check required fields",IF(OR(AND(ISNUMBER($D15),ISNUMBER($C15),$D15<$C15),AND(ISNUMBER($I15),ISNUMBER($C15),$I15<$C15)),"Check date order",IF($H15=Assumptions!$E$10,"No action",IF(AND($H15=Assumptions!$E$8,$G15=""),"Assign room",IF(AND($H15=Assumptions!$E$8,$I15=""),"Confirm start",IF(AND($H15=Assumptions!$E$9,$G15<>""),"Review room assignment",IF(OR($S15="Review program",$S15="Review room"),"Check room setup",IF(AND($P15>0,$Q15<>"",$Q15<=Assumptions!$N$10),"Onboarding due soon",IF($P15>0,"Onboarding check","Ready")))))))))),IF($A15="","","Check required fields")) | S15: =IF($A15="","",IF($G15="","Unassigned",IFERROR(IF(VLOOKUP($G15,Assumptions!$A$5:$B$10,2,FALSE)=$E15,"Match","Review program"),"Review room")))
P16: =IF($A16="","",COUNTIF($J16:$M16,Assumptions!$K$6)+COUNTBLANK($J16:$M16)) | Q16: =IF($A16="","",IFERROR(IF(ISNUMBER($I16),$I16-TODAY(),IF(ISNUMBER($D16),$D16-TODAY(),"")),"")) | R16: =IFERROR(IF($A16="","",IF(OR($B16="",$C16="",$D16="",$E16="",$F16="",$H16=""),"Check required fields",IF(OR(AND(ISNUMBER($D16),ISNUMBER($C16),$D16<$C16),AND(ISNUMBER($I16),ISNUMBER($C16),$I16<$C16)),"Check date order",IF($H16=Assumptions!$E$10,"No action",IF(AND($H16=Assumptions!$E$8,$G16=""),"Assign room",IF(AND($H16=Assumptions!$E$8,$I16=""),"Confirm start",IF(AND($H16=Assumptions!$E$9,$G16<>""),"Review room assignment",IF(OR($S16="Review program",$S16="Review room"),"Check room setup",IF(AND($P16>0,$Q16<>"",$Q16<=Assumptions!$N$10),"Onboarding due soon",IF($P16>0,"Onboarding check","Ready")))))))))),IF($A16="","","Check required fields")) | S16: =IF($A16="","",IF($G16="","Unassigned",IFERROR(IF(VLOOKUP($G16,Assumptions!$A$5:$B$10,2,FALSE)=$E16,"Match","Review program"),"Review room")))
P17: =IF($A17="","",COUNTIF($J17:$M17,Assumptions!$K$6)+COUNTBLANK($J17:$M17)) | Q17: =IF($A17="","",IFERROR(IF(ISNUMBER($I17),$I17-TODAY(),IF(ISNUMBER($D17),$D17-TODAY(),"")),"")) | R17: =IFERROR(IF($A17="","",IF(OR($B17="",$C17="",$D17="",$E17="",$F17="",$H17=""),"Check required fields",IF(OR(AND(ISNUMBER($D17),ISNUMBER($C17),$D17<$C17),AND(ISNUMBER($I17),ISNUMBER($C17),$I17<$C17)),"Check date order",IF($H17=Assumptions!$E$10,"No action",IF(AND($H17=Assumptions!$E$8,$G17=""),"Assign room",IF(AND($H17=Assumptions!$E$8,$I17=""),"Confirm start",IF(AND($H17=Assumptions!$E$9,$G17<>""),"Review room assignment",IF(OR($S17="Review program",$S17="Review room"),"Check room setup",IF(AND($P17>0,$Q17<>"",$Q17<=Assumptions!$N$10),"Onboarding due soon",IF($P17>0,"Onboarding check","Ready")))))))))),IF($A17="","","Check required fields")) | S17: =IF($A17="","",IF($G17="","Unassigned",IFERROR(IF(VLOOKUP($G17,Assumptions!$A$5:$B$10,2,FALSE)=$E17,"Match","Review program"),"Review room")))
P18: =IF($A18="","",COUNTIF($J18:$M18,Assumptions!$K$6)+COUNTBLANK($J18:$M18)) | Q18: =IF($A18="","",IFERROR(IF(ISNUMBER($I18),$I18-TODAY(),IF(ISNUMBER($D18),$D18-TODAY(),"")),"")) | R18: =IFERROR(IF($A18="","",IF(OR($B18="",$C18="",$D18="",$E18="",$F18="",$H18=""),"Check required fields",IF(OR(AND(ISNUMBER($D18),ISNUMBER($C18),$D18<$C18),AND(ISNUMBER($I18),ISNUMBER($C18),$I18<$C18)),"Check date order",IF($H18=Assumptions!$E$10,"No action",IF(AND($H18=Assumptions!$E$8,$G18=""),"Assign room",IF(AND($H18=Assumptions!$E$8,$I18=""),"Confirm start",IF(AND($H18=Assumptions!$E$9,$G18<>""),"Review room assignment",IF(OR($S18="Review program",$S18="Review room"),"Check room setup",IF(AND($P18>0,$Q18<>"",$Q18<=Assumptions!$N$10),"Onboarding due soon",IF($P18>0,"Onboarding check","Ready")))))))))),IF($A18="","","Check required fields")) | S18: =IF($A18="","",IF($G18="","Unassigned",IFERROR(IF(VLOOKUP($G18,Assumptions!$A$5:$B$10,2,FALSE)=$E18,"Match","Review program"),"Review room")))
P19: =IF($A19="","",COUNTIF($J19:$M19,Assumptions!$K$6)+COUNTBLANK($J19:$M19)) | Q19: =IF($A19="","",IFERROR(IF(ISNUMBER($I19),$I19-TODAY(),IF(ISNUMBER($D19),$D19-TODAY(),"")),"")) | R19: =IFERROR(IF($A19="","",IF(OR($B19="",$C19="",$D19="",$E19="",$F19="",$H19=""),"Check required fields",IF(OR(AND(ISNUMBER($D19),ISNUMBER($C19),$D19<$C19),AND(ISNUMBER($I19),ISNUMBER($C19),$I19<$C19)),"Check date order",IF($H19=Assumptions!$E$10,"No action",IF(AND($H19=Assumptions!$E$8,$G19=""),"Assign room",IF(AND($H19=Assumptions!$E$8,$I19=""),"Confirm start",IF(AND($H19=Assumptions!$E$9,$G19<>""),"Review room assignment",IF(OR($S19="Review program",$S19="Review room"),"Check room setup",IF(AND($P19>0,$Q19<>"",$Q19<=Assumptions!$N$10),"Onboarding due soon",IF($P19>0,"Onboarding check","Ready")))))))))),IF($A19="","","Check required fields")) | S19: =IF($A19="","",IF($G19="","Unassigned",IFERROR(IF(VLOOKUP($G19,Assumptions!$A$5:$B$10,2,FALSE)=$E19,"Match","Review program"),"Review room")))
P20: =IF($A20="","",COUNTIF($J20:$M20,Assumptions!$K$6)+COUNTBLANK($J20:$M20)) | Q20: =IF($A20="","",IFERROR(IF(ISNUMBER($I20),$I20-TODAY(),IF(ISNUMBER($D20),$D20-TODAY(),"")),"")) | R20: =IFERROR(IF($A20="","",IF(OR($B20="",$C20="",$D20="",$E20="",$F20="",$H20=""),"Check required fields",IF(OR(AND(ISNUMBER($D20),ISNUMBER($C20),$D20<$C20),AND(ISNUMBER($I20),ISNUMBER($C20),$I20<$C20)),"Check date order",IF($H20=Assumptions!$E$10,"No action",IF(AND($H20=Assumptions!$E$8,$G20=""),"Assign room",IF(AND($H20=Assumptions!$E$8,$I20=""),"Confirm start",IF(AND($H20=Assumptions!$E$9,$G20<>""),"Review room assignment",IF(OR($S20="Review program",$S20="Review room"),"Check room setup",IF(AND($P20>0,$Q20<>"",$Q20<=Assumptions!$N$10),"Onboarding due soon",IF($P20>0,"Onboarding check","Ready")))))))))),IF($A20="","","Check required fields")) | S20: =IF($A20="","",IF($G20="","Unassigned",IFERROR(IF(VLOOKUP($G20,Assumptions!$A$5:$B$10,2,FALSE)=$E20,"Match","Review program"),"Review room")))
P21: =IF($A21="","",COUNTIF($J21:$M21,Assumptions!$K$6)+COUNTBLANK($J21:$M21)) | Q21: =IF($A21="","",IFERROR(IF(ISNUMBER($I21),$I21-TODAY(),IF(ISNUMBER($D21),$D21-TODAY(),"")),"")) | R21: =IFERROR(IF($A21="","",IF(OR($B21="",$C21="",$D21="",$E21="",$F21="",$H21=""),"Check required fields",IF(OR(AND(ISNUMBER($D21),ISNUMBER($C21),$D21<$C21),AND(ISNUMBER($I21),ISNUMBER($C21),$I21<$C21)),"Check date order",IF($H21=Assumptions!$E$10,"No action",IF(AND($H21=Assumptions!$E$8,$G21=""),"Assign room",IF(AND($H21=Assumptions!$E$8,$I21=""),"Confirm start",IF(AND($H21=Assumptions!$E$9,$G21<>""),"Review room assignment",IF(OR($S21="Review program",$S21="Review room"),"Check room setup",IF(AND($P21>0,$Q21<>"",$Q21<=Assumptions!$N$10),"Onboarding due soon",IF($P21>0,"Onboarding check","Ready")))))))))),IF($A21="","","Check required fields")) | S21: =IF($A21="","",IF($G21="","Unassigned",IFERROR(IF(VLOOKUP($G21,Assumptions!$A$5:$B$10,2,FALSE)=$E21,"Match","Review program"),"Review room")))
P22: =IF($A22="","",COUNTIF($J22:$M22,Assumptions!$K$6)+COUNTBLANK($J22:$M22)) | Q22: =IF($A22="","",IFERROR(IF(ISNUMBER($I22),$I22-TODAY(),IF(ISNUMBER($D22),$D22-TODAY(),"")),"")) | R22: =IFERROR(IF($A22="","",IF(OR($B22="",$C22="",$D22="",$E22="",$F22="",$H22=""),"Check required fields",IF(OR(AND(ISNUMBER($D22),ISNUMBER($C22),$D22<$C22),AND(ISNUMBER($I22),ISNUMBER($C22),$I22<$C22)),"Check date order",IF($H22=Assumptions!$E$10,"No action",IF(AND($H22=Assumptions!$E$8,$G22=""),"Assign room",IF(AND($H22=Assumptions!$E$8,$I22=""),"Confirm start",IF(AND($H22=Assumptions!$E$9,$G22<>""),"Review room assignment",IF(OR($S22="Review program",$S22="Review room"),"Check room setup",IF(AND($P22>0,$Q22<>"",$Q22<=Assumptions!$N$10),"Onboarding due soon",IF($P22>0,"Onboarding check","Ready")))))))))),IF($A22="","","Check required fields")) | S22: =IF($A22="","",IF($G22="","Unassigned",IFERROR(IF(VLOOKUP($G22,Assumptions!$A$5:$B$10,2,FALSE)=$E22,"Match","Review program"),"Review room")))
P23: =IF($A23="","",COUNTIF($J23:$M23,Assumptions!$K$6)+COUNTBLANK($J23:$M23)) | Q23: =IF($A23="","",IFERROR(IF(ISNUMBER($I23),$I23-TODAY(),IF(ISNUMBER($D23),$D23-TODAY(),"")),"")) | R23: =IFERROR(IF($A23="","",IF(OR($B23="",$C23="",$D23="",$E23="",$F23="",$H23=""),"Check required fields",IF(OR(AND(ISNUMBER($D23),ISNUMBER($C23),$D23<$C23),AND(ISNUMBER($I23),ISNUMBER($C23),$I23<$C23)),"Check date order",IF($H23=Assumptions!$E$10,"No action",IF(AND($H23=Assumptions!$E$8,$G23=""),"Assign room",IF(AND($H23=Assumptions!$E$8,$I23=""),"Confirm start",IF(AND($H23=Assumptions!$E$9,$G23<>""),"Review room assignment",IF(OR($S23="Review program",$S23="Review room"),"Check room setup",IF(AND($P23>0,$Q23<>"",$Q23<=Assumptions!$N$10),"Onboarding due soon",IF($P23>0,"Onboarding check","Ready")))))))))),IF($A23="","","Check required fields")) | S23: =IF($A23="","",IF($G23="","Unassigned",IFERROR(IF(VLOOKUP($G23,Assumptions!$A$5:$B$10,2,FALSE)=$E23,"Match","Review program"),"Review room")))
P24: =IF($A24="","",COUNTIF($J24:$M24,Assumptions!$K$6)+COUNTBLANK($J24:$M24)) | Q24: =IF($A24="","",IFERROR(IF(ISNUMBER($I24),$I24-TODAY(),IF(ISNUMBER($D24),$D24-TODAY(),"")),"")) | R24: =IFERROR(IF($A24="","",IF(OR($B24="",$C24="",$D24="",$E24="",$F24="",$H24=""),"Check required fields",IF(OR(AND(ISNUMBER($D24),ISNUMBER($C24),$D24<$C24),AND(ISNUMBER($I24),ISNUMBER($C24),$I24<$C24)),"Check date order",IF($H24=Assumptions!$E$10,"No action",IF(AND($H24=Assumptions!$E$8,$G24=""),"Assign room",IF(AND($H24=Assumptions!$E$8,$I24=""),"Confirm start",IF(AND($H24=Assumptions!$E$9,$G24<>""),"Review room assignment",IF(OR($S24="Review program",$S24="Review room"),"Check room setup",IF(AND($P24>0,$Q24<>"",$Q24<=Assumptions!$N$10),"Onboarding due soon",IF($P24>0,"Onboarding check","Ready")))))))))),IF($A24="","","Check required fields")) | S24: =IF($A24="","",IF($G24="","Unassigned",IFERROR(IF(VLOOKUP($G24,Assumptions!$A$5:$B$10,2,FALSE)=$E24,"Match","Review program"),"Review room")))
P25: =IF($A25="","",COUNTIF($J25:$M25,Assumptions!$K$6)+COUNTBLANK($J25:$M25)) | Q25: =IF($A25="","",IFERROR(IF(ISNUMBER($I25),$I25-TODAY(),IF(ISNUMBER($D25),$D25-TODAY(),"")),"")) | R25: =IFERROR(IF($A25="","",IF(OR($B25="",$C25="",$D25="",$E25="",$F25="",$H25=""),"Check required fields",IF(OR(AND(ISNUMBER($D25),ISNUMBER($C25),$D25<$C25),AND(ISNUMBER($I25),ISNUMBER($C25),$I25<$C25)),"Check date order",IF($H25=Assumptions!$E$10,"No action",IF(AND($H25=Assumptions!$E$8,$G25=""),"Assign room",IF(AND($H25=Assumptions!$E$8,$I25=""),"Confirm start",IF(AND($H25=Assumptions!$E$9,$G25<>""),"Review room assignment",IF(OR($S25="Review program",$S25="Review room"),"Check room setup",IF(AND($P25>0,$Q25<>"",$Q25<=Assumptions!$N$10),"Onboarding due soon",IF($P25>0,"Onboarding check","Ready")))))))))),IF($A25="","","Check required fields")) | S25: =IF($A25="","",IF($G25="","Unassigned",IFERROR(IF(VLOOKUP($G25,Assumptions!$A$5:$B$10,2,FALSE)=$E25,"Match","Review program"),"Review room")))
P26: =IF($A26="","",COUNTIF($J26:$M26,Assumptions!$K$6)+COUNTBLANK($J26:$M26)) | Q26: =IF($A26="","",IFERROR(IF(ISNUMBER($I26),$I26-TODAY(),IF(ISNUMBER($D26),$D26-TODAY(),"")),"")) | R26: =IFERROR(IF($A26="","",IF(OR($B26="",$C26="",$D26="",$E26="",$F26="",$H26=""),"Check required fields",IF(OR(AND(ISNUMBER($D26),ISNUMBER($C26),$D26<$C26),AND(ISNUMBER($I26),ISNUMBER($C26),$I26<$C26)),"Check date order",IF($H26=Assumptions!$E$10,"No action",IF(AND($H26=Assumptions!$E$8,$G26=""),"Assign room",IF(AND($H26=Assumptions!$E$8,$I26=""),"Confirm start",IF(AND($H26=Assumptions!$E$9,$G26<>""),"Review room assignment",IF(OR($S26="Review program",$S26="Review room"),"Check room setup",IF(AND($P26>0,$Q26<>"",$Q26<=Assumptions!$N$10),"Onboarding due soon",IF($P26>0,"Onboarding check","Ready")))))))))),IF($A26="","","Check required fields")) | S26: =IF($A26="","",IF($G26="","Unassigned",IFERROR(IF(VLOOKUP($G26,Assumptions!$A$5:$B$10,2,FALSE)=$E26,"Match","Review program"),"Review room")))
... P154: =IF($A154="","",COUNTIF($J154:$M154,Assumptions!$K$6)+COUNTBLANK($J154:$M154)) | Q154: =IF($A154="","",IFERROR(IF(ISNUMBER($I154),$I154-TODAY(),IF(ISNUMBER($D154),$D154-TODAY(),"")),"")) | R154: =IFERROR(IF($A154="","",IF(OR($B154="",$C154="",$D154="",$E154="",$F154="",$H154=""),"Check required fields",IF(OR(AND(ISNUMBER($D154),ISNUMBER($C154),$D154<$C154),AND(ISNUMBER($I154),ISNUMBER($C154),$I154<$C154)),"Check date order",IF($H154=Assumptions!$E$10,"No action",IF(AND($H154=Assumptions!$E$8,$G154=""),"Assign room",IF(AND($H154=Assumptions!$E$8,$I154=""),"Confirm start",IF(AND($H154=Assumptions!$E$9,$G154<>""),"Review room assignment",IF(OR($S154="Review program",$S154="Review room"),"Check room setup",IF(AND($P154>0,$Q154<>"",$Q154<=Assumptions!$N$10),"Onboarding due soon",IF($P154>0,"Onboarding check","Ready")))))))))),IF($A154="","","Check required fields")) | S154: =IF($A154="","",IF($G154="","Unassigned",IFERROR(IF(VLOOKUP($G154,Assumptions!$A$5:$B$10,2,FALSE)=$E154,"Match","Review program"),"Review room")))

Sheet Assumptions
A1: Enrollment Assumptions and Lists
A2: Edit yellow cells to match the center's internal planning choices. Review room limits and dates before using workbook indicators.
A3: Editable Rooms and Limits | E3: Enrollment Statuses | G3: Programs | I3: Schedules | K3: Onboarding Step Statuses | M3: Editable Entry Limits
A4: Room | B4: Program | C4: Capacity | E4: Status | G4: Program | I4: Schedule | K4: Step Status | M4: Assumption | N4: Value
A5: Sprout Room | B5: Infants | C5: 8 | E5: Inquiry | G5: Infants | I5: Full Week | K5: Complete | M5: Earliest accepted entry date | N5: 45909
A6: Meadow Room | B6: Toddlers | C6: 10 | E6: Applied | G6: Toddlers | I6: Three Days | K6: Pending | M6: Latest accepted entry date | N6: 47004
A7: Orchard Room | B7: Preschool | C7: 16 | E7: Offered | G7: Preschool | I7: Two Days | K7: Not Required | M7: Minimum room capacity | N7: 0
A8: Harbor Room | B8: Pre-K | C8: 18 | E8: Enrolled | G8: Pre-K | I8: Before/After School | M8: Maximum room capacity | N8: 30
A9: Trail Room | B9: School Age | C9: 30 | E9: Waitlisted | G9: School Age | M9: Upcoming start window in days | N9: 30
A10: Sunroom | B10: Preschool | C10: 14 | E10: Withdrawn | M10: Onboarding due-soon threshold in days | N10: 14
