Workbook

Sheet Summary
A1: Family Contact Directory Summary
A2: As of | B2: =TODAY() | D2: Counts reflect entered rows only; alerts prompt a human check.
A3: Directory Indicator | B3: Value
A4: Populated contact rows | B4: =COUNTIF('Family Directory'!$A$5:$A$124,"<>")
A5: Active contact rows | B5: =COUNTIFS('Family Directory'!$A$5:$A$124,"<>",'Family Directory'!$L$5:$L$124,"Active")
A6: Active primary contact rows | B6: =COUNTIFS('Family Directory'!$A$5:$A$124,"<>",'Family Directory'!$G$5:$G$124,"Yes",'Family Directory'!$L$5:$L$124,"Active")
A7: Review due | B7: =COUNTIF('Family Directory'!$O$5:$O$124,"Review due")
A8: Missing or incomplete details | B8: =COUNTIF('Family Directory'!$O$5:$O$124,"Check*")+COUNTIF('Family Directory'!$O$5:$O$124,"Choose*")+COUNTIF('Family Directory'!$O$5:$O$124,"Verify date")
A9: Ready | B9: =COUNTIF('Family Directory'!$O$5:$O$124,"Ready")
A12: Preferred Channel | B12: Active Rows
A13: Phone Call | B13: =COUNTIFS('Family Directory'!$J$5:$J$124,"Phone Call",'Family Directory'!$L$5:$L$124,"Active")
A14: Text Message | B14: =COUNTIFS('Family Directory'!$J$5:$J$124,"Text Message",'Family Directory'!$L$5:$L$124,"Active")
A15: Email | B15: =COUNTIFS('Family Directory'!$J$5:$J$124,"Email",'Family Directory'!$L$5:$L$124,"Active")
A16: Not Selected | B16: =COUNTIFS('Family Directory'!$A$5:$A$124,"<>",'Family Directory'!$J$5:$J$124,"",'Family Directory'!$L$5:$L$124,"Active")

Sheet Family Directory
A1: Daycare Family Contact Directory
A2: Yellow cells are editable. Directory Check results are prompts for staff review based only on entered information.
A4: Household ID | B4: Child Record ID | C4: Child Display Name | D4: Room | E4: Contact Name | F4: Relationship | G4: Primary Contact | H4: Phone | I4: Email | J4: Preferred Channel | K4: Preferred Language | L4: Status | M4: Last Verified | N4: Days Since Verified | O4: Directory Check | P4: Contact Notes
A5: HH-FIC-001 | B5: CH-FIC-001 | C5: Sample Child A | D5: Toddler Room | E5: Fictional Guardian A1 | F5: Parent/Guardian | G5: Yes | H5: (202) 555-0101 | I5: guardian.a1@example.com | J5: Text Message | K5: English | L5: Active | M5: 46244 | N5: =IF(OR(A5="",M5=""),"",IFERROR(MAX(0,TODAY()-M5),"")) | O5: =IF(A5="","",IFERROR(IF(L5="","Choose status",IF(OR(B5="",C5="",D5="",E5="",F5="",K5=""),"Check required fields",IF(L5="Inactive","Inactive",IF(L5="Needs Review","Review due",IF(G5="","Check primary flag",IF(COUNTIFS($A$5:$A$124,A5,$G$5:$G$124,"Yes",$L$5:$L$124,"Active")<>1,"Check primary count",IF(J5="","Choose channel",IF(OR(AND(OR(J5="Phone Call",J5="Text Message"),H5=""),AND(J5="Email",I5="")),"Check contact detail",IF(M5="","Verify date",IF(N5>Assumptions!$J$5,"Review due","Ready")))))))))),"Check entry")) | P5: Weekday contact.
A6: HH-FIC-001 | B6: CH-FIC-001 | C6: Sample Child A | D6: Toddler Room | E6: Fictional Guardian A2 | F6: Emergency Contact | G6: No | H6: (202) 555-0102 | I6: guardian.a2@example.com | J6: Phone Call | K6: English | L6: Active | M6: 45874 | N6: =IF(OR(A6="",M6=""),"",IFERROR(MAX(0,TODAY()-M6),"")) | O6: =IF(A6="","",IFERROR(IF(L6="","Choose status",IF(OR(B6="",C6="",D6="",E6="",F6="",K6=""),"Check required fields",IF(L6="Inactive","Inactive",IF(L6="Needs Review","Review due",IF(G6="","Check primary flag",IF(COUNTIFS($A$5:$A$124,A6,$G$5:$G$124,"Yes",$L$5:$L$124,"Active")<>1,"Check primary count",IF(J6="","Choose channel",IF(OR(AND(OR(J6="Phone Call",J6="Text Message"),H6=""),AND(J6="Email",I6="")),"Check contact detail",IF(M6="","Verify date",IF(N6>Assumptions!$J$5,"Review due","Ready")))))))))),"Check entry")) | P6: Alternate contact.
A7: HH-FIC-002 | B7: CH-FIC-002 | C7: Sample Child B | D7: Infant Room | E7: Fictional Guardian B1 | F7: Parent/Guardian | G7: Yes | H7: (202) 555-0103 | J7: Email | K7: Spanish | L7: Active | M7: 46254 | N7: =IF(OR(A7="",M7=""),"",IFERROR(MAX(0,TODAY()-M7),"")) | O7: =IF(A7="","",IFERROR(IF(L7="","Choose status",IF(OR(B7="",C7="",D7="",E7="",F7="",K7=""),"Check required fields",IF(L7="Inactive","Inactive",IF(L7="Needs Review","Review due",IF(G7="","Check primary flag",IF(COUNTIFS($A$5:$A$124,A7,$G$5:$G$124,"Yes",$L$5:$L$124,"Active")<>1,"Check primary count",IF(J7="","Choose channel",IF(OR(AND(OR(J7="Phone Call",J7="Text Message"),H7=""),AND(J7="Email",I7="")),"Check contact detail",IF(M7="","Verify date",IF(N7>Assumptions!$J$5,"Review due","Ready")))))))))),"Check entry")) | P7: Email detail needs review.
A8: HH-FIC-003 | B8: CH-FIC-003 | C8: Sample Child C | D8: Preschool Room | E8: Fictional Guardian C1 | F8: Parent/Guardian | H8: (202) 555-0104 | I8: guardian.c1@example.com | J8: Email | K8: English | L8: Active | M8: 46224 | N8: =IF(OR(A8="",M8=""),"",IFERROR(MAX(0,TODAY()-M8),"")) | O8: =IF(A8="","",IFERROR(IF(L8="","Choose status",IF(OR(B8="",C8="",D8="",E8="",F8="",K8=""),"Check required fields",IF(L8="Inactive","Inactive",IF(L8="Needs Review","Review due",IF(G8="","Check primary flag",IF(COUNTIFS($A$5:$A$124,A8,$G$5:$G$124,"Yes",$L$5:$L$124,"Active")<>1,"Check primary count",IF(J8="","Choose channel",IF(OR(AND(OR(J8="Phone Call",J8="Text Message"),H8=""),AND(J8="Email",I8="")),"Check contact detail",IF(M8="","Verify date",IF(N8>Assumptions!$J$5,"Review due","Ready")))))))))),"Check entry")) | P8: Primary flag needs review.
A9: HH-FIC-003 | B9: CH-FIC-003 | C9: Sample Child C | D9: Preschool Room | E9: Fictional Guardian C2 | F9: Family Contact | G9: No | H9: (202) 555-0105 | I9: guardian.c2@example.com | J9: Text Message | K9: English | L9: Active | M9: 46264 | N9: =IF(OR(A9="",M9=""),"",IFERROR(MAX(0,TODAY()-M9),"")) | O9: =IF(A9="","",IFERROR(IF(L9="","Choose status",IF(OR(B9="",C9="",D9="",E9="",F9="",K9=""),"Check required fields",IF(L9="Inactive","Inactive",IF(L9="Needs Review","Review due",IF(G9="","Check primary flag",IF(COUNTIFS($A$5:$A$124,A9,$G$5:$G$124,"Yes",$L$5:$L$124,"Active")<>1,"Check primary count",IF(J9="","Choose channel",IF(OR(AND(OR(J9="Phone Call",J9="Text Message"),H9=""),AND(J9="Email",I9="")),"Check contact detail",IF(M9="","Verify date",IF(N9>Assumptions!$J$5,"Review due","Ready")))))))))),"Check entry")) | P9: Household link example.
A10: HH-FIC-004 | B10: CH-FIC-004 | C10: Sample Child D | D10: Pre-K Room | E10: Fictional Guardian D1 | F10: Parent/Guardian | G10: Yes | H10: (202) 555-0106 | I10: guardian.d1@example.com | J10: Phone Call | K10: ASL | L10: Inactive | M10: 45474 | N10: =IF(OR(A10="",M10=""),"",IFERROR(MAX(0,TODAY()-M10),"")) | O10: =IF(A10="","",IFERROR(IF(L10="","Choose status",IF(OR(B10="",C10="",D10="",E10="",F10="",K10=""),"Check required fields",IF(L10="Inactive","Inactive",IF(L10="Needs Review","Review due",IF(G10="","Check primary flag",IF(COUNTIFS($A$5:$A$124,A10,$G$5:$G$124,"Yes",$L$5:$L$124,"Active")<>1,"Check primary count",IF(J10="","Choose channel",IF(OR(AND(OR(J10="Phone Call",J10="Text Message"),H10=""),AND(J10="Email",I10="")),"Check contact detail",IF(M10="","Verify date",IF(N10>Assumptions!$J$5,"Review due","Ready")))))))))),"Check entry")) | P10: Inactive fictional example.
A11: HH-FIC-005 | B11: CH-FIC-005 | C11: Sample Child E | D11: School-Age Room | E11: Fictional Guardian E1 | F11: Parent/Guardian | G11: Yes | H11: (202) 555-0107 | I11: guardian.e1@example.com | J11: Email | K11: English | L11: Active | M11: 45774 | N11: =IF(OR(A11="",M11=""),"",IFERROR(MAX(0,TODAY()-M11),"")) | O11: =IF(A11="","",IFERROR(IF(L11="","Choose status",IF(OR(B11="",C11="",D11="",E11="",F11="",K11=""),"Check required fields",IF(L11="Inactive","Inactive",IF(L11="Needs Review","Review due",IF(G11="","Check primary flag",IF(COUNTIFS($A$5:$A$124,A11,$G$5:$G$124,"Yes",$L$5:$L$124,"Active")<>1,"Check primary count",IF(J11="","Choose channel",IF(OR(AND(OR(J11="Phone Call",J11="Text Message"),H11=""),AND(J11="Email",I11="")),"Check contact detail",IF(M11="","Verify date",IF(N11>Assumptions!$J$5,"Review due","Ready")))))))))),"Check entry")) | P11: Review interval example.
A12: HH-FIC-005 | B12: CH-FIC-005 | C12: Sample Child E | D12: School-Age Room | E12: Fictional Guardian E2 | F12: Emergency Contact | G12: No | H12: (202) 555-0108 | I12: guardian.e2@example.com | J12: Phone Call | K12: English | L12: Active | N12: =IF(OR(A12="",M12=""),"",IFERROR(MAX(0,TODAY()-M12),"")) | O12: =IF(A12="","",IFERROR(IF(L12="","Choose status",IF(OR(B12="",C12="",D12="",E12="",F12="",K12=""),"Check required fields",IF(L12="Inactive","Inactive",IF(L12="Needs Review","Review due",IF(G12="","Check primary flag",IF(COUNTIFS($A$5:$A$124,A12,$G$5:$G$124,"Yes",$L$5:$L$124,"Active")<>1,"Check primary count",IF(J12="","Choose channel",IF(OR(AND(OR(J12="Phone Call",J12="Text Message"),H12=""),AND(J12="Email",I12="")),"Check contact detail",IF(M12="","Verify date",IF(N12>Assumptions!$J$5,"Review due","Ready")))))))))),"Check entry")) | P12: Verification date is blank.
A13: HH-FIC-006 | B13: CH-FIC-006 | C13: Sample Child F | D13: Toddler Room | E13: Fictional Guardian F1 | F13: Parent/Guardian | G13: Yes | H13: (202) 555-0109 | I13: guardian.f1@example.com | J13: Text Message | K13: Other | L13: Needs Review | M13: 46174 | N13: =IF(OR(A13="",M13=""),"",IFERROR(MAX(0,TODAY()-M13),"")) | O13: =IF(A13="","",IFERROR(IF(L13="","Choose status",IF(OR(B13="",C13="",D13="",E13="",F13="",K13=""),"Check required fields",IF(L13="Inactive","Inactive",IF(L13="Needs Review","Review due",IF(G13="","Check primary flag",IF(COUNTIFS($A$5:$A$124,A13,$G$5:$G$124,"Yes",$L$5:$L$124,"Active")<>1,"Check primary count",IF(J13="","Choose channel",IF(OR(AND(OR(J13="Phone Call",J13="Text Message"),H13=""),AND(J13="Email",I13="")),"Check contact detail",IF(M13="","Verify date",IF(N13>Assumptions!$J$5,"Review due","Ready")))))))))),"Check entry")) | P13: Status prompts staff review.
A14: HH-FIC-007 | B14: CH-FIC-007 | C14: Sample Child G | D14: Preschool Room | E14: Fictional Guardian G1 | F14: Parent/Guardian | G14: Yes | H14: (202) 555-0110 | I14: guardian.g1@example.com | J14: Email | K14: Spanish | L14: Active | M14: 45909 | N14: =IF(OR(A14="",M14=""),"",IFERROR(MAX(0,TODAY()-M14),"")) | O14: =IF(A14="","",IFERROR(IF(L14="","Choose status",IF(OR(B14="",C14="",D14="",E14="",F14="",K14=""),"Check required fields",IF(L14="Inactive","Inactive",IF(L14="Needs Review","Review due",IF(G14="","Check primary flag",IF(COUNTIFS($A$5:$A$124,A14,$G$5:$G$124,"Yes",$L$5:$L$124,"Active")<>1,"Check primary count",IF(J14="","Choose channel",IF(OR(AND(OR(J14="Phone Call",J14="Text Message"),H14=""),AND(J14="Email",I14="")),"Check contact detail",IF(M14="","Verify date",IF(N14>Assumptions!$J$5,"Review due","Ready")))))))))),"Check entry")) | P14: Review interval boundary example.
N15: =IF(OR(A15="",M15=""),"",IFERROR(MAX(0,TODAY()-M15),"")) | O15: =IF(A15="","",IFERROR(IF(L15="","Choose status",IF(OR(B15="",C15="",D15="",E15="",F15="",K15=""),"Check required fields",IF(L15="Inactive","Inactive",IF(L15="Needs Review","Review due",IF(G15="","Check primary flag",IF(COUNTIFS($A$5:$A$124,A15,$G$5:$G$124,"Yes",$L$5:$L$124,"Active")<>1,"Check primary count",IF(J15="","Choose channel",IF(OR(AND(OR(J15="Phone Call",J15="Text Message"),H15=""),AND(J15="Email",I15="")),"Check contact detail",IF(M15="","Verify date",IF(N15>Assumptions!$J$5,"Review due","Ready")))))))))),"Check entry"))
N16: =IF(OR(A16="",M16=""),"",IFERROR(MAX(0,TODAY()-M16),"")) | O16: =IF(A16="","",IFERROR(IF(L16="","Choose status",IF(OR(B16="",C16="",D16="",E16="",F16="",K16=""),"Check required fields",IF(L16="Inactive","Inactive",IF(L16="Needs Review","Review due",IF(G16="","Check primary flag",IF(COUNTIFS($A$5:$A$124,A16,$G$5:$G$124,"Yes",$L$5:$L$124,"Active")<>1,"Check primary count",IF(J16="","Choose channel",IF(OR(AND(OR(J16="Phone Call",J16="Text Message"),H16=""),AND(J16="Email",I16="")),"Check contact detail",IF(M16="","Verify date",IF(N16>Assumptions!$J$5,"Review due","Ready")))))))))),"Check entry"))
N17: =IF(OR(A17="",M17=""),"",IFERROR(MAX(0,TODAY()-M17),"")) | O17: =IF(A17="","",IFERROR(IF(L17="","Choose status",IF(OR(B17="",C17="",D17="",E17="",F17="",K17=""),"Check required fields",IF(L17="Inactive","Inactive",IF(L17="Needs Review","Review due",IF(G17="","Check primary flag",IF(COUNTIFS($A$5:$A$124,A17,$G$5:$G$124,"Yes",$L$5:$L$124,"Active")<>1,"Check primary count",IF(J17="","Choose channel",IF(OR(AND(OR(J17="Phone Call",J17="Text Message"),H17=""),AND(J17="Email",I17="")),"Check contact detail",IF(M17="","Verify date",IF(N17>Assumptions!$J$5,"Review due","Ready")))))))))),"Check entry"))
N18: =IF(OR(A18="",M18=""),"",IFERROR(MAX(0,TODAY()-M18),"")) | O18: =IF(A18="","",IFERROR(IF(L18="","Choose status",IF(OR(B18="",C18="",D18="",E18="",F18="",K18=""),"Check required fields",IF(L18="Inactive","Inactive",IF(L18="Needs Review","Review due",IF(G18="","Check primary flag",IF(COUNTIFS($A$5:$A$124,A18,$G$5:$G$124,"Yes",$L$5:$L$124,"Active")<>1,"Check primary count",IF(J18="","Choose channel",IF(OR(AND(OR(J18="Phone Call",J18="Text Message"),H18=""),AND(J18="Email",I18="")),"Check contact detail",IF(M18="","Verify date",IF(N18>Assumptions!$J$5,"Review due","Ready")))))))))),"Check entry"))
N19: =IF(OR(A19="",M19=""),"",IFERROR(MAX(0,TODAY()-M19),"")) | O19: =IF(A19="","",IFERROR(IF(L19="","Choose status",IF(OR(B19="",C19="",D19="",E19="",F19="",K19=""),"Check required fields",IF(L19="Inactive","Inactive",IF(L19="Needs Review","Review due",IF(G19="","Check primary flag",IF(COUNTIFS($A$5:$A$124,A19,$G$5:$G$124,"Yes",$L$5:$L$124,"Active")<>1,"Check primary count",IF(J19="","Choose channel",IF(OR(AND(OR(J19="Phone Call",J19="Text Message"),H19=""),AND(J19="Email",I19="")),"Check contact detail",IF(M19="","Verify date",IF(N19>Assumptions!$J$5,"Review due","Ready")))))))))),"Check entry"))
N20: =IF(OR(A20="",M20=""),"",IFERROR(MAX(0,TODAY()-M20),"")) | O20: =IF(A20="","",IFERROR(IF(L20="","Choose status",IF(OR(B20="",C20="",D20="",E20="",F20="",K20=""),"Check required fields",IF(L20="Inactive","Inactive",IF(L20="Needs Review","Review due",IF(G20="","Check primary flag",IF(COUNTIFS($A$5:$A$124,A20,$G$5:$G$124,"Yes",$L$5:$L$124,"Active")<>1,"Check primary count",IF(J20="","Choose channel",IF(OR(AND(OR(J20="Phone Call",J20="Text Message"),H20=""),AND(J20="Email",I20="")),"Check contact detail",IF(M20="","Verify date",IF(N20>Assumptions!$J$5,"Review due","Ready")))))))))),"Check entry"))
N21: =IF(OR(A21="",M21=""),"",IFERROR(MAX(0,TODAY()-M21),"")) | O21: =IF(A21="","",IFERROR(IF(L21="","Choose status",IF(OR(B21="",C21="",D21="",E21="",F21="",K21=""),"Check required fields",IF(L21="Inactive","Inactive",IF(L21="Needs Review","Review due",IF(G21="","Check primary flag",IF(COUNTIFS($A$5:$A$124,A21,$G$5:$G$124,"Yes",$L$5:$L$124,"Active")<>1,"Check primary count",IF(J21="","Choose channel",IF(OR(AND(OR(J21="Phone Call",J21="Text Message"),H21=""),AND(J21="Email",I21="")),"Check contact detail",IF(M21="","Verify date",IF(N21>Assumptions!$J$5,"Review due","Ready")))))))))),"Check entry"))
N22: =IF(OR(A22="",M22=""),"",IFERROR(MAX(0,TODAY()-M22),"")) | O22: =IF(A22="","",IFERROR(IF(L22="","Choose status",IF(OR(B22="",C22="",D22="",E22="",F22="",K22=""),"Check required fields",IF(L22="Inactive","Inactive",IF(L22="Needs Review","Review due",IF(G22="","Check primary flag",IF(COUNTIFS($A$5:$A$124,A22,$G$5:$G$124,"Yes",$L$5:$L$124,"Active")<>1,"Check primary count",IF(J22="","Choose channel",IF(OR(AND(OR(J22="Phone Call",J22="Text Message"),H22=""),AND(J22="Email",I22="")),"Check contact detail",IF(M22="","Verify date",IF(N22>Assumptions!$J$5,"Review due","Ready")))))))))),"Check entry"))
N23: =IF(OR(A23="",M23=""),"",IFERROR(MAX(0,TODAY()-M23),"")) | O23: =IF(A23="","",IFERROR(IF(L23="","Choose status",IF(OR(B23="",C23="",D23="",E23="",F23="",K23=""),"Check required fields",IF(L23="Inactive","Inactive",IF(L23="Needs Review","Review due",IF(G23="","Check primary flag",IF(COUNTIFS($A$5:$A$124,A23,$G$5:$G$124,"Yes",$L$5:$L$124,"Active")<>1,"Check primary count",IF(J23="","Choose channel",IF(OR(AND(OR(J23="Phone Call",J23="Text Message"),H23=""),AND(J23="Email",I23="")),"Check contact detail",IF(M23="","Verify date",IF(N23>Assumptions!$J$5,"Review due","Ready")))))))))),"Check entry"))
N24: =IF(OR(A24="",M24=""),"",IFERROR(MAX(0,TODAY()-M24),"")) | O24: =IF(A24="","",IFERROR(IF(L24="","Choose status",IF(OR(B24="",C24="",D24="",E24="",F24="",K24=""),"Check required fields",IF(L24="Inactive","Inactive",IF(L24="Needs Review","Review due",IF(G24="","Check primary flag",IF(COUNTIFS($A$5:$A$124,A24,$G$5:$G$124,"Yes",$L$5:$L$124,"Active")<>1,"Check primary count",IF(J24="","Choose channel",IF(OR(AND(OR(J24="Phone Call",J24="Text Message"),H24=""),AND(J24="Email",I24="")),"Check contact detail",IF(M24="","Verify date",IF(N24>Assumptions!$J$5,"Review due","Ready")))))))))),"Check entry"))
N25: =IF(OR(A25="",M25=""),"",IFERROR(MAX(0,TODAY()-M25),"")) | O25: =IF(A25="","",IFERROR(IF(L25="","Choose status",IF(OR(B25="",C25="",D25="",E25="",F25="",K25=""),"Check required fields",IF(L25="Inactive","Inactive",IF(L25="Needs Review","Review due",IF(G25="","Check primary flag",IF(COUNTIFS($A$5:$A$124,A25,$G$5:$G$124,"Yes",$L$5:$L$124,"Active")<>1,"Check primary count",IF(J25="","Choose channel",IF(OR(AND(OR(J25="Phone Call",J25="Text Message"),H25=""),AND(J25="Email",I25="")),"Check contact detail",IF(M25="","Verify date",IF(N25>Assumptions!$J$5,"Review due","Ready")))))))))),"Check entry"))
N26: =IF(OR(A26="",M26=""),"",IFERROR(MAX(0,TODAY()-M26),"")) | O26: =IF(A26="","",IFERROR(IF(L26="","Choose status",IF(OR(B26="",C26="",D26="",E26="",F26="",K26=""),"Check required fields",IF(L26="Inactive","Inactive",IF(L26="Needs Review","Review due",IF(G26="","Check primary flag",IF(COUNTIFS($A$5:$A$124,A26,$G$5:$G$124,"Yes",$L$5:$L$124,"Active")<>1,"Check primary count",IF(J26="","Choose channel",IF(OR(AND(OR(J26="Phone Call",J26="Text Message"),H26=""),AND(J26="Email",I26="")),"Check contact detail",IF(M26="","Verify date",IF(N26>Assumptions!$J$5,"Review due","Ready")))))))))),"Check entry"))
... N124: =IF(OR(A124="",M124=""),"",IFERROR(MAX(0,TODAY()-M124),"")) | O124: =IF(A124="","",IFERROR(IF(L124="","Choose status",IF(OR(B124="",C124="",D124="",E124="",F124="",K124=""),"Check required fields",IF(L124="Inactive","Inactive",IF(L124="Needs Review","Review due",IF(G124="","Check primary flag",IF(COUNTIFS($A$5:$A$124,A124,$G$5:$G$124,"Yes",$L$5:$L$124,"Active")<>1,"Check primary count",IF(J124="","Choose channel",IF(OR(AND(OR(J124="Phone Call",J124="Text Message"),H124=""),AND(J124="Email",I124="")),"Check contact detail",IF(M124="","Verify date",IF(N124>Assumptions!$J$5,"Review due","Ready")))))))))),"Check entry"))

Sheet Assumptions
A1: Directory Lists and Review Settings
A2: Edit the yellow cells carefully. Directory dropdowns use these lists, and review dates are staff prompts only.
A4: Rooms | B4: Relationships | C4: Preferred Channels | D4: Preferred Languages | E4: Contact Statuses | F4: Yes / No | I4: Parameter | J4: Editable Value
A5: Infant Room | B5: Parent/Guardian | C5: Phone Call | D5: English | E5: Active | F5: Yes | I5: Review interval in days | J5: 365
A6: Toddler Room | B6: Emergency Contact | C6: Text Message | D6: Spanish | E6: Inactive | F6: No | I6: Earliest verification date | J6: 43831
A7: Preschool Room | B7: Family Contact | C7: Email | D7: ASL | E7: Needs Review | I7: Minimum review interval | J7: 1
A8: Pre-K Room | B8: Other Contact | D8: Other | I8: Maximum review interval | J8: 730
A9: School-Age Room
