Workbook

Sheet Summary
A1: Daycare Medication Authorization Tracker
A2: Administrative indicators from entered records. All examples are fictional; this workbook provides no dosage or treatment guidance.
A3: As-of Date | B3: =IFERROR(IF(ISNUMBER(Assumptions!$B$5),Assumptions!$B$5,""),"")
A5: Indicator | B5: Count
A6: Total Records | B6: =IFERROR(COUNTIF(Authorizations!$A$5:$A$104,"<>"),0)
A7: Current | B7: =IFERROR(COUNTIF(Authorizations!$K$5:$K$104,"Current"),0)
A8: Expiring Soon | B8: =IFERROR(COUNTIF(Authorizations!$K$5:$K$104,"Expiring Soon"),0)
A9: Expired | B9: =IFERROR(COUNTIF(Authorizations!$K$5:$K$104,"Expired"),0)
A10: Missing Records | B10: =IFERROR(COUNTIF(Authorizations!$K$5:$K$104,"Missing Authorization")+COUNTIF(Authorizations!$K$5:$K$104,"Missing Instructions"),0)
A11: Item Not on Site | B11: =IFERROR(COUNTIF(Authorizations!$K$5:$K$104,"Item Not On Site"),0)
A12: Not Yet Active | B12: =IFERROR(COUNTIF(Authorizations!$K$5:$K$104,"Not Yet Active"),0)
A13: Incomplete or Date Check | B13: =IFERROR(COUNTIF(Authorizations!$K$5:$K$104,"Incomplete")+COUNTIF(Authorizations!$K$5:$K$104,"Check Dates")+COUNTIF(Authorizations!$K$5:$K$104,"Check Entry"),0)
A14: Needs Human Check | B14: =IFERROR(COUNTIFS(Authorizations!$A$5:$A$104,"<>",Authorizations!$K$5:$K$104,"<>Current"),0)
A17: Room | B17: Records | C17: Current | D17: Expiring | E17: Needs Human Check
A18: =IFERROR(IF(Assumptions!D5="","",Assumptions!D5),"") | B18: =IF($A18="","",IFERROR(COUNTIFS(Authorizations!$C$5:$C$104,$A18,Authorizations!$A$5:$A$104,"<>"),0)) | C18: =IF($A18="","",IFERROR(COUNTIFS(Authorizations!$C$5:$C$104,$A18,Authorizations!$K$5:$K$104,"Current"),0)) | D18: =IF($A18="","",IFERROR(COUNTIFS(Authorizations!$C$5:$C$104,$A18,Authorizations!$K$5:$K$104,"Expiring Soon"),0)) | E18: =IF($A18="","",IFERROR(COUNTIFS(Authorizations!$C$5:$C$104,$A18,Authorizations!$A$5:$A$104,"<>",Authorizations!$K$5:$K$104,"<>Current"),0))
A19: =IFERROR(IF(Assumptions!D6="","",Assumptions!D6),"") | B19: =IF($A19="","",IFERROR(COUNTIFS(Authorizations!$C$5:$C$104,$A19,Authorizations!$A$5:$A$104,"<>"),0)) | C19: =IF($A19="","",IFERROR(COUNTIFS(Authorizations!$C$5:$C$104,$A19,Authorizations!$K$5:$K$104,"Current"),0)) | D19: =IF($A19="","",IFERROR(COUNTIFS(Authorizations!$C$5:$C$104,$A19,Authorizations!$K$5:$K$104,"Expiring Soon"),0)) | E19: =IF($A19="","",IFERROR(COUNTIFS(Authorizations!$C$5:$C$104,$A19,Authorizations!$A$5:$A$104,"<>",Authorizations!$K$5:$K$104,"<>Current"),0))
A20: =IFERROR(IF(Assumptions!D7="","",Assumptions!D7),"") | B20: =IF($A20="","",IFERROR(COUNTIFS(Authorizations!$C$5:$C$104,$A20,Authorizations!$A$5:$A$104,"<>"),0)) | C20: =IF($A20="","",IFERROR(COUNTIFS(Authorizations!$C$5:$C$104,$A20,Authorizations!$K$5:$K$104,"Current"),0)) | D20: =IF($A20="","",IFERROR(COUNTIFS(Authorizations!$C$5:$C$104,$A20,Authorizations!$K$5:$K$104,"Expiring Soon"),0)) | E20: =IF($A20="","",IFERROR(COUNTIFS(Authorizations!$C$5:$C$104,$A20,Authorizations!$A$5:$A$104,"<>",Authorizations!$K$5:$K$104,"<>Current"),0))
A21: =IFERROR(IF(Assumptions!D8="","",Assumptions!D8),"") | B21: =IF($A21="","",IFERROR(COUNTIFS(Authorizations!$C$5:$C$104,$A21,Authorizations!$A$5:$A$104,"<>"),0)) | C21: =IF($A21="","",IFERROR(COUNTIFS(Authorizations!$C$5:$C$104,$A21,Authorizations!$K$5:$K$104,"Current"),0)) | D21: =IF($A21="","",IFERROR(COUNTIFS(Authorizations!$C$5:$C$104,$A21,Authorizations!$K$5:$K$104,"Expiring Soon"),0)) | E21: =IF($A21="","",IFERROR(COUNTIFS(Authorizations!$C$5:$C$104,$A21,Authorizations!$A$5:$A$104,"<>",Authorizations!$K$5:$K$104,"<>Current"),0))
A22: =IFERROR(IF(Assumptions!D9="","",Assumptions!D9),"") | B22: =IF($A22="","",IFERROR(COUNTIFS(Authorizations!$C$5:$C$104,$A22,Authorizations!$A$5:$A$104,"<>"),0)) | C22: =IF($A22="","",IFERROR(COUNTIFS(Authorizations!$C$5:$C$104,$A22,Authorizations!$K$5:$K$104,"Current"),0)) | D22: =IF($A22="","",IFERROR(COUNTIFS(Authorizations!$C$5:$C$104,$A22,Authorizations!$K$5:$K$104,"Expiring Soon"),0)) | E22: =IF($A22="","",IFERROR(COUNTIFS(Authorizations!$C$5:$C$104,$A22,Authorizations!$A$5:$A$104,"<>",Authorizations!$K$5:$K$104,"<>Current"),0))
A23: =IFERROR(IF(Assumptions!D10="","",Assumptions!D10),"") | B23: =IF($A23="","",IFERROR(COUNTIFS(Authorizations!$C$5:$C$104,$A23,Authorizations!$A$5:$A$104,"<>"),0)) | C23: =IF($A23="","",IFERROR(COUNTIFS(Authorizations!$C$5:$C$104,$A23,Authorizations!$K$5:$K$104,"Current"),0)) | D23: =IF($A23="","",IFERROR(COUNTIFS(Authorizations!$C$5:$C$104,$A23,Authorizations!$K$5:$K$104,"Expiring Soon"),0)) | E23: =IF($A23="","",IFERROR(COUNTIFS(Authorizations!$C$5:$C$104,$A23,Authorizations!$A$5:$A$104,"<>",Authorizations!$K$5:$K$104,"<>Current"),0))
A24: =IFERROR(IF(Assumptions!D11="","",Assumptions!D11),"") | B24: =IF($A24="","",IFERROR(COUNTIFS(Authorizations!$C$5:$C$104,$A24,Authorizations!$A$5:$A$104,"<>"),0)) | C24: =IF($A24="","",IFERROR(COUNTIFS(Authorizations!$C$5:$C$104,$A24,Authorizations!$K$5:$K$104,"Current"),0)) | D24: =IF($A24="","",IFERROR(COUNTIFS(Authorizations!$C$5:$C$104,$A24,Authorizations!$K$5:$K$104,"Expiring Soon"),0)) | E24: =IF($A24="","",IFERROR(COUNTIFS(Authorizations!$C$5:$C$104,$A24,Authorizations!$A$5:$A$104,"<>",Authorizations!$K$5:$K$104,"<>Current"),0))
A25: =IFERROR(IF(Assumptions!D12="","",Assumptions!D12),"") | B25: =IF($A25="","",IFERROR(COUNTIFS(Authorizations!$C$5:$C$104,$A25,Authorizations!$A$5:$A$104,"<>"),0)) | C25: =IF($A25="","",IFERROR(COUNTIFS(Authorizations!$C$5:$C$104,$A25,Authorizations!$K$5:$K$104,"Current"),0)) | D25: =IF($A25="","",IFERROR(COUNTIFS(Authorizations!$C$5:$C$104,$A25,Authorizations!$K$5:$K$104,"Expiring Soon"),0)) | E25: =IF($A25="","",IFERROR(COUNTIFS(Authorizations!$C$5:$C$104,$A25,Authorizations!$A$5:$A$104,"<>",Authorizations!$K$5:$K$104,"<>Current"),0))
A26: =IFERROR(IF(Assumptions!D13="","",Assumptions!D13),"") | B26: =IF($A26="","",IFERROR(COUNTIFS(Authorizations!$C$5:$C$104,$A26,Authorizations!$A$5:$A$104,"<>"),0)) | C26: =IF($A26="","",IFERROR(COUNTIFS(Authorizations!$C$5:$C$104,$A26,Authorizations!$K$5:$K$104,"Current"),0)) | D26: =IF($A26="","",IFERROR(COUNTIFS(Authorizations!$C$5:$C$104,$A26,Authorizations!$K$5:$K$104,"Expiring Soon"),0)) | E26: =IF($A26="","",IFERROR(COUNTIFS(Authorizations!$C$5:$C$104,$A26,Authorizations!$A$5:$A$104,"<>",Authorizations!$K$5:$K$104,"<>Current"),0))
A27: =IFERROR(IF(Assumptions!D14="","",Assumptions!D14),"") | B27: =IF($A27="","",IFERROR(COUNTIFS(Authorizations!$C$5:$C$104,$A27,Authorizations!$A$5:$A$104,"<>"),0)) | C27: =IF($A27="","",IFERROR(COUNTIFS(Authorizations!$C$5:$C$104,$A27,Authorizations!$K$5:$K$104,"Current"),0)) | D27: =IF($A27="","",IFERROR(COUNTIFS(Authorizations!$C$5:$C$104,$A27,Authorizations!$K$5:$K$104,"Expiring Soon"),0)) | E27: =IF($A27="","",IFERROR(COUNTIFS(Authorizations!$C$5:$C$104,$A27,Authorizations!$A$5:$A$104,"<>",Authorizations!$K$5:$K$104,"<>Current"),0))

Sheet Authorizations
A1: Medication Authorization Records
A2: Enter administrative record details only. Statuses prompt a human review and do not determine treatment or compliance.
A4: Record ID | B4: Child ID | C4: Room | D4: Medication / Item | E4: Authorization Start | F4: Authorization End | G4: Guardian Authorization | H4: Written Instructions | I4: Item On Site | J4: Assigned Staff ID | K4: Review Status | L4: Days Remaining | M4: Human Check Notes
A5: FIC-MED-001 | B5: FIC-CH-001 | C5: Bluebird | D5: Emergency medication container | E5: 46229 | F5: 46394 | G5: Received | H5: Received | I5: Yes | J5: FIC-ST-001 | K5: =IF(COUNTA(A5:J5,M5)=0,"",IFERROR(IF(OR(A5="",B5="",C5="",D5="",E5="",F5="",G5="",H5="",I5="",J5="",NOT(ISNUMBER(E5)),NOT(ISNUMBER(F5)),NOT(ISNUMBER(Assumptions!$B$5)),NOT(ISNUMBER(Assumptions!$B$6))),"Incomplete",IF(E5>F5,"Check Dates",IF(E5>Assumptions!$B$5,"Not Yet Active",IF(F5<Assumptions!$B$5,"Expired",IF(G5<>"Received","Missing Authorization",IF(H5="Missing","Missing Instructions",IF(I5<>"Yes","Item Not On Site",IF(F5-Assumptions!$B$5<=Assumptions!$B$6,"Expiring Soon","Current")))))))),"Check Entry")) | L5: =IF(OR(A5="",F5="",NOT(ISNUMBER(F5)),NOT(ISNUMBER(Assumptions!$B$5))),"",IFERROR(F5-Assumptions!$B$5,"")) | M5: Record entries are current for the review date.
A6: FIC-MED-002 | B6: FIC-CH-002 | C6: Sunflower | D6: Allergy medication container | E6: 46184 | F6: 46281 | G6: Received | H6: Received | I6: Yes | J6: FIC-ST-002 | K6: =IF(COUNTA(A6:J6,M6)=0,"",IFERROR(IF(OR(A6="",B6="",C6="",D6="",E6="",F6="",G6="",H6="",I6="",J6="",NOT(ISNUMBER(E6)),NOT(ISNUMBER(F6)),NOT(ISNUMBER(Assumptions!$B$5)),NOT(ISNUMBER(Assumptions!$B$6))),"Incomplete",IF(E6>F6,"Check Dates",IF(E6>Assumptions!$B$5,"Not Yet Active",IF(F6<Assumptions!$B$5,"Expired",IF(G6<>"Received","Missing Authorization",IF(H6="Missing","Missing Instructions",IF(I6<>"Yes","Item Not On Site",IF(F6-Assumptions!$B$5<=Assumptions!$B$6,"Expiring Soon","Current")))))))),"Check Entry")) | L6: =IF(OR(A6="",F6="",NOT(ISNUMBER(F6)),NOT(ISNUMBER(Assumptions!$B$5))),"",IFERROR(F6-Assumptions!$B$5,"")) | M6: Review before the authorization end date.
A7: FIC-MED-003 | B7: FIC-CH-003 | C7: Maple | D7: Prescription medication container | E7: 46094 | F7: 46273 | G7: Received | H7: Received | I7: Yes | J7: FIC-ST-003 | K7: =IF(COUNTA(A7:J7,M7)=0,"",IFERROR(IF(OR(A7="",B7="",C7="",D7="",E7="",F7="",G7="",H7="",I7="",J7="",NOT(ISNUMBER(E7)),NOT(ISNUMBER(F7)),NOT(ISNUMBER(Assumptions!$B$5)),NOT(ISNUMBER(Assumptions!$B$6))),"Incomplete",IF(E7>F7,"Check Dates",IF(E7>Assumptions!$B$5,"Not Yet Active",IF(F7<Assumptions!$B$5,"Expired",IF(G7<>"Received","Missing Authorization",IF(H7="Missing","Missing Instructions",IF(I7<>"Yes","Item Not On Site",IF(F7-Assumptions!$B$5<=Assumptions!$B$6,"Expiring Soon","Current")))))))),"Check Entry")) | L7: =IF(OR(A7="",F7="",NOT(ISNUMBER(F7)),NOT(ISNUMBER(Assumptions!$B$5))),"",IFERROR(F7-Assumptions!$B$5,"")) | M7: Verify whether an updated authorization record exists.
A8: FIC-MED-004 | B8: FIC-CH-004 | C8: Rainbow | D8: Topical medication container | E8: 46254 | F8: 46364 | G8: Missing | H8: Received | I8: Yes | J8: FIC-ST-004 | K8: =IF(COUNTA(A8:J8,M8)=0,"",IFERROR(IF(OR(A8="",B8="",C8="",D8="",E8="",F8="",G8="",H8="",I8="",J8="",NOT(ISNUMBER(E8)),NOT(ISNUMBER(F8)),NOT(ISNUMBER(Assumptions!$B$5)),NOT(ISNUMBER(Assumptions!$B$6))),"Incomplete",IF(E8>F8,"Check Dates",IF(E8>Assumptions!$B$5,"Not Yet Active",IF(F8<Assumptions!$B$5,"Expired",IF(G8<>"Received","Missing Authorization",IF(H8="Missing","Missing Instructions",IF(I8<>"Yes","Item Not On Site",IF(F8-Assumptions!$B$5<=Assumptions!$B$6,"Expiring Soon","Current")))))))),"Check Entry")) | L8: =IF(OR(A8="",F8="",NOT(ISNUMBER(F8)),NOT(ISNUMBER(Assumptions!$B$5))),"",IFERROR(F8-Assumptions!$B$5,"")) | M8: Guardian authorization record is not entered.
A9: FIC-MED-005 | B9: FIC-CH-005 | C9: Garden | D9: Oral medication container | E9: 46259 | F9: 46349 | G9: Received | H9: Missing | I9: Yes | J9: FIC-ST-005 | K9: =IF(COUNTA(A9:J9,M9)=0,"",IFERROR(IF(OR(A9="",B9="",C9="",D9="",E9="",F9="",G9="",H9="",I9="",J9="",NOT(ISNUMBER(E9)),NOT(ISNUMBER(F9)),NOT(ISNUMBER(Assumptions!$B$5)),NOT(ISNUMBER(Assumptions!$B$6))),"Incomplete",IF(E9>F9,"Check Dates",IF(E9>Assumptions!$B$5,"Not Yet Active",IF(F9<Assumptions!$B$5,"Expired",IF(G9<>"Received","Missing Authorization",IF(H9="Missing","Missing Instructions",IF(I9<>"Yes","Item Not On Site",IF(F9-Assumptions!$B$5<=Assumptions!$B$6,"Expiring Soon","Current")))))))),"Check Entry")) | L9: =IF(OR(A9="",F9="",NOT(ISNUMBER(F9)),NOT(ISNUMBER(Assumptions!$B$5))),"",IFERROR(F9-Assumptions!$B$5,"")) | M9: Written instructions record is not entered.
A10: FIC-MED-006 | B10: FIC-CH-006 | C10: Bluebird | D10: Emergency care item | E10: 46244 | F10: 46424 | G10: Received | H10: Received | I10: No | J10: FIC-ST-001 | K10: =IF(COUNTA(A10:J10,M10)=0,"",IFERROR(IF(OR(A10="",B10="",C10="",D10="",E10="",F10="",G10="",H10="",I10="",J10="",NOT(ISNUMBER(E10)),NOT(ISNUMBER(F10)),NOT(ISNUMBER(Assumptions!$B$5)),NOT(ISNUMBER(Assumptions!$B$6))),"Incomplete",IF(E10>F10,"Check Dates",IF(E10>Assumptions!$B$5,"Not Yet Active",IF(F10<Assumptions!$B$5,"Expired",IF(G10<>"Received","Missing Authorization",IF(H10="Missing","Missing Instructions",IF(I10<>"Yes","Item Not On Site",IF(F10-Assumptions!$B$5<=Assumptions!$B$6,"Expiring Soon","Current")))))))),"Check Entry")) | L10: =IF(OR(A10="",F10="",NOT(ISNUMBER(F10)),NOT(ISNUMBER(Assumptions!$B$5))),"",IFERROR(F10-Assumptions!$B$5,"")) | M10: Confirm item receipt and assigned storage location.
A11: FIC-MED-007 | B11: FIC-CH-007 | C11: Sunflower | D11: Prescription care item | E11: 46284 | F11: 46434 | G11: Received | H11: Received | I11: Yes | J11: FIC-ST-002 | K11: =IF(COUNTA(A11:J11,M11)=0,"",IFERROR(IF(OR(A11="",B11="",C11="",D11="",E11="",F11="",G11="",H11="",I11="",J11="",NOT(ISNUMBER(E11)),NOT(ISNUMBER(F11)),NOT(ISNUMBER(Assumptions!$B$5)),NOT(ISNUMBER(Assumptions!$B$6))),"Incomplete",IF(E11>F11,"Check Dates",IF(E11>Assumptions!$B$5,"Not Yet Active",IF(F11<Assumptions!$B$5,"Expired",IF(G11<>"Received","Missing Authorization",IF(H11="Missing","Missing Instructions",IF(I11<>"Yes","Item Not On Site",IF(F11-Assumptions!$B$5<=Assumptions!$B$6,"Expiring Soon","Current")))))))),"Check Entry")) | L11: =IF(OR(A11="",F11="",NOT(ISNUMBER(F11)),NOT(ISNUMBER(Assumptions!$B$5))),"",IFERROR(F11-Assumptions!$B$5,"")) | M11: Authorization begins on a future date.
A12: FIC-MED-008 | B12: FIC-CH-008 | C12: Maple | D12: Topical care item | E12: 46294 | F12: 46279 | G12: Received | H12: Received | I12: Yes | J12: FIC-ST-003 | K12: =IF(COUNTA(A12:J12,M12)=0,"",IFERROR(IF(OR(A12="",B12="",C12="",D12="",E12="",F12="",G12="",H12="",I12="",J12="",NOT(ISNUMBER(E12)),NOT(ISNUMBER(F12)),NOT(ISNUMBER(Assumptions!$B$5)),NOT(ISNUMBER(Assumptions!$B$6))),"Incomplete",IF(E12>F12,"Check Dates",IF(E12>Assumptions!$B$5,"Not Yet Active",IF(F12<Assumptions!$B$5,"Expired",IF(G12<>"Received","Missing Authorization",IF(H12="Missing","Missing Instructions",IF(I12<>"Yes","Item Not On Site",IF(F12-Assumptions!$B$5<=Assumptions!$B$6,"Expiring Soon","Current")))))))),"Check Entry")) | L12: =IF(OR(A12="",F12="",NOT(ISNUMBER(F12)),NOT(ISNUMBER(Assumptions!$B$5))),"",IFERROR(F12-Assumptions!$B$5,"")) | M12: Start date is after the end date.
A13: FIC-MED-009 | B13: FIC-CH-009 | C13: Rainbow | D13: Medication container | E13: 46262 | G13: Received | H13: Received | I13: Yes | J13: FIC-ST-004 | K13: =IF(COUNTA(A13:J13,M13)=0,"",IFERROR(IF(OR(A13="",B13="",C13="",D13="",E13="",F13="",G13="",H13="",I13="",J13="",NOT(ISNUMBER(E13)),NOT(ISNUMBER(F13)),NOT(ISNUMBER(Assumptions!$B$5)),NOT(ISNUMBER(Assumptions!$B$6))),"Incomplete",IF(E13>F13,"Check Dates",IF(E13>Assumptions!$B$5,"Not Yet Active",IF(F13<Assumptions!$B$5,"Expired",IF(G13<>"Received","Missing Authorization",IF(H13="Missing","Missing Instructions",IF(I13<>"Yes","Item Not On Site",IF(F13-Assumptions!$B$5<=Assumptions!$B$6,"Expiring Soon","Current")))))))),"Check Entry")) | L13: =IF(OR(A13="",F13="",NOT(ISNUMBER(F13)),NOT(ISNUMBER(Assumptions!$B$5))),"",IFERROR(F13-Assumptions!$B$5,"")) | M13: Enter the authorization end date.
A14: FIC-MED-010 | B14: FIC-CH-010 | C14: Garden | D14: Personal care item | E14: 46214 | F14: 46304 | G14: Received | H14: Not Required | I14: Yes | J14: FIC-ST-005 | K14: =IF(COUNTA(A14:J14,M14)=0,"",IFERROR(IF(OR(A14="",B14="",C14="",D14="",E14="",F14="",G14="",H14="",I14="",J14="",NOT(ISNUMBER(E14)),NOT(ISNUMBER(F14)),NOT(ISNUMBER(Assumptions!$B$5)),NOT(ISNUMBER(Assumptions!$B$6))),"Incomplete",IF(E14>F14,"Check Dates",IF(E14>Assumptions!$B$5,"Not Yet Active",IF(F14<Assumptions!$B$5,"Expired",IF(G14<>"Received","Missing Authorization",IF(H14="Missing","Missing Instructions",IF(I14<>"Yes","Item Not On Site",IF(F14-Assumptions!$B$5<=Assumptions!$B$6,"Expiring Soon","Current")))))))),"Check Entry")) | L14: =IF(OR(A14="",F14="",NOT(ISNUMBER(F14)),NOT(ISNUMBER(Assumptions!$B$5))),"",IFERROR(F14-Assumptions!$B$5,"")) | M14: Boundary example: end date equals the alert window.
K15: =IF(COUNTA(A15:J15,M15)=0,"",IFERROR(IF(OR(A15="",B15="",C15="",D15="",E15="",F15="",G15="",H15="",I15="",J15="",NOT(ISNUMBER(E15)),NOT(ISNUMBER(F15)),NOT(ISNUMBER(Assumptions!$B$5)),NOT(ISNUMBER(Assumptions!$B$6))),"Incomplete",IF(E15>F15,"Check Dates",IF(E15>Assumptions!$B$5,"Not Yet Active",IF(F15<Assumptions!$B$5,"Expired",IF(G15<>"Received","Missing Authorization",IF(H15="Missing","Missing Instructions",IF(I15<>"Yes","Item Not On Site",IF(F15-Assumptions!$B$5<=Assumptions!$B$6,"Expiring Soon","Current")))))))),"Check Entry")) | L15: =IF(OR(A15="",F15="",NOT(ISNUMBER(F15)),NOT(ISNUMBER(Assumptions!$B$5))),"",IFERROR(F15-Assumptions!$B$5,""))
K16: =IF(COUNTA(A16:J16,M16)=0,"",IFERROR(IF(OR(A16="",B16="",C16="",D16="",E16="",F16="",G16="",H16="",I16="",J16="",NOT(ISNUMBER(E16)),NOT(ISNUMBER(F16)),NOT(ISNUMBER(Assumptions!$B$5)),NOT(ISNUMBER(Assumptions!$B$6))),"Incomplete",IF(E16>F16,"Check Dates",IF(E16>Assumptions!$B$5,"Not Yet Active",IF(F16<Assumptions!$B$5,"Expired",IF(G16<>"Received","Missing Authorization",IF(H16="Missing","Missing Instructions",IF(I16<>"Yes","Item Not On Site",IF(F16-Assumptions!$B$5<=Assumptions!$B$6,"Expiring Soon","Current")))))))),"Check Entry")) | L16: =IF(OR(A16="",F16="",NOT(ISNUMBER(F16)),NOT(ISNUMBER(Assumptions!$B$5))),"",IFERROR(F16-Assumptions!$B$5,""))
K17: =IF(COUNTA(A17:J17,M17)=0,"",IFERROR(IF(OR(A17="",B17="",C17="",D17="",E17="",F17="",G17="",H17="",I17="",J17="",NOT(ISNUMBER(E17)),NOT(ISNUMBER(F17)),NOT(ISNUMBER(Assumptions!$B$5)),NOT(ISNUMBER(Assumptions!$B$6))),"Incomplete",IF(E17>F17,"Check Dates",IF(E17>Assumptions!$B$5,"Not Yet Active",IF(F17<Assumptions!$B$5,"Expired",IF(G17<>"Received","Missing Authorization",IF(H17="Missing","Missing Instructions",IF(I17<>"Yes","Item Not On Site",IF(F17-Assumptions!$B$5<=Assumptions!$B$6,"Expiring Soon","Current")))))))),"Check Entry")) | L17: =IF(OR(A17="",F17="",NOT(ISNUMBER(F17)),NOT(ISNUMBER(Assumptions!$B$5))),"",IFERROR(F17-Assumptions!$B$5,""))
K18: =IF(COUNTA(A18:J18,M18)=0,"",IFERROR(IF(OR(A18="",B18="",C18="",D18="",E18="",F18="",G18="",H18="",I18="",J18="",NOT(ISNUMBER(E18)),NOT(ISNUMBER(F18)),NOT(ISNUMBER(Assumptions!$B$5)),NOT(ISNUMBER(Assumptions!$B$6))),"Incomplete",IF(E18>F18,"Check Dates",IF(E18>Assumptions!$B$5,"Not Yet Active",IF(F18<Assumptions!$B$5,"Expired",IF(G18<>"Received","Missing Authorization",IF(H18="Missing","Missing Instructions",IF(I18<>"Yes","Item Not On Site",IF(F18-Assumptions!$B$5<=Assumptions!$B$6,"Expiring Soon","Current")))))))),"Check Entry")) | L18: =IF(OR(A18="",F18="",NOT(ISNUMBER(F18)),NOT(ISNUMBER(Assumptions!$B$5))),"",IFERROR(F18-Assumptions!$B$5,""))
K19: =IF(COUNTA(A19:J19,M19)=0,"",IFERROR(IF(OR(A19="",B19="",C19="",D19="",E19="",F19="",G19="",H19="",I19="",J19="",NOT(ISNUMBER(E19)),NOT(ISNUMBER(F19)),NOT(ISNUMBER(Assumptions!$B$5)),NOT(ISNUMBER(Assumptions!$B$6))),"Incomplete",IF(E19>F19,"Check Dates",IF(E19>Assumptions!$B$5,"Not Yet Active",IF(F19<Assumptions!$B$5,"Expired",IF(G19<>"Received","Missing Authorization",IF(H19="Missing","Missing Instructions",IF(I19<>"Yes","Item Not On Site",IF(F19-Assumptions!$B$5<=Assumptions!$B$6,"Expiring Soon","Current")))))))),"Check Entry")) | L19: =IF(OR(A19="",F19="",NOT(ISNUMBER(F19)),NOT(ISNUMBER(Assumptions!$B$5))),"",IFERROR(F19-Assumptions!$B$5,""))
K20: =IF(COUNTA(A20:J20,M20)=0,"",IFERROR(IF(OR(A20="",B20="",C20="",D20="",E20="",F20="",G20="",H20="",I20="",J20="",NOT(ISNUMBER(E20)),NOT(ISNUMBER(F20)),NOT(ISNUMBER(Assumptions!$B$5)),NOT(ISNUMBER(Assumptions!$B$6))),"Incomplete",IF(E20>F20,"Check Dates",IF(E20>Assumptions!$B$5,"Not Yet Active",IF(F20<Assumptions!$B$5,"Expired",IF(G20<>"Received","Missing Authorization",IF(H20="Missing","Missing Instructions",IF(I20<>"Yes","Item Not On Site",IF(F20-Assumptions!$B$5<=Assumptions!$B$6,"Expiring Soon","Current")))))))),"Check Entry")) | L20: =IF(OR(A20="",F20="",NOT(ISNUMBER(F20)),NOT(ISNUMBER(Assumptions!$B$5))),"",IFERROR(F20-Assumptions!$B$5,""))
K21: =IF(COUNTA(A21:J21,M21)=0,"",IFERROR(IF(OR(A21="",B21="",C21="",D21="",E21="",F21="",G21="",H21="",I21="",J21="",NOT(ISNUMBER(E21)),NOT(ISNUMBER(F21)),NOT(ISNUMBER(Assumptions!$B$5)),NOT(ISNUMBER(Assumptions!$B$6))),"Incomplete",IF(E21>F21,"Check Dates",IF(E21>Assumptions!$B$5,"Not Yet Active",IF(F21<Assumptions!$B$5,"Expired",IF(G21<>"Received","Missing Authorization",IF(H21="Missing","Missing Instructions",IF(I21<>"Yes","Item Not On Site",IF(F21-Assumptions!$B$5<=Assumptions!$B$6,"Expiring Soon","Current")))))))),"Check Entry")) | L21: =IF(OR(A21="",F21="",NOT(ISNUMBER(F21)),NOT(ISNUMBER(Assumptions!$B$5))),"",IFERROR(F21-Assumptions!$B$5,""))
K22: =IF(COUNTA(A22:J22,M22)=0,"",IFERROR(IF(OR(A22="",B22="",C22="",D22="",E22="",F22="",G22="",H22="",I22="",J22="",NOT(ISNUMBER(E22)),NOT(ISNUMBER(F22)),NOT(ISNUMBER(Assumptions!$B$5)),NOT(ISNUMBER(Assumptions!$B$6))),"Incomplete",IF(E22>F22,"Check Dates",IF(E22>Assumptions!$B$5,"Not Yet Active",IF(F22<Assumptions!$B$5,"Expired",IF(G22<>"Received","Missing Authorization",IF(H22="Missing","Missing Instructions",IF(I22<>"Yes","Item Not On Site",IF(F22-Assumptions!$B$5<=Assumptions!$B$6,"Expiring Soon","Current")))))))),"Check Entry")) | L22: =IF(OR(A22="",F22="",NOT(ISNUMBER(F22)),NOT(ISNUMBER(Assumptions!$B$5))),"",IFERROR(F22-Assumptions!$B$5,""))
K23: =IF(COUNTA(A23:J23,M23)=0,"",IFERROR(IF(OR(A23="",B23="",C23="",D23="",E23="",F23="",G23="",H23="",I23="",J23="",NOT(ISNUMBER(E23)),NOT(ISNUMBER(F23)),NOT(ISNUMBER(Assumptions!$B$5)),NOT(ISNUMBER(Assumptions!$B$6))),"Incomplete",IF(E23>F23,"Check Dates",IF(E23>Assumptions!$B$5,"Not Yet Active",IF(F23<Assumptions!$B$5,"Expired",IF(G23<>"Received","Missing Authorization",IF(H23="Missing","Missing Instructions",IF(I23<>"Yes","Item Not On Site",IF(F23-Assumptions!$B$5<=Assumptions!$B$6,"Expiring Soon","Current")))))))),"Check Entry")) | L23: =IF(OR(A23="",F23="",NOT(ISNUMBER(F23)),NOT(ISNUMBER(Assumptions!$B$5))),"",IFERROR(F23-Assumptions!$B$5,""))
K24: =IF(COUNTA(A24:J24,M24)=0,"",IFERROR(IF(OR(A24="",B24="",C24="",D24="",E24="",F24="",G24="",H24="",I24="",J24="",NOT(ISNUMBER(E24)),NOT(ISNUMBER(F24)),NOT(ISNUMBER(Assumptions!$B$5)),NOT(ISNUMBER(Assumptions!$B$6))),"Incomplete",IF(E24>F24,"Check Dates",IF(E24>Assumptions!$B$5,"Not Yet Active",IF(F24<Assumptions!$B$5,"Expired",IF(G24<>"Received","Missing Authorization",IF(H24="Missing","Missing Instructions",IF(I24<>"Yes","Item Not On Site",IF(F24-Assumptions!$B$5<=Assumptions!$B$6,"Expiring Soon","Current")))))))),"Check Entry")) | L24: =IF(OR(A24="",F24="",NOT(ISNUMBER(F24)),NOT(ISNUMBER(Assumptions!$B$5))),"",IFERROR(F24-Assumptions!$B$5,""))
K25: =IF(COUNTA(A25:J25,M25)=0,"",IFERROR(IF(OR(A25="",B25="",C25="",D25="",E25="",F25="",G25="",H25="",I25="",J25="",NOT(ISNUMBER(E25)),NOT(ISNUMBER(F25)),NOT(ISNUMBER(Assumptions!$B$5)),NOT(ISNUMBER(Assumptions!$B$6))),"Incomplete",IF(E25>F25,"Check Dates",IF(E25>Assumptions!$B$5,"Not Yet Active",IF(F25<Assumptions!$B$5,"Expired",IF(G25<>"Received","Missing Authorization",IF(H25="Missing","Missing Instructions",IF(I25<>"Yes","Item Not On Site",IF(F25-Assumptions!$B$5<=Assumptions!$B$6,"Expiring Soon","Current")))))))),"Check Entry")) | L25: =IF(OR(A25="",F25="",NOT(ISNUMBER(F25)),NOT(ISNUMBER(Assumptions!$B$5))),"",IFERROR(F25-Assumptions!$B$5,""))
K26: =IF(COUNTA(A26:J26,M26)=0,"",IFERROR(IF(OR(A26="",B26="",C26="",D26="",E26="",F26="",G26="",H26="",I26="",J26="",NOT(ISNUMBER(E26)),NOT(ISNUMBER(F26)),NOT(ISNUMBER(Assumptions!$B$5)),NOT(ISNUMBER(Assumptions!$B$6))),"Incomplete",IF(E26>F26,"Check Dates",IF(E26>Assumptions!$B$5,"Not Yet Active",IF(F26<Assumptions!$B$5,"Expired",IF(G26<>"Received","Missing Authorization",IF(H26="Missing","Missing Instructions",IF(I26<>"Yes","Item Not On Site",IF(F26-Assumptions!$B$5<=Assumptions!$B$6,"Expiring Soon","Current")))))))),"Check Entry")) | L26: =IF(OR(A26="",F26="",NOT(ISNUMBER(F26)),NOT(ISNUMBER(Assumptions!$B$5))),"",IFERROR(F26-Assumptions!$B$5,""))
... K104: =IF(COUNTA(A104:J104,M104)=0,"",IFERROR(IF(OR(A104="",B104="",C104="",D104="",E104="",F104="",G104="",H104="",I104="",J104="",NOT(ISNUMBER(E104)),NOT(ISNUMBER(F104)),NOT(ISNUMBER(Assumptions!$B$5)),NOT(ISNUMBER(Assumptions!$B$6))),"Incomplete",IF(E104>F104,"Check Dates",IF(E104>Assumptions!$B$5,"Not Yet Active",IF(F104<Assumptions!$B$5,"Expired",IF(G104<>"Received","Missing Authorization",IF(H104="Missing","Missing Instructions",IF(I104<>"Yes","Item Not On Site",IF(F104-Assumptions!$B$5<=Assumptions!$B$6,"Expiring Soon","Current")))))))),"Check Entry")) | L104: =IF(OR(A104="",F104="",NOT(ISNUMBER(F104)),NOT(ISNUMBER(Assumptions!$B$5))),"",IFERROR(F104-Assumptions!$B$5,""))

Sheet Assumptions
A1: Assumptions and Editable Choices
A2: Review these settings and lists for center use. They are administrative choices and do not establish legal, medical, or compliance requirements.
A4: Setting | B4: Editable Value | D4: Room Choices | E4: Staff ID Choices
A5: As-of Date | B5: 46274 | D5: Bluebird | E5: FIC-ST-001
A6: Alert Window (Days) | B6: 30 | D6: Sunflower | E6: FIC-ST-002
A7: Earliest Entry Date | B7: 45658 | D7: Maple | E7: FIC-ST-003
A8: Latest Entry Date | B8: 48213 | D8: Rainbow | E8: FIC-ST-004
D9: Garden | E9: FIC-ST-005
