Workbook

Sheet Summary
A1: Daycare Tour Inquiry Tracker
A2: Fictional Cedar Lane Childcare Center | Indicators are calculated from the Inquiries sheet.
A3: As of | B3: =TODAY()
A4: Indicator | B4: Calculated Value | D4: Outcome | E4: Inquiries
A5: Inquiries logged | B5: =COUNTIF(Inquiries!$A$5:$A$104,"<>") | D5: Open | E5: =COUNTIFS(Inquiries!$A$5:$A$104,"<>",Inquiries!$N$5:$N$104,"Open")
A6: Inquiries in last 30 days | B6: =COUNTIFS(Inquiries!$A$5:$A$104,"<>",Inquiries!$C$5:$C$104,">="&TODAY()-29,Inquiries!$C$5:$C$104,"<="&TODAY()) | D6: Waitlist | E6: =COUNTIFS(Inquiries!$A$5:$A$104,"<>",Inquiries!$N$5:$N$104,"Waitlist")
A7: Future scheduled tours | B7: =COUNTIFS(Inquiries!$A$5:$A$104,"<>",Inquiries!$I$5:$I$104,"Scheduled",Inquiries!$J$5:$J$104,">="&TODAY()) | D7: Enrolled | E7: =COUNTIFS(Inquiries!$A$5:$A$104,"<>",Inquiries!$N$5:$N$104,"Enrolled")
A8: Completed tours | B8: =COUNTIF(Inquiries!$I$5:$I$104,"Completed") | D8: Declined | E8: =COUNTIFS(Inquiries!$A$5:$A$104,"<>",Inquiries!$N$5:$N$104,"Declined")
A9: Follow-ups due now | B9: =COUNTIFS(Inquiries!$A$5:$A$104,"<>",Inquiries!$L$5:$L$104,"<>",Inquiries!$L$5:$L$104,"<="&TODAY(),Inquiries!$M$5:$M$104,"",Inquiries!$N$5:$N$104,"<>Enrolled",Inquiries!$N$5:$N$104,"<>Declined",Inquiries!$N$5:$N$104,"<>No Response") | D9: No Response | E9: =COUNTIFS(Inquiries!$A$5:$A$104,"<>",Inquiries!$N$5:$N$104,"No Response")
A10: Open or waitlist inquiries | B10: =COUNTIFS(Inquiries!$A$5:$A$104,"<>",Inquiries!$N$5:$N$104,"Open")+COUNTIFS(Inquiries!$A$5:$A$104,"<>",Inquiries!$N$5:$N$104,"Waitlist")+COUNTIFS(Inquiries!$A$5:$A$104,"<>",Inquiries!$N$5:$N$104,"") | D10: Unset | E10: =COUNTIFS(Inquiries!$A$5:$A$104,"<>",Inquiries!$N$5:$N$104,"")
A11: Enrolled outcomes | B11: =COUNTIF(Inquiries!$N$5:$N$104,"Enrolled")
A12: Decision conversion rate | B12: =IFERROR(COUNTIF(Inquiries!$N$5:$N$104,"Enrolled")/(COUNTIF(Inquiries!$N$5:$N$104,"Enrolled")+COUNTIF(Inquiries!$N$5:$N$104,"Declined")+COUNTIF(Inquiries!$N$5:$N$104,"No Response")),"")
A13: Average days open | B13: =IFERROR(AVERAGEIF(Inquiries!$A$5:$A$104,"<>",Inquiries!$Q$5:$Q$104),"")
A14: Records needing review | B14: =COUNTIFS(Inquiries!$A$5:$A$104,"<>",Inquiries!$T$5:$T$104,"<>OK")

Sheet Inquiries
A1: Tour Inquiry Records
A2: Yellow cells are editable inputs. Formula columns provide administrative prompts for human review. All sample records are fictional.
A4: Inquiry ID | B4: Prospect Label | C4: Inquiry Date | D4: Preferred Contact | E4: Program Interest | F4: Desired Start Date | G4: Referral Source | H4: Assigned Staff | I4: Tour Status | J4: Tour Date | K4: Tour Time | L4: Follow-Up Due | M4: Follow-Up Completed | N4: Outcome | O4: Outcome Date | P4: Notes | Q4: Days Open | R4: Follow-Up Alert | S4: Tour Check | T4: Record Check
A5: FI-0001 | B5: Fictional Prospect Alpha | C5: 46244 | D5: Email | E5: Preschool | F5: 46300 | G5: Website | H5: Fictional Staff A | I5: Completed | J5: 46247 | K5: 0.41666667 | L5: 46248 | M5: 46248 | N5: Enrolled | O5: 46254 | P5: Fictional sample requested a schedule overview. | Q5: =IF(A5="","",IF(OR(C5="",NOT(ISNUMBER(C5))),"",IF(AND(O5<>"",ISNUMBER(O5)),MAX(0,O5-C5),MAX(0,TODAY()-C5)))) | R5: =IF(A5="","",IF(OR(N5="Enrolled",N5="Declined",N5="No Response"),"Closed",IF(M5<>"","Complete",IF(L5="","Set due date",IF(NOT(ISNUMBER(L5)),"Check date",IF(L5<TODAY(),"Overdue",IF(L5=TODAY(),"Due today",IF(L5<=TODAY()+Assumptions!$B$4,"Due soon","Upcoming")))))))) | S5: =IF(A5="","",IF(AND(I5="Scheduled",J5=""),"Add tour date",IF(AND(I5="Completed",J5=""),"Add tour date",IF(AND(J5<>"",I5="Not Scheduled"),"Check status",IF(AND(I5="Completed",ISNUMBER(J5),J5>TODAY()),"Check date",IF(AND(J5<>"",K5=""),"Add tour time","OK")))))) | T5: =IF(A5="","",IF(B5="","Add prospect label",IF(OR(C5="",NOT(ISNUMBER(C5))),"Add inquiry date",IF(AND(F5<>"",OR(NOT(ISNUMBER(F5)),F5<C5)),"Check start date",IF(AND(J5<>"",OR(NOT(ISNUMBER(J5)),J5<C5)),"Check tour date",IF(AND(M5<>"",OR(NOT(ISNUMBER(M5)),M5<C5)),"Check follow-up date",IF(AND(O5<>"",OR(NOT(ISNUMBER(O5)),O5<C5)),"Check outcome date",IF(AND(OR(N5="Enrolled",N5="Declined",N5="No Response"),O5=""),"Add outcome date",IF(COUNTIF($A$5:$A$104,A5)>1,"Duplicate ID","OK")))))))))
A6: FI-0002 | B6: Fictional Prospect Beta | C6: 46252 | D6: Phone | E6: Toddler | F6: 46328 | G6: Phone Call | H6: Fictional Staff B | I6: Completed | J6: 46255 | K6: 0.58333333 | L6: 46256 | M6: 46256 | N6: Declined | O6: 46259 | P6: Fictional sample selected another arrangement. | Q6: =IF(A6="","",IF(OR(C6="",NOT(ISNUMBER(C6))),"",IF(AND(O6<>"",ISNUMBER(O6)),MAX(0,O6-C6),MAX(0,TODAY()-C6)))) | R6: =IF(A6="","",IF(OR(N6="Enrolled",N6="Declined",N6="No Response"),"Closed",IF(M6<>"","Complete",IF(L6="","Set due date",IF(NOT(ISNUMBER(L6)),"Check date",IF(L6<TODAY(),"Overdue",IF(L6=TODAY(),"Due today",IF(L6<=TODAY()+Assumptions!$B$4,"Due soon","Upcoming")))))))) | S6: =IF(A6="","",IF(AND(I6="Scheduled",J6=""),"Add tour date",IF(AND(I6="Completed",J6=""),"Add tour date",IF(AND(J6<>"",I6="Not Scheduled"),"Check status",IF(AND(I6="Completed",ISNUMBER(J6),J6>TODAY()),"Check date",IF(AND(J6<>"",K6=""),"Add tour time","OK")))))) | T6: =IF(A6="","",IF(B6="","Add prospect label",IF(OR(C6="",NOT(ISNUMBER(C6))),"Add inquiry date",IF(AND(F6<>"",OR(NOT(ISNUMBER(F6)),F6<C6)),"Check start date",IF(AND(J6<>"",OR(NOT(ISNUMBER(J6)),J6<C6)),"Check tour date",IF(AND(M6<>"",OR(NOT(ISNUMBER(M6)),M6<C6)),"Check follow-up date",IF(AND(O6<>"",OR(NOT(ISNUMBER(O6)),O6<C6)),"Check outcome date",IF(AND(OR(N6="Enrolled",N6="Declined",N6="No Response"),O6=""),"Add outcome date",IF(COUNTIF($A$5:$A$104,A6)>1,"Duplicate ID","OK")))))))))
A7: FI-0003 | B7: Fictional Prospect Gamma | C7: 46261 | D7: Email | E7: Infant | F7: 46391 | G7: Referral | H7: Fictional Staff C | I7: Scheduled | J7: 46277 | K7: 0.375 | L7: 46278 | N7: Open | P7: Fictional sample tour is scheduled. | Q7: =IF(A7="","",IF(OR(C7="",NOT(ISNUMBER(C7))),"",IF(AND(O7<>"",ISNUMBER(O7)),MAX(0,O7-C7),MAX(0,TODAY()-C7)))) | R7: =IF(A7="","",IF(OR(N7="Enrolled",N7="Declined",N7="No Response"),"Closed",IF(M7<>"","Complete",IF(L7="","Set due date",IF(NOT(ISNUMBER(L7)),"Check date",IF(L7<TODAY(),"Overdue",IF(L7=TODAY(),"Due today",IF(L7<=TODAY()+Assumptions!$B$4,"Due soon","Upcoming")))))))) | S7: =IF(A7="","",IF(AND(I7="Scheduled",J7=""),"Add tour date",IF(AND(I7="Completed",J7=""),"Add tour date",IF(AND(J7<>"",I7="Not Scheduled"),"Check status",IF(AND(I7="Completed",ISNUMBER(J7),J7>TODAY()),"Check date",IF(AND(J7<>"",K7=""),"Add tour time","OK")))))) | T7: =IF(A7="","",IF(B7="","Add prospect label",IF(OR(C7="",NOT(ISNUMBER(C7))),"Add inquiry date",IF(AND(F7<>"",OR(NOT(ISNUMBER(F7)),F7<C7)),"Check start date",IF(AND(J7<>"",OR(NOT(ISNUMBER(J7)),J7<C7)),"Check tour date",IF(AND(M7<>"",OR(NOT(ISNUMBER(M7)),M7<C7)),"Check follow-up date",IF(AND(O7<>"",OR(NOT(ISNUMBER(O7)),O7<C7)),"Check outcome date",IF(AND(OR(N7="Enrolled",N7="Declined",N7="No Response"),O7=""),"Add outcome date",IF(COUNTIF($A$5:$A$104,A7)>1,"Duplicate ID","OK")))))))))
A8: FI-0004 | B8: Fictional Prospect Delta | C8: 46266 | D8: Text | E8: Preschool | F8: 46310 | G8: Social Media | H8: Fictional Staff A | I8: Completed | J8: 46268 | K8: 0.45833333 | L8: 46270 | N8: Open | P8: Fictional sample needs a follow-up review. | Q8: =IF(A8="","",IF(OR(C8="",NOT(ISNUMBER(C8))),"",IF(AND(O8<>"",ISNUMBER(O8)),MAX(0,O8-C8),MAX(0,TODAY()-C8)))) | R8: =IF(A8="","",IF(OR(N8="Enrolled",N8="Declined",N8="No Response"),"Closed",IF(M8<>"","Complete",IF(L8="","Set due date",IF(NOT(ISNUMBER(L8)),"Check date",IF(L8<TODAY(),"Overdue",IF(L8=TODAY(),"Due today",IF(L8<=TODAY()+Assumptions!$B$4,"Due soon","Upcoming")))))))) | S8: =IF(A8="","",IF(AND(I8="Scheduled",J8=""),"Add tour date",IF(AND(I8="Completed",J8=""),"Add tour date",IF(AND(J8<>"",I8="Not Scheduled"),"Check status",IF(AND(I8="Completed",ISNUMBER(J8),J8>TODAY()),"Check date",IF(AND(J8<>"",K8=""),"Add tour time","OK")))))) | T8: =IF(A8="","",IF(B8="","Add prospect label",IF(OR(C8="",NOT(ISNUMBER(C8))),"Add inquiry date",IF(AND(F8<>"",OR(NOT(ISNUMBER(F8)),F8<C8)),"Check start date",IF(AND(J8<>"",OR(NOT(ISNUMBER(J8)),J8<C8)),"Check tour date",IF(AND(M8<>"",OR(NOT(ISNUMBER(M8)),M8<C8)),"Check follow-up date",IF(AND(O8<>"",OR(NOT(ISNUMBER(O8)),O8<C8)),"Check outcome date",IF(AND(OR(N8="Enrolled",N8="Declined",N8="No Response"),O8=""),"Add outcome date",IF(COUNTIF($A$5:$A$104,A8)>1,"Duplicate ID","OK")))))))))
A9: FI-0005 | B9: Fictional Prospect Epsilon | C9: 46267 | D9: Phone | E9: Pre-K | F9: 46286 | G9: Walk-In | H9: Fictional Staff B | I9: Not Scheduled | L9: 46275 | N9: Open | P9: Fictional sample is considering tour times. | Q9: =IF(A9="","",IF(OR(C9="",NOT(ISNUMBER(C9))),"",IF(AND(O9<>"",ISNUMBER(O9)),MAX(0,O9-C9),MAX(0,TODAY()-C9)))) | R9: =IF(A9="","",IF(OR(N9="Enrolled",N9="Declined",N9="No Response"),"Closed",IF(M9<>"","Complete",IF(L9="","Set due date",IF(NOT(ISNUMBER(L9)),"Check date",IF(L9<TODAY(),"Overdue",IF(L9=TODAY(),"Due today",IF(L9<=TODAY()+Assumptions!$B$4,"Due soon","Upcoming")))))))) | S9: =IF(A9="","",IF(AND(I9="Scheduled",J9=""),"Add tour date",IF(AND(I9="Completed",J9=""),"Add tour date",IF(AND(J9<>"",I9="Not Scheduled"),"Check status",IF(AND(I9="Completed",ISNUMBER(J9),J9>TODAY()),"Check date",IF(AND(J9<>"",K9=""),"Add tour time","OK")))))) | T9: =IF(A9="","",IF(B9="","Add prospect label",IF(OR(C9="",NOT(ISNUMBER(C9))),"Add inquiry date",IF(AND(F9<>"",OR(NOT(ISNUMBER(F9)),F9<C9)),"Check start date",IF(AND(J9<>"",OR(NOT(ISNUMBER(J9)),J9<C9)),"Check tour date",IF(AND(M9<>"",OR(NOT(ISNUMBER(M9)),M9<C9)),"Check follow-up date",IF(AND(O9<>"",OR(NOT(ISNUMBER(O9)),O9<C9)),"Check outcome date",IF(AND(OR(N9="Enrolled",N9="Declined",N9="No Response"),O9=""),"Add outcome date",IF(COUNTIF($A$5:$A$104,A9)>1,"Duplicate ID","OK")))))))))
A10: FI-0006 | B10: Fictional Prospect Zeta | C10: 46268 | D10: Email | E10: School Age | F10: 46279 | G10: Community Event | H10: Fictional Staff C | I10: Canceled | J10: 46273 | K10: 0.625 | L10: 46274 | N10: Open | P10: Fictional sample canceled and may reschedule. | Q10: =IF(A10="","",IF(OR(C10="",NOT(ISNUMBER(C10))),"",IF(AND(O10<>"",ISNUMBER(O10)),MAX(0,O10-C10),MAX(0,TODAY()-C10)))) | R10: =IF(A10="","",IF(OR(N10="Enrolled",N10="Declined",N10="No Response"),"Closed",IF(M10<>"","Complete",IF(L10="","Set due date",IF(NOT(ISNUMBER(L10)),"Check date",IF(L10<TODAY(),"Overdue",IF(L10=TODAY(),"Due today",IF(L10<=TODAY()+Assumptions!$B$4,"Due soon","Upcoming")))))))) | S10: =IF(A10="","",IF(AND(I10="Scheduled",J10=""),"Add tour date",IF(AND(I10="Completed",J10=""),"Add tour date",IF(AND(J10<>"",I10="Not Scheduled"),"Check status",IF(AND(I10="Completed",ISNUMBER(J10),J10>TODAY()),"Check date",IF(AND(J10<>"",K10=""),"Add tour time","OK")))))) | T10: =IF(A10="","",IF(B10="","Add prospect label",IF(OR(C10="",NOT(ISNUMBER(C10))),"Add inquiry date",IF(AND(F10<>"",OR(NOT(ISNUMBER(F10)),F10<C10)),"Check start date",IF(AND(J10<>"",OR(NOT(ISNUMBER(J10)),J10<C10)),"Check tour date",IF(AND(M10<>"",OR(NOT(ISNUMBER(M10)),M10<C10)),"Check follow-up date",IF(AND(O10<>"",OR(NOT(ISNUMBER(O10)),O10<C10)),"Check outcome date",IF(AND(OR(N10="Enrolled",N10="Declined",N10="No Response"),O10=""),"Add outcome date",IF(COUNTIF($A$5:$A$104,A10)>1,"Duplicate ID","OK")))))))))
A11: FI-0007 | B11: Fictional Prospect Eta | C11: 46269 | D11: Text | E11: Toddler | F11: 46357 | G11: Website | H11: Fictional Staff A | I11: Completed | J11: 46270 | K11: 0.39583333 | L11: 46271 | M11: 46271 | N11: Waitlist | O11: 46271 | P11: Fictional sample requested waitlist consideration. | Q11: =IF(A11="","",IF(OR(C11="",NOT(ISNUMBER(C11))),"",IF(AND(O11<>"",ISNUMBER(O11)),MAX(0,O11-C11),MAX(0,TODAY()-C11)))) | R11: =IF(A11="","",IF(OR(N11="Enrolled",N11="Declined",N11="No Response"),"Closed",IF(M11<>"","Complete",IF(L11="","Set due date",IF(NOT(ISNUMBER(L11)),"Check date",IF(L11<TODAY(),"Overdue",IF(L11=TODAY(),"Due today",IF(L11<=TODAY()+Assumptions!$B$4,"Due soon","Upcoming")))))))) | S11: =IF(A11="","",IF(AND(I11="Scheduled",J11=""),"Add tour date",IF(AND(I11="Completed",J11=""),"Add tour date",IF(AND(J11<>"",I11="Not Scheduled"),"Check status",IF(AND(I11="Completed",ISNUMBER(J11),J11>TODAY()),"Check date",IF(AND(J11<>"",K11=""),"Add tour time","OK")))))) | T11: =IF(A11="","",IF(B11="","Add prospect label",IF(OR(C11="",NOT(ISNUMBER(C11))),"Add inquiry date",IF(AND(F11<>"",OR(NOT(ISNUMBER(F11)),F11<C11)),"Check start date",IF(AND(J11<>"",OR(NOT(ISNUMBER(J11)),J11<C11)),"Check tour date",IF(AND(M11<>"",OR(NOT(ISNUMBER(M11)),M11<C11)),"Check follow-up date",IF(AND(O11<>"",OR(NOT(ISNUMBER(O11)),O11<C11)),"Check outcome date",IF(AND(OR(N11="Enrolled",N11="Declined",N11="No Response"),O11=""),"Add outcome date",IF(COUNTIF($A$5:$A$104,A11)>1,"Duplicate ID","OK")))))))))
A12: FI-0008 | B12: Fictional Prospect Theta | C12: 46270 | D12: Phone | E12: Infant | F12: 46419 | G12: Referral | H12: Fictional Staff B | I12: Scheduled | J12: 46274 | K12: 0.29166667 | L12: 46277 | N12: Open | P12: Fictional sample uses the earliest allowed tour time. | Q12: =IF(A12="","",IF(OR(C12="",NOT(ISNUMBER(C12))),"",IF(AND(O12<>"",ISNUMBER(O12)),MAX(0,O12-C12),MAX(0,TODAY()-C12)))) | R12: =IF(A12="","",IF(OR(N12="Enrolled",N12="Declined",N12="No Response"),"Closed",IF(M12<>"","Complete",IF(L12="","Set due date",IF(NOT(ISNUMBER(L12)),"Check date",IF(L12<TODAY(),"Overdue",IF(L12=TODAY(),"Due today",IF(L12<=TODAY()+Assumptions!$B$4,"Due soon","Upcoming")))))))) | S12: =IF(A12="","",IF(AND(I12="Scheduled",J12=""),"Add tour date",IF(AND(I12="Completed",J12=""),"Add tour date",IF(AND(J12<>"",I12="Not Scheduled"),"Check status",IF(AND(I12="Completed",ISNUMBER(J12),J12>TODAY()),"Check date",IF(AND(J12<>"",K12=""),"Add tour time","OK")))))) | T12: =IF(A12="","",IF(B12="","Add prospect label",IF(OR(C12="",NOT(ISNUMBER(C12))),"Add inquiry date",IF(AND(F12<>"",OR(NOT(ISNUMBER(F12)),F12<C12)),"Check start date",IF(AND(J12<>"",OR(NOT(ISNUMBER(J12)),J12<C12)),"Check tour date",IF(AND(M12<>"",OR(NOT(ISNUMBER(M12)),M12<C12)),"Check follow-up date",IF(AND(O12<>"",OR(NOT(ISNUMBER(O12)),O12<C12)),"Check outcome date",IF(AND(OR(N12="Enrolled",N12="Declined",N12="No Response"),O12=""),"Add outcome date",IF(COUNTIF($A$5:$A$104,A12)>1,"Duplicate ID","OK")))))))))
A13: FI-0009 | B13: Fictional Prospect Iota | C13: 46271 | D13: Email | E13: Preschool | F13: 46315 | G13: Phone Call | H13: Fictional Staff C | I13: Scheduled | J13: 46276 | K13: 0.79166667 | L13: 46279 | N13: Open | P13: Fictional sample uses the latest allowed tour time. | Q13: =IF(A13="","",IF(OR(C13="",NOT(ISNUMBER(C13))),"",IF(AND(O13<>"",ISNUMBER(O13)),MAX(0,O13-C13),MAX(0,TODAY()-C13)))) | R13: =IF(A13="","",IF(OR(N13="Enrolled",N13="Declined",N13="No Response"),"Closed",IF(M13<>"","Complete",IF(L13="","Set due date",IF(NOT(ISNUMBER(L13)),"Check date",IF(L13<TODAY(),"Overdue",IF(L13=TODAY(),"Due today",IF(L13<=TODAY()+Assumptions!$B$4,"Due soon","Upcoming")))))))) | S13: =IF(A13="","",IF(AND(I13="Scheduled",J13=""),"Add tour date",IF(AND(I13="Completed",J13=""),"Add tour date",IF(AND(J13<>"",I13="Not Scheduled"),"Check status",IF(AND(I13="Completed",ISNUMBER(J13),J13>TODAY()),"Check date",IF(AND(J13<>"",K13=""),"Add tour time","OK")))))) | T13: =IF(A13="","",IF(B13="","Add prospect label",IF(OR(C13="",NOT(ISNUMBER(C13))),"Add inquiry date",IF(AND(F13<>"",OR(NOT(ISNUMBER(F13)),F13<C13)),"Check start date",IF(AND(J13<>"",OR(NOT(ISNUMBER(J13)),J13<C13)),"Check tour date",IF(AND(M13<>"",OR(NOT(ISNUMBER(M13)),M13<C13)),"Check follow-up date",IF(AND(O13<>"",OR(NOT(ISNUMBER(O13)),O13<C13)),"Check outcome date",IF(AND(OR(N13="Enrolled",N13="Declined",N13="No Response"),O13=""),"Add outcome date",IF(COUNTIF($A$5:$A$104,A13)>1,"Duplicate ID","OK")))))))))
A14: FI-0010 | B14: Fictional Prospect Kappa | C14: 46272 | D14: Text | E14: Pre-K | F14: 46327 | G14: Website | H14: Fictional Staff A | I14: Not Scheduled | L14: 46274 | N14: Open | P14: Fictional sample has not selected a tour date. | Q14: =IF(A14="","",IF(OR(C14="",NOT(ISNUMBER(C14))),"",IF(AND(O14<>"",ISNUMBER(O14)),MAX(0,O14-C14),MAX(0,TODAY()-C14)))) | R14: =IF(A14="","",IF(OR(N14="Enrolled",N14="Declined",N14="No Response"),"Closed",IF(M14<>"","Complete",IF(L14="","Set due date",IF(NOT(ISNUMBER(L14)),"Check date",IF(L14<TODAY(),"Overdue",IF(L14=TODAY(),"Due today",IF(L14<=TODAY()+Assumptions!$B$4,"Due soon","Upcoming")))))))) | S14: =IF(A14="","",IF(AND(I14="Scheduled",J14=""),"Add tour date",IF(AND(I14="Completed",J14=""),"Add tour date",IF(AND(J14<>"",I14="Not Scheduled"),"Check status",IF(AND(I14="Completed",ISNUMBER(J14),J14>TODAY()),"Check date",IF(AND(J14<>"",K14=""),"Add tour time","OK")))))) | T14: =IF(A14="","",IF(B14="","Add prospect label",IF(OR(C14="",NOT(ISNUMBER(C14))),"Add inquiry date",IF(AND(F14<>"",OR(NOT(ISNUMBER(F14)),F14<C14)),"Check start date",IF(AND(J14<>"",OR(NOT(ISNUMBER(J14)),J14<C14)),"Check tour date",IF(AND(M14<>"",OR(NOT(ISNUMBER(M14)),M14<C14)),"Check follow-up date",IF(AND(O14<>"",OR(NOT(ISNUMBER(O14)),O14<C14)),"Check outcome date",IF(AND(OR(N14="Enrolled",N14="Declined",N14="No Response"),O14=""),"Add outcome date",IF(COUNTIF($A$5:$A$104,A14)>1,"Duplicate ID","OK")))))))))
Q15: =IF(A15="","",IF(OR(C15="",NOT(ISNUMBER(C15))),"",IF(AND(O15<>"",ISNUMBER(O15)),MAX(0,O15-C15),MAX(0,TODAY()-C15)))) | R15: =IF(A15="","",IF(OR(N15="Enrolled",N15="Declined",N15="No Response"),"Closed",IF(M15<>"","Complete",IF(L15="","Set due date",IF(NOT(ISNUMBER(L15)),"Check date",IF(L15<TODAY(),"Overdue",IF(L15=TODAY(),"Due today",IF(L15<=TODAY()+Assumptions!$B$4,"Due soon","Upcoming")))))))) | S15: =IF(A15="","",IF(AND(I15="Scheduled",J15=""),"Add tour date",IF(AND(I15="Completed",J15=""),"Add tour date",IF(AND(J15<>"",I15="Not Scheduled"),"Check status",IF(AND(I15="Completed",ISNUMBER(J15),J15>TODAY()),"Check date",IF(AND(J15<>"",K15=""),"Add tour time","OK")))))) | T15: =IF(A15="","",IF(B15="","Add prospect label",IF(OR(C15="",NOT(ISNUMBER(C15))),"Add inquiry date",IF(AND(F15<>"",OR(NOT(ISNUMBER(F15)),F15<C15)),"Check start date",IF(AND(J15<>"",OR(NOT(ISNUMBER(J15)),J15<C15)),"Check tour date",IF(AND(M15<>"",OR(NOT(ISNUMBER(M15)),M15<C15)),"Check follow-up date",IF(AND(O15<>"",OR(NOT(ISNUMBER(O15)),O15<C15)),"Check outcome date",IF(AND(OR(N15="Enrolled",N15="Declined",N15="No Response"),O15=""),"Add outcome date",IF(COUNTIF($A$5:$A$104,A15)>1,"Duplicate ID","OK")))))))))
Q16: =IF(A16="","",IF(OR(C16="",NOT(ISNUMBER(C16))),"",IF(AND(O16<>"",ISNUMBER(O16)),MAX(0,O16-C16),MAX(0,TODAY()-C16)))) | R16: =IF(A16="","",IF(OR(N16="Enrolled",N16="Declined",N16="No Response"),"Closed",IF(M16<>"","Complete",IF(L16="","Set due date",IF(NOT(ISNUMBER(L16)),"Check date",IF(L16<TODAY(),"Overdue",IF(L16=TODAY(),"Due today",IF(L16<=TODAY()+Assumptions!$B$4,"Due soon","Upcoming")))))))) | S16: =IF(A16="","",IF(AND(I16="Scheduled",J16=""),"Add tour date",IF(AND(I16="Completed",J16=""),"Add tour date",IF(AND(J16<>"",I16="Not Scheduled"),"Check status",IF(AND(I16="Completed",ISNUMBER(J16),J16>TODAY()),"Check date",IF(AND(J16<>"",K16=""),"Add tour time","OK")))))) | T16: =IF(A16="","",IF(B16="","Add prospect label",IF(OR(C16="",NOT(ISNUMBER(C16))),"Add inquiry date",IF(AND(F16<>"",OR(NOT(ISNUMBER(F16)),F16<C16)),"Check start date",IF(AND(J16<>"",OR(NOT(ISNUMBER(J16)),J16<C16)),"Check tour date",IF(AND(M16<>"",OR(NOT(ISNUMBER(M16)),M16<C16)),"Check follow-up date",IF(AND(O16<>"",OR(NOT(ISNUMBER(O16)),O16<C16)),"Check outcome date",IF(AND(OR(N16="Enrolled",N16="Declined",N16="No Response"),O16=""),"Add outcome date",IF(COUNTIF($A$5:$A$104,A16)>1,"Duplicate ID","OK")))))))))
Q17: =IF(A17="","",IF(OR(C17="",NOT(ISNUMBER(C17))),"",IF(AND(O17<>"",ISNUMBER(O17)),MAX(0,O17-C17),MAX(0,TODAY()-C17)))) | R17: =IF(A17="","",IF(OR(N17="Enrolled",N17="Declined",N17="No Response"),"Closed",IF(M17<>"","Complete",IF(L17="","Set due date",IF(NOT(ISNUMBER(L17)),"Check date",IF(L17<TODAY(),"Overdue",IF(L17=TODAY(),"Due today",IF(L17<=TODAY()+Assumptions!$B$4,"Due soon","Upcoming")))))))) | S17: =IF(A17="","",IF(AND(I17="Scheduled",J17=""),"Add tour date",IF(AND(I17="Completed",J17=""),"Add tour date",IF(AND(J17<>"",I17="Not Scheduled"),"Check status",IF(AND(I17="Completed",ISNUMBER(J17),J17>TODAY()),"Check date",IF(AND(J17<>"",K17=""),"Add tour time","OK")))))) | T17: =IF(A17="","",IF(B17="","Add prospect label",IF(OR(C17="",NOT(ISNUMBER(C17))),"Add inquiry date",IF(AND(F17<>"",OR(NOT(ISNUMBER(F17)),F17<C17)),"Check start date",IF(AND(J17<>"",OR(NOT(ISNUMBER(J17)),J17<C17)),"Check tour date",IF(AND(M17<>"",OR(NOT(ISNUMBER(M17)),M17<C17)),"Check follow-up date",IF(AND(O17<>"",OR(NOT(ISNUMBER(O17)),O17<C17)),"Check outcome date",IF(AND(OR(N17="Enrolled",N17="Declined",N17="No Response"),O17=""),"Add outcome date",IF(COUNTIF($A$5:$A$104,A17)>1,"Duplicate ID","OK")))))))))
Q18: =IF(A18="","",IF(OR(C18="",NOT(ISNUMBER(C18))),"",IF(AND(O18<>"",ISNUMBER(O18)),MAX(0,O18-C18),MAX(0,TODAY()-C18)))) | R18: =IF(A18="","",IF(OR(N18="Enrolled",N18="Declined",N18="No Response"),"Closed",IF(M18<>"","Complete",IF(L18="","Set due date",IF(NOT(ISNUMBER(L18)),"Check date",IF(L18<TODAY(),"Overdue",IF(L18=TODAY(),"Due today",IF(L18<=TODAY()+Assumptions!$B$4,"Due soon","Upcoming")))))))) | S18: =IF(A18="","",IF(AND(I18="Scheduled",J18=""),"Add tour date",IF(AND(I18="Completed",J18=""),"Add tour date",IF(AND(J18<>"",I18="Not Scheduled"),"Check status",IF(AND(I18="Completed",ISNUMBER(J18),J18>TODAY()),"Check date",IF(AND(J18<>"",K18=""),"Add tour time","OK")))))) | T18: =IF(A18="","",IF(B18="","Add prospect label",IF(OR(C18="",NOT(ISNUMBER(C18))),"Add inquiry date",IF(AND(F18<>"",OR(NOT(ISNUMBER(F18)),F18<C18)),"Check start date",IF(AND(J18<>"",OR(NOT(ISNUMBER(J18)),J18<C18)),"Check tour date",IF(AND(M18<>"",OR(NOT(ISNUMBER(M18)),M18<C18)),"Check follow-up date",IF(AND(O18<>"",OR(NOT(ISNUMBER(O18)),O18<C18)),"Check outcome date",IF(AND(OR(N18="Enrolled",N18="Declined",N18="No Response"),O18=""),"Add outcome date",IF(COUNTIF($A$5:$A$104,A18)>1,"Duplicate ID","OK")))))))))
Q19: =IF(A19="","",IF(OR(C19="",NOT(ISNUMBER(C19))),"",IF(AND(O19<>"",ISNUMBER(O19)),MAX(0,O19-C19),MAX(0,TODAY()-C19)))) | R19: =IF(A19="","",IF(OR(N19="Enrolled",N19="Declined",N19="No Response"),"Closed",IF(M19<>"","Complete",IF(L19="","Set due date",IF(NOT(ISNUMBER(L19)),"Check date",IF(L19<TODAY(),"Overdue",IF(L19=TODAY(),"Due today",IF(L19<=TODAY()+Assumptions!$B$4,"Due soon","Upcoming")))))))) | S19: =IF(A19="","",IF(AND(I19="Scheduled",J19=""),"Add tour date",IF(AND(I19="Completed",J19=""),"Add tour date",IF(AND(J19<>"",I19="Not Scheduled"),"Check status",IF(AND(I19="Completed",ISNUMBER(J19),J19>TODAY()),"Check date",IF(AND(J19<>"",K19=""),"Add tour time","OK")))))) | T19: =IF(A19="","",IF(B19="","Add prospect label",IF(OR(C19="",NOT(ISNUMBER(C19))),"Add inquiry date",IF(AND(F19<>"",OR(NOT(ISNUMBER(F19)),F19<C19)),"Check start date",IF(AND(J19<>"",OR(NOT(ISNUMBER(J19)),J19<C19)),"Check tour date",IF(AND(M19<>"",OR(NOT(ISNUMBER(M19)),M19<C19)),"Check follow-up date",IF(AND(O19<>"",OR(NOT(ISNUMBER(O19)),O19<C19)),"Check outcome date",IF(AND(OR(N19="Enrolled",N19="Declined",N19="No Response"),O19=""),"Add outcome date",IF(COUNTIF($A$5:$A$104,A19)>1,"Duplicate ID","OK")))))))))
Q20: =IF(A20="","",IF(OR(C20="",NOT(ISNUMBER(C20))),"",IF(AND(O20<>"",ISNUMBER(O20)),MAX(0,O20-C20),MAX(0,TODAY()-C20)))) | R20: =IF(A20="","",IF(OR(N20="Enrolled",N20="Declined",N20="No Response"),"Closed",IF(M20<>"","Complete",IF(L20="","Set due date",IF(NOT(ISNUMBER(L20)),"Check date",IF(L20<TODAY(),"Overdue",IF(L20=TODAY(),"Due today",IF(L20<=TODAY()+Assumptions!$B$4,"Due soon","Upcoming")))))))) | S20: =IF(A20="","",IF(AND(I20="Scheduled",J20=""),"Add tour date",IF(AND(I20="Completed",J20=""),"Add tour date",IF(AND(J20<>"",I20="Not Scheduled"),"Check status",IF(AND(I20="Completed",ISNUMBER(J20),J20>TODAY()),"Check date",IF(AND(J20<>"",K20=""),"Add tour time","OK")))))) | T20: =IF(A20="","",IF(B20="","Add prospect label",IF(OR(C20="",NOT(ISNUMBER(C20))),"Add inquiry date",IF(AND(F20<>"",OR(NOT(ISNUMBER(F20)),F20<C20)),"Check start date",IF(AND(J20<>"",OR(NOT(ISNUMBER(J20)),J20<C20)),"Check tour date",IF(AND(M20<>"",OR(NOT(ISNUMBER(M20)),M20<C20)),"Check follow-up date",IF(AND(O20<>"",OR(NOT(ISNUMBER(O20)),O20<C20)),"Check outcome date",IF(AND(OR(N20="Enrolled",N20="Declined",N20="No Response"),O20=""),"Add outcome date",IF(COUNTIF($A$5:$A$104,A20)>1,"Duplicate ID","OK")))))))))
Q21: =IF(A21="","",IF(OR(C21="",NOT(ISNUMBER(C21))),"",IF(AND(O21<>"",ISNUMBER(O21)),MAX(0,O21-C21),MAX(0,TODAY()-C21)))) | R21: =IF(A21="","",IF(OR(N21="Enrolled",N21="Declined",N21="No Response"),"Closed",IF(M21<>"","Complete",IF(L21="","Set due date",IF(NOT(ISNUMBER(L21)),"Check date",IF(L21<TODAY(),"Overdue",IF(L21=TODAY(),"Due today",IF(L21<=TODAY()+Assumptions!$B$4,"Due soon","Upcoming")))))))) | S21: =IF(A21="","",IF(AND(I21="Scheduled",J21=""),"Add tour date",IF(AND(I21="Completed",J21=""),"Add tour date",IF(AND(J21<>"",I21="Not Scheduled"),"Check status",IF(AND(I21="Completed",ISNUMBER(J21),J21>TODAY()),"Check date",IF(AND(J21<>"",K21=""),"Add tour time","OK")))))) | T21: =IF(A21="","",IF(B21="","Add prospect label",IF(OR(C21="",NOT(ISNUMBER(C21))),"Add inquiry date",IF(AND(F21<>"",OR(NOT(ISNUMBER(F21)),F21<C21)),"Check start date",IF(AND(J21<>"",OR(NOT(ISNUMBER(J21)),J21<C21)),"Check tour date",IF(AND(M21<>"",OR(NOT(ISNUMBER(M21)),M21<C21)),"Check follow-up date",IF(AND(O21<>"",OR(NOT(ISNUMBER(O21)),O21<C21)),"Check outcome date",IF(AND(OR(N21="Enrolled",N21="Declined",N21="No Response"),O21=""),"Add outcome date",IF(COUNTIF($A$5:$A$104,A21)>1,"Duplicate ID","OK")))))))))
Q22: =IF(A22="","",IF(OR(C22="",NOT(ISNUMBER(C22))),"",IF(AND(O22<>"",ISNUMBER(O22)),MAX(0,O22-C22),MAX(0,TODAY()-C22)))) | R22: =IF(A22="","",IF(OR(N22="Enrolled",N22="Declined",N22="No Response"),"Closed",IF(M22<>"","Complete",IF(L22="","Set due date",IF(NOT(ISNUMBER(L22)),"Check date",IF(L22<TODAY(),"Overdue",IF(L22=TODAY(),"Due today",IF(L22<=TODAY()+Assumptions!$B$4,"Due soon","Upcoming")))))))) | S22: =IF(A22="","",IF(AND(I22="Scheduled",J22=""),"Add tour date",IF(AND(I22="Completed",J22=""),"Add tour date",IF(AND(J22<>"",I22="Not Scheduled"),"Check status",IF(AND(I22="Completed",ISNUMBER(J22),J22>TODAY()),"Check date",IF(AND(J22<>"",K22=""),"Add tour time","OK")))))) | T22: =IF(A22="","",IF(B22="","Add prospect label",IF(OR(C22="",NOT(ISNUMBER(C22))),"Add inquiry date",IF(AND(F22<>"",OR(NOT(ISNUMBER(F22)),F22<C22)),"Check start date",IF(AND(J22<>"",OR(NOT(ISNUMBER(J22)),J22<C22)),"Check tour date",IF(AND(M22<>"",OR(NOT(ISNUMBER(M22)),M22<C22)),"Check follow-up date",IF(AND(O22<>"",OR(NOT(ISNUMBER(O22)),O22<C22)),"Check outcome date",IF(AND(OR(N22="Enrolled",N22="Declined",N22="No Response"),O22=""),"Add outcome date",IF(COUNTIF($A$5:$A$104,A22)>1,"Duplicate ID","OK")))))))))
Q23: =IF(A23="","",IF(OR(C23="",NOT(ISNUMBER(C23))),"",IF(AND(O23<>"",ISNUMBER(O23)),MAX(0,O23-C23),MAX(0,TODAY()-C23)))) | R23: =IF(A23="","",IF(OR(N23="Enrolled",N23="Declined",N23="No Response"),"Closed",IF(M23<>"","Complete",IF(L23="","Set due date",IF(NOT(ISNUMBER(L23)),"Check date",IF(L23<TODAY(),"Overdue",IF(L23=TODAY(),"Due today",IF(L23<=TODAY()+Assumptions!$B$4,"Due soon","Upcoming")))))))) | S23: =IF(A23="","",IF(AND(I23="Scheduled",J23=""),"Add tour date",IF(AND(I23="Completed",J23=""),"Add tour date",IF(AND(J23<>"",I23="Not Scheduled"),"Check status",IF(AND(I23="Completed",ISNUMBER(J23),J23>TODAY()),"Check date",IF(AND(J23<>"",K23=""),"Add tour time","OK")))))) | T23: =IF(A23="","",IF(B23="","Add prospect label",IF(OR(C23="",NOT(ISNUMBER(C23))),"Add inquiry date",IF(AND(F23<>"",OR(NOT(ISNUMBER(F23)),F23<C23)),"Check start date",IF(AND(J23<>"",OR(NOT(ISNUMBER(J23)),J23<C23)),"Check tour date",IF(AND(M23<>"",OR(NOT(ISNUMBER(M23)),M23<C23)),"Check follow-up date",IF(AND(O23<>"",OR(NOT(ISNUMBER(O23)),O23<C23)),"Check outcome date",IF(AND(OR(N23="Enrolled",N23="Declined",N23="No Response"),O23=""),"Add outcome date",IF(COUNTIF($A$5:$A$104,A23)>1,"Duplicate ID","OK")))))))))
Q24: =IF(A24="","",IF(OR(C24="",NOT(ISNUMBER(C24))),"",IF(AND(O24<>"",ISNUMBER(O24)),MAX(0,O24-C24),MAX(0,TODAY()-C24)))) | R24: =IF(A24="","",IF(OR(N24="Enrolled",N24="Declined",N24="No Response"),"Closed",IF(M24<>"","Complete",IF(L24="","Set due date",IF(NOT(ISNUMBER(L24)),"Check date",IF(L24<TODAY(),"Overdue",IF(L24=TODAY(),"Due today",IF(L24<=TODAY()+Assumptions!$B$4,"Due soon","Upcoming")))))))) | S24: =IF(A24="","",IF(AND(I24="Scheduled",J24=""),"Add tour date",IF(AND(I24="Completed",J24=""),"Add tour date",IF(AND(J24<>"",I24="Not Scheduled"),"Check status",IF(AND(I24="Completed",ISNUMBER(J24),J24>TODAY()),"Check date",IF(AND(J24<>"",K24=""),"Add tour time","OK")))))) | T24: =IF(A24="","",IF(B24="","Add prospect label",IF(OR(C24="",NOT(ISNUMBER(C24))),"Add inquiry date",IF(AND(F24<>"",OR(NOT(ISNUMBER(F24)),F24<C24)),"Check start date",IF(AND(J24<>"",OR(NOT(ISNUMBER(J24)),J24<C24)),"Check tour date",IF(AND(M24<>"",OR(NOT(ISNUMBER(M24)),M24<C24)),"Check follow-up date",IF(AND(O24<>"",OR(NOT(ISNUMBER(O24)),O24<C24)),"Check outcome date",IF(AND(OR(N24="Enrolled",N24="Declined",N24="No Response"),O24=""),"Add outcome date",IF(COUNTIF($A$5:$A$104,A24)>1,"Duplicate ID","OK")))))))))
Q25: =IF(A25="","",IF(OR(C25="",NOT(ISNUMBER(C25))),"",IF(AND(O25<>"",ISNUMBER(O25)),MAX(0,O25-C25),MAX(0,TODAY()-C25)))) | R25: =IF(A25="","",IF(OR(N25="Enrolled",N25="Declined",N25="No Response"),"Closed",IF(M25<>"","Complete",IF(L25="","Set due date",IF(NOT(ISNUMBER(L25)),"Check date",IF(L25<TODAY(),"Overdue",IF(L25=TODAY(),"Due today",IF(L25<=TODAY()+Assumptions!$B$4,"Due soon","Upcoming")))))))) | S25: =IF(A25="","",IF(AND(I25="Scheduled",J25=""),"Add tour date",IF(AND(I25="Completed",J25=""),"Add tour date",IF(AND(J25<>"",I25="Not Scheduled"),"Check status",IF(AND(I25="Completed",ISNUMBER(J25),J25>TODAY()),"Check date",IF(AND(J25<>"",K25=""),"Add tour time","OK")))))) | T25: =IF(A25="","",IF(B25="","Add prospect label",IF(OR(C25="",NOT(ISNUMBER(C25))),"Add inquiry date",IF(AND(F25<>"",OR(NOT(ISNUMBER(F25)),F25<C25)),"Check start date",IF(AND(J25<>"",OR(NOT(ISNUMBER(J25)),J25<C25)),"Check tour date",IF(AND(M25<>"",OR(NOT(ISNUMBER(M25)),M25<C25)),"Check follow-up date",IF(AND(O25<>"",OR(NOT(ISNUMBER(O25)),O25<C25)),"Check outcome date",IF(AND(OR(N25="Enrolled",N25="Declined",N25="No Response"),O25=""),"Add outcome date",IF(COUNTIF($A$5:$A$104,A25)>1,"Duplicate ID","OK")))))))))
Q26: =IF(A26="","",IF(OR(C26="",NOT(ISNUMBER(C26))),"",IF(AND(O26<>"",ISNUMBER(O26)),MAX(0,O26-C26),MAX(0,TODAY()-C26)))) | R26: =IF(A26="","",IF(OR(N26="Enrolled",N26="Declined",N26="No Response"),"Closed",IF(M26<>"","Complete",IF(L26="","Set due date",IF(NOT(ISNUMBER(L26)),"Check date",IF(L26<TODAY(),"Overdue",IF(L26=TODAY(),"Due today",IF(L26<=TODAY()+Assumptions!$B$4,"Due soon","Upcoming")))))))) | S26: =IF(A26="","",IF(AND(I26="Scheduled",J26=""),"Add tour date",IF(AND(I26="Completed",J26=""),"Add tour date",IF(AND(J26<>"",I26="Not Scheduled"),"Check status",IF(AND(I26="Completed",ISNUMBER(J26),J26>TODAY()),"Check date",IF(AND(J26<>"",K26=""),"Add tour time","OK")))))) | T26: =IF(A26="","",IF(B26="","Add prospect label",IF(OR(C26="",NOT(ISNUMBER(C26))),"Add inquiry date",IF(AND(F26<>"",OR(NOT(ISNUMBER(F26)),F26<C26)),"Check start date",IF(AND(J26<>"",OR(NOT(ISNUMBER(J26)),J26<C26)),"Check tour date",IF(AND(M26<>"",OR(NOT(ISNUMBER(M26)),M26<C26)),"Check follow-up date",IF(AND(O26<>"",OR(NOT(ISNUMBER(O26)),O26<C26)),"Check outcome date",IF(AND(OR(N26="Enrolled",N26="Declined",N26="No Response"),O26=""),"Add outcome date",IF(COUNTIF($A$5:$A$104,A26)>1,"Duplicate ID","OK")))))))))
... Q104: =IF(A104="","",IF(OR(C104="",NOT(ISNUMBER(C104))),"",IF(AND(O104<>"",ISNUMBER(O104)),MAX(0,O104-C104),MAX(0,TODAY()-C104)))) | R104: =IF(A104="","",IF(OR(N104="Enrolled",N104="Declined",N104="No Response"),"Closed",IF(M104<>"","Complete",IF(L104="","Set due date",IF(NOT(ISNUMBER(L104)),"Check date",IF(L104<TODAY(),"Overdue",IF(L104=TODAY(),"Due today",IF(L104<=TODAY()+Assumptions!$B$4,"Due soon","Upcoming")))))))) | S104: =IF(A104="","",IF(AND(I104="Scheduled",J104=""),"Add tour date",IF(AND(I104="Completed",J104=""),"Add tour date",IF(AND(J104<>"",I104="Not Scheduled"),"Check status",IF(AND(I104="Completed",ISNUMBER(J104),J104>TODAY()),"Check date",IF(AND(J104<>"",K104=""),"Add tour time","OK")))))) | T104: =IF(A104="","",IF(B104="","Add prospect label",IF(OR(C104="",NOT(ISNUMBER(C104))),"Add inquiry date",IF(AND(F104<>"",OR(NOT(ISNUMBER(F104)),F104<C104)),"Check start date",IF(AND(J104<>"",OR(NOT(ISNUMBER(J104)),J104<C104)),"Check tour date",IF(AND(M104<>"",OR(NOT(ISNUMBER(M104)),M104<C104)),"Check follow-up date",IF(AND(O104<>"",OR(NOT(ISNUMBER(O104)),O104<C104)),"Check outcome date",IF(AND(OR(N104="Enrolled",N104="Declined",N104="No Response"),O104=""),"Add outcome date",IF(COUNTIF($A$5:$A$104,A104)>1,"Duplicate ID","OK")))))))))

Sheet Assumptions
A1: Assumptions and Stable Lists
A2: Edit yellow cells when center practices or available choices change; these are administrative settings, not compliance requirements.
A3: Setting | B3: Value | C3: Purpose | E3: Program Interests | F3: Contact Methods | G3: Referral Sources | H3: Assigned Staff | I3: Tour Statuses | J3: Outcomes
A4: Follow-up due-soon days | B4: 3 | C4: Days ahead used for the Due soon alert. | E4: Infant | F4: Email | G4: Website | H4: Fictional Staff A | I4: Not Scheduled | J4: Open
A5: Open-age review days | B5: 14 | C5: Days open before the age cell is highlighted for human review. | E5: Toddler | F5: Phone | G5: Phone Call | H5: Fictional Staff B | I5: Scheduled | J5: Waitlist
A6: Earliest entry date | B6: 43831 | C6: Lower limit used by inquiry date validation. | E6: Preschool | F6: Text | G6: Walk-In | H6: Fictional Staff C | I6: Completed | J6: Enrolled
A7: Latest entry date | B7: 49674 | C7: Upper limit used by inquiry date validation. | E7: Pre-K | G7: Community Event | I7: Canceled | J7: Declined
A8: Earliest tour time | B8: 0.29166667 | C8: Earliest time accepted by tour-time validation. | E8: School Age | G8: Referral | I8: No-Show | J8: No Response
A9: Latest tour time | B9: 0.79166667 | C9: Latest time accepted by tour-time validation. | G9: Social Media
