Workbook

Sheet Summary
A1: Daycare Waitlist Summary
A2: Administrative queue-review aid only. Confirm current availability and center policy before taking action.
A3: Overall Indicator | B3: Current Value
A4: Review As Of | B4: =Setup!$I$4
A5: Active Requests | B5: =COUNTIF(Waitlist!$I$2:$I$201,"Active")
A6: Ready for Review | B6: =COUNTIF(Waitlist!$R$2:$R$201,"Ready")
A7: Active Rows Not Ready | B7: =COUNTIFS(Waitlist!$A$2:$A$201,"<>",Waitlist!$I$2:$I$201,"Active",Waitlist!$R$2:$R$201,"<>Ready")
A8: Follow-Up Attention | B8: =COUNTIFS(Waitlist!$I$2:$I$201,"Active",Waitlist!$L$2:$L$201,"<>",Waitlist!$L$2:$L$201,"<="&Setup!$I$4+Setup!$I$9)
A9: Active Rows Without Age Group | B9: =COUNTIFS(Waitlist!$I$2:$I$201,"Active",Waitlist!$N$2:$N$201,"")+COUNTIFS(Waitlist!$I$2:$I$201,"Active",Waitlist!$N$2:$N$201,"Outside configured ranges")
A11: Age Group Workload
A12: Age Group | B12: Active Requests | C12: Ready for Review | D12: Average Wait Days | E12: Follow-Up Attention
A13: =Setup!B4 | B13: =COUNTIFS(Waitlist!$I$2:$I$201,"Active",Waitlist!$N$2:$N$201,$A13) | C13: =COUNTIFS(Waitlist!$R$2:$R$201,"Ready",Waitlist!$N$2:$N$201,$A13) | D13: =IF(C13=0,"",IFERROR(SUMIFS(Waitlist!$O$2:$O$201,Waitlist!$R$2:$R$201,"Ready",Waitlist!$N$2:$N$201,$A13)/C13,"")) | E13: =COUNTIFS(Waitlist!$I$2:$I$201,"Active",Waitlist!$N$2:$N$201,$A13,Waitlist!$L$2:$L$201,"<>",Waitlist!$L$2:$L$201,"<="&Setup!$I$4+Setup!$I$9)
A14: =Setup!B5 | B14: =COUNTIFS(Waitlist!$I$2:$I$201,"Active",Waitlist!$N$2:$N$201,$A14) | C14: =COUNTIFS(Waitlist!$R$2:$R$201,"Ready",Waitlist!$N$2:$N$201,$A14) | D14: =IF(C14=0,"",IFERROR(SUMIFS(Waitlist!$O$2:$O$201,Waitlist!$R$2:$R$201,"Ready",Waitlist!$N$2:$N$201,$A14)/C14,"")) | E14: =COUNTIFS(Waitlist!$I$2:$I$201,"Active",Waitlist!$N$2:$N$201,$A14,Waitlist!$L$2:$L$201,"<>",Waitlist!$L$2:$L$201,"<="&Setup!$I$4+Setup!$I$9)
A15: =Setup!B6 | B15: =COUNTIFS(Waitlist!$I$2:$I$201,"Active",Waitlist!$N$2:$N$201,$A15) | C15: =COUNTIFS(Waitlist!$R$2:$R$201,"Ready",Waitlist!$N$2:$N$201,$A15) | D15: =IF(C15=0,"",IFERROR(SUMIFS(Waitlist!$O$2:$O$201,Waitlist!$R$2:$R$201,"Ready",Waitlist!$N$2:$N$201,$A15)/C15,"")) | E15: =COUNTIFS(Waitlist!$I$2:$I$201,"Active",Waitlist!$N$2:$N$201,$A15,Waitlist!$L$2:$L$201,"<>",Waitlist!$L$2:$L$201,"<="&Setup!$I$4+Setup!$I$9)
A16: =Setup!B7 | B16: =COUNTIFS(Waitlist!$I$2:$I$201,"Active",Waitlist!$N$2:$N$201,$A16) | C16: =COUNTIFS(Waitlist!$R$2:$R$201,"Ready",Waitlist!$N$2:$N$201,$A16) | D16: =IF(C16=0,"",IFERROR(SUMIFS(Waitlist!$O$2:$O$201,Waitlist!$R$2:$R$201,"Ready",Waitlist!$N$2:$N$201,$A16)/C16,"")) | E16: =COUNTIFS(Waitlist!$I$2:$I$201,"Active",Waitlist!$N$2:$N$201,$A16,Waitlist!$L$2:$L$201,"<>",Waitlist!$L$2:$L$201,"<="&Setup!$I$4+Setup!$I$9)

Sheet Waitlist
A1: Request ID | B1: Waitlist Date | C1: Family Alias | D1: Child Birth Date | E1: Preferred Start Date | F1: Earliest Acceptable Start | G1: Latest Acceptable Start | H1: Requested Schedule | I1: Request Status | J1: Last Contact Date | K1: Contact Outcome | L1: Next Follow-Up Date | M1: Age at Preferred Start (Months) | N1: Age Group | O1: Wait Days | P1: Window Days Remaining | Q1: Contact Adjustment | R1: Review State | S1: Review Score | T1: Age Group Review Rank | U1: Alert
A2: WL-1001 | B2: 46034 | C2: Aster Family | D2: 46068 | E2: 46300 | F2: 46285 | G2: 46315 | H2: Full Week | I2: Active | J2: 46273 | K2: Reached - Interested | L2: 46276 | M2: =IF(OR(D2="",E2=""),"",12*(YEAR(E2)-YEAR(D2))+MONTH(E2)-MONTH(D2)-IF(DAY(E2)<DAY(D2),1,0)) | N2: =IF(M2="","",IFERROR(IF(M2<=VLOOKUP(M2,Setup!$A$4:$C$7,3,TRUE),VLOOKUP(M2,Setup!$A$4:$C$7,2,TRUE),"Outside configured ranges"),"Outside configured ranges")) | O2: =IF(OR(B2="",B2>Setup!$I$4),"",Setup!$I$4-B2) | P2: =IF(G2="","",G2-Setup!$I$4) | Q2: =IF(K2="","",IFERROR(VLOOKUP(K2,Setup!$E$4:$F$9,2,FALSE),"")) | R2: =IF(A2="","",IF(OR(B2="",C2="",D2="",E2="",F2="",G2="",H2="",I2="",K2=""),"Incomplete",IF(COUNTIF(Setup!$K$4:$K$8,I2)=0,"Invalid status",IF(COUNTIF(Setup!$L$4:$L$8,H2)=0,"Invalid schedule",IF(COUNTIF(Setup!$E$4:$E$9,K2)=0,"Invalid contact outcome",IF(I2<>"Active","Not active",IF(B2>Setup!$I$4,"Future waitlist date",IF(D2>E2,"Invalid age/date",IF(F2>G2,"Invalid window",IF(OR(E2<F2,E2>G2),"Preferred date outside window",IF(G2<Setup!$I$4,"Window expired",IF(OR(M2="",N2="Outside configured ranges"),"Outside age bands","Ready")))))))))))) | S2: =IF(R2<>"Ready","",ROUND(O2*Setup!$I$5+MAX(0,Setup!$I$6-MAX(0,P2))*Setup!$I$7+Q2,1)) | T2: =IF(S2="","",1+COUNTIFS($R$2:$R$201,"Ready",$N$2:$N$201,N2,$S$2:$S$201,">"&S2)+COUNTIFS($R$2:$R$201,"Ready",$N$2:$N$201,N2,$S$2:$S$201,"="&S2,$B$2:$B$201,"<"&B2)+COUNTIFS($R$2:$R$201,"Ready",$N$2:$N$201,N2,$S$2:$S$201,"="&S2,$B$2:$B$201,"="&B2,$A$2:$A$201,"<"&A2)) | U2: =IF(A2="","",IF(R2<>"Ready",R2,IF(AND(K2="Not Contacted",J2<>""),"Clear last contact date or update outcome",IF(AND(K2<>"Not Contacted",J2=""),"Add last contact date",IF(AND(J2<>"",J2>Setup!$I$4),"Last contact is after review date",IF(K2="Declined","Align status with declined outcome",IF(AND(L2<>"",L2>G2),"Follow-up is after latest start",IF(AND(L2<>"",L2<Setup!$I$4),"Follow-up overdue",IF(AND(L2<>"",L2<=Setup!$I$4+Setup!$I$9),"Follow-up due soon",IF(AND(J2<>"",Setup!$I$4-J2>Setup!$I$8),"Contact may be stale",""))))))))))
A3: WL-1002 | B3: 46084 | C3: Birch Family | D3: 45301 | E3: 46293 | F3: 46280 | G3: 46295 | H3: Mon/Wed/Fri | I3: Active | J3: 46254 | K3: No Response | L3: 46273 | M3: =IF(OR(D3="",E3=""),"",12*(YEAR(E3)-YEAR(D3))+MONTH(E3)-MONTH(D3)-IF(DAY(E3)<DAY(D3),1,0)) | N3: =IF(M3="","",IFERROR(IF(M3<=VLOOKUP(M3,Setup!$A$4:$C$7,3,TRUE),VLOOKUP(M3,Setup!$A$4:$C$7,2,TRUE),"Outside configured ranges"),"Outside configured ranges")) | O3: =IF(OR(B3="",B3>Setup!$I$4),"",Setup!$I$4-B3) | P3: =IF(G3="","",G3-Setup!$I$4) | Q3: =IF(K3="","",IFERROR(VLOOKUP(K3,Setup!$E$4:$F$9,2,FALSE),"")) | R3: =IF(A3="","",IF(OR(B3="",C3="",D3="",E3="",F3="",G3="",H3="",I3="",K3=""),"Incomplete",IF(COUNTIF(Setup!$K$4:$K$8,I3)=0,"Invalid status",IF(COUNTIF(Setup!$L$4:$L$8,H3)=0,"Invalid schedule",IF(COUNTIF(Setup!$E$4:$E$9,K3)=0,"Invalid contact outcome",IF(I3<>"Active","Not active",IF(B3>Setup!$I$4,"Future waitlist date",IF(D3>E3,"Invalid age/date",IF(F3>G3,"Invalid window",IF(OR(E3<F3,E3>G3),"Preferred date outside window",IF(G3<Setup!$I$4,"Window expired",IF(OR(M3="",N3="Outside configured ranges"),"Outside age bands","Ready")))))))))))) | S3: =IF(R3<>"Ready","",ROUND(O3*Setup!$I$5+MAX(0,Setup!$I$6-MAX(0,P3))*Setup!$I$7+Q3,1)) | T3: =IF(S3="","",1+COUNTIFS($R$2:$R$201,"Ready",$N$2:$N$201,N3,$S$2:$S$201,">"&S3)+COUNTIFS($R$2:$R$201,"Ready",$N$2:$N$201,N3,$S$2:$S$201,"="&S3,$B$2:$B$201,"<"&B3)+COUNTIFS($R$2:$R$201,"Ready",$N$2:$N$201,N3,$S$2:$S$201,"="&S3,$B$2:$B$201,"="&B3,$A$2:$A$201,"<"&A3)) | U3: =IF(A3="","",IF(R3<>"Ready",R3,IF(AND(K3="Not Contacted",J3<>""),"Clear last contact date or update outcome",IF(AND(K3<>"Not Contacted",J3=""),"Add last contact date",IF(AND(J3<>"",J3>Setup!$I$4),"Last contact is after review date",IF(K3="Declined","Align status with declined outcome",IF(AND(L3<>"",L3>G3),"Follow-up is after latest start",IF(AND(L3<>"",L3<Setup!$I$4),"Follow-up overdue",IF(AND(L3<>"",L3<=Setup!$I$4+Setup!$I$9),"Follow-up due soon",IF(AND(J3<>"",Setup!$I$4-J3>Setup!$I$8),"Contact may be stale",""))))))))))
A4: WL-1003 | B4: 46130 | C4: Clover Family | D4: 45066 | E4: 46296 | F4: 46290 | G4: 46341 | H4: Flexible | I4: Active | K4: Not Contacted | L4: 46277 | M4: =IF(OR(D4="",E4=""),"",12*(YEAR(E4)-YEAR(D4))+MONTH(E4)-MONTH(D4)-IF(DAY(E4)<DAY(D4),1,0)) | N4: =IF(M4="","",IFERROR(IF(M4<=VLOOKUP(M4,Setup!$A$4:$C$7,3,TRUE),VLOOKUP(M4,Setup!$A$4:$C$7,2,TRUE),"Outside configured ranges"),"Outside configured ranges")) | O4: =IF(OR(B4="",B4>Setup!$I$4),"",Setup!$I$4-B4) | P4: =IF(G4="","",G4-Setup!$I$4) | Q4: =IF(K4="","",IFERROR(VLOOKUP(K4,Setup!$E$4:$F$9,2,FALSE),"")) | R4: =IF(A4="","",IF(OR(B4="",C4="",D4="",E4="",F4="",G4="",H4="",I4="",K4=""),"Incomplete",IF(COUNTIF(Setup!$K$4:$K$8,I4)=0,"Invalid status",IF(COUNTIF(Setup!$L$4:$L$8,H4)=0,"Invalid schedule",IF(COUNTIF(Setup!$E$4:$E$9,K4)=0,"Invalid contact outcome",IF(I4<>"Active","Not active",IF(B4>Setup!$I$4,"Future waitlist date",IF(D4>E4,"Invalid age/date",IF(F4>G4,"Invalid window",IF(OR(E4<F4,E4>G4),"Preferred date outside window",IF(G4<Setup!$I$4,"Window expired",IF(OR(M4="",N4="Outside configured ranges"),"Outside age bands","Ready")))))))))))) | S4: =IF(R4<>"Ready","",ROUND(O4*Setup!$I$5+MAX(0,Setup!$I$6-MAX(0,P4))*Setup!$I$7+Q4,1)) | T4: =IF(S4="","",1+COUNTIFS($R$2:$R$201,"Ready",$N$2:$N$201,N4,$S$2:$S$201,">"&S4)+COUNTIFS($R$2:$R$201,"Ready",$N$2:$N$201,N4,$S$2:$S$201,"="&S4,$B$2:$B$201,"<"&B4)+COUNTIFS($R$2:$R$201,"Ready",$N$2:$N$201,N4,$S$2:$S$201,"="&S4,$B$2:$B$201,"="&B4,$A$2:$A$201,"<"&A4)) | U4: =IF(A4="","",IF(R4<>"Ready",R4,IF(AND(K4="Not Contacted",J4<>""),"Clear last contact date or update outcome",IF(AND(K4<>"Not Contacted",J4=""),"Add last contact date",IF(AND(J4<>"",J4>Setup!$I$4),"Last contact is after review date",IF(K4="Declined","Align status with declined outcome",IF(AND(L4<>"",L4>G4),"Follow-up is after latest start",IF(AND(L4<>"",L4<Setup!$I$4),"Follow-up overdue",IF(AND(L4<>"",L4<=Setup!$I$4+Setup!$I$9),"Follow-up due soon",IF(AND(J4<>"",Setup!$I$4-J4>Setup!$I$8),"Contact may be stale",""))))))))))
A5: WL-1004 | B5: 46144 | C5: Dandelion Family | D5: 44743 | E5: 46285 | F5: 46275 | G5: 46290 | H5: Full Week | I5: Active | J5: 46266 | K5: Follow-Up Requested | L5: 46275 | M5: =IF(OR(D5="",E5=""),"",12*(YEAR(E5)-YEAR(D5))+MONTH(E5)-MONTH(D5)-IF(DAY(E5)<DAY(D5),1,0)) | N5: =IF(M5="","",IFERROR(IF(M5<=VLOOKUP(M5,Setup!$A$4:$C$7,3,TRUE),VLOOKUP(M5,Setup!$A$4:$C$7,2,TRUE),"Outside configured ranges"),"Outside configured ranges")) | O5: =IF(OR(B5="",B5>Setup!$I$4),"",Setup!$I$4-B5) | P5: =IF(G5="","",G5-Setup!$I$4) | Q5: =IF(K5="","",IFERROR(VLOOKUP(K5,Setup!$E$4:$F$9,2,FALSE),"")) | R5: =IF(A5="","",IF(OR(B5="",C5="",D5="",E5="",F5="",G5="",H5="",I5="",K5=""),"Incomplete",IF(COUNTIF(Setup!$K$4:$K$8,I5)=0,"Invalid status",IF(COUNTIF(Setup!$L$4:$L$8,H5)=0,"Invalid schedule",IF(COUNTIF(Setup!$E$4:$E$9,K5)=0,"Invalid contact outcome",IF(I5<>"Active","Not active",IF(B5>Setup!$I$4,"Future waitlist date",IF(D5>E5,"Invalid age/date",IF(F5>G5,"Invalid window",IF(OR(E5<F5,E5>G5),"Preferred date outside window",IF(G5<Setup!$I$4,"Window expired",IF(OR(M5="",N5="Outside configured ranges"),"Outside age bands","Ready")))))))))))) | S5: =IF(R5<>"Ready","",ROUND(O5*Setup!$I$5+MAX(0,Setup!$I$6-MAX(0,P5))*Setup!$I$7+Q5,1)) | T5: =IF(S5="","",1+COUNTIFS($R$2:$R$201,"Ready",$N$2:$N$201,N5,$S$2:$S$201,">"&S5)+COUNTIFS($R$2:$R$201,"Ready",$N$2:$N$201,N5,$S$2:$S$201,"="&S5,$B$2:$B$201,"<"&B5)+COUNTIFS($R$2:$R$201,"Ready",$N$2:$N$201,N5,$S$2:$S$201,"="&S5,$B$2:$B$201,"="&B5,$A$2:$A$201,"<"&A5)) | U5: =IF(A5="","",IF(R5<>"Ready",R5,IF(AND(K5="Not Contacted",J5<>""),"Clear last contact date or update outcome",IF(AND(K5<>"Not Contacted",J5=""),"Add last contact date",IF(AND(J5<>"",J5>Setup!$I$4),"Last contact is after review date",IF(K5="Declined","Align status with declined outcome",IF(AND(L5<>"",L5>G5),"Follow-up is after latest start",IF(AND(L5<>"",L5<Setup!$I$4),"Follow-up overdue",IF(AND(L5<>"",L5<=Setup!$I$4+Setup!$I$9),"Follow-up due soon",IF(AND(J5<>"",Setup!$I$4-J5>Setup!$I$8),"Contact may be stale",""))))))))))
A6: WL-1005 | B6: 46187 | C6: Elm Family | D6: 45991 | E6: 46310 | F6: 46296 | G6: 46357 | H6: Tue/Thu | I6: Paused | J6: 46267 | K6: Reached - Interested | M6: =IF(OR(D6="",E6=""),"",12*(YEAR(E6)-YEAR(D6))+MONTH(E6)-MONTH(D6)-IF(DAY(E6)<DAY(D6),1,0)) | N6: =IF(M6="","",IFERROR(IF(M6<=VLOOKUP(M6,Setup!$A$4:$C$7,3,TRUE),VLOOKUP(M6,Setup!$A$4:$C$7,2,TRUE),"Outside configured ranges"),"Outside configured ranges")) | O6: =IF(OR(B6="",B6>Setup!$I$4),"",Setup!$I$4-B6) | P6: =IF(G6="","",G6-Setup!$I$4) | Q6: =IF(K6="","",IFERROR(VLOOKUP(K6,Setup!$E$4:$F$9,2,FALSE),"")) | R6: =IF(A6="","",IF(OR(B6="",C6="",D6="",E6="",F6="",G6="",H6="",I6="",K6=""),"Incomplete",IF(COUNTIF(Setup!$K$4:$K$8,I6)=0,"Invalid status",IF(COUNTIF(Setup!$L$4:$L$8,H6)=0,"Invalid schedule",IF(COUNTIF(Setup!$E$4:$E$9,K6)=0,"Invalid contact outcome",IF(I6<>"Active","Not active",IF(B6>Setup!$I$4,"Future waitlist date",IF(D6>E6,"Invalid age/date",IF(F6>G6,"Invalid window",IF(OR(E6<F6,E6>G6),"Preferred date outside window",IF(G6<Setup!$I$4,"Window expired",IF(OR(M6="",N6="Outside configured ranges"),"Outside age bands","Ready")))))))))))) | S6: =IF(R6<>"Ready","",ROUND(O6*Setup!$I$5+MAX(0,Setup!$I$6-MAX(0,P6))*Setup!$I$7+Q6,1)) | T6: =IF(S6="","",1+COUNTIFS($R$2:$R$201,"Ready",$N$2:$N$201,N6,$S$2:$S$201,">"&S6)+COUNTIFS($R$2:$R$201,"Ready",$N$2:$N$201,N6,$S$2:$S$201,"="&S6,$B$2:$B$201,"<"&B6)+COUNTIFS($R$2:$R$201,"Ready",$N$2:$N$201,N6,$S$2:$S$201,"="&S6,$B$2:$B$201,"="&B6,$A$2:$A$201,"<"&A6)) | U6: =IF(A6="","",IF(R6<>"Ready",R6,IF(AND(K6="Not Contacted",J6<>""),"Clear last contact date or update outcome",IF(AND(K6<>"Not Contacted",J6=""),"Add last contact date",IF(AND(J6<>"",J6>Setup!$I$4),"Last contact is after review date",IF(K6="Declined","Align status with declined outcome",IF(AND(L6<>"",L6>G6),"Follow-up is after latest start",IF(AND(L6<>"",L6<Setup!$I$4),"Follow-up overdue",IF(AND(L6<>"",L6<=Setup!$I$4+Setup!$I$9),"Follow-up due soon",IF(AND(J6<>"",Setup!$I$4-J6>Setup!$I$8),"Contact may be stale",""))))))))))
A7: WL-1006 | B7: 46210 | C7: Fern Family | D7: 45509 | E7: 46300 | F7: 46285 | G7: 46305 | H7: Flexible | I7: Active | J7: 46249 | K7: Voicemail Left | M7: =IF(OR(D7="",E7=""),"",12*(YEAR(E7)-YEAR(D7))+MONTH(E7)-MONTH(D7)-IF(DAY(E7)<DAY(D7),1,0)) | N7: =IF(M7="","",IFERROR(IF(M7<=VLOOKUP(M7,Setup!$A$4:$C$7,3,TRUE),VLOOKUP(M7,Setup!$A$4:$C$7,2,TRUE),"Outside configured ranges"),"Outside configured ranges")) | O7: =IF(OR(B7="",B7>Setup!$I$4),"",Setup!$I$4-B7) | P7: =IF(G7="","",G7-Setup!$I$4) | Q7: =IF(K7="","",IFERROR(VLOOKUP(K7,Setup!$E$4:$F$9,2,FALSE),"")) | R7: =IF(A7="","",IF(OR(B7="",C7="",D7="",E7="",F7="",G7="",H7="",I7="",K7=""),"Incomplete",IF(COUNTIF(Setup!$K$4:$K$8,I7)=0,"Invalid status",IF(COUNTIF(Setup!$L$4:$L$8,H7)=0,"Invalid schedule",IF(COUNTIF(Setup!$E$4:$E$9,K7)=0,"Invalid contact outcome",IF(I7<>"Active","Not active",IF(B7>Setup!$I$4,"Future waitlist date",IF(D7>E7,"Invalid age/date",IF(F7>G7,"Invalid window",IF(OR(E7<F7,E7>G7),"Preferred date outside window",IF(G7<Setup!$I$4,"Window expired",IF(OR(M7="",N7="Outside configured ranges"),"Outside age bands","Ready")))))))))))) | S7: =IF(R7<>"Ready","",ROUND(O7*Setup!$I$5+MAX(0,Setup!$I$6-MAX(0,P7))*Setup!$I$7+Q7,1)) | T7: =IF(S7="","",1+COUNTIFS($R$2:$R$201,"Ready",$N$2:$N$201,N7,$S$2:$S$201,">"&S7)+COUNTIFS($R$2:$R$201,"Ready",$N$2:$N$201,N7,$S$2:$S$201,"="&S7,$B$2:$B$201,"<"&B7)+COUNTIFS($R$2:$R$201,"Ready",$N$2:$N$201,N7,$S$2:$S$201,"="&S7,$B$2:$B$201,"="&B7,$A$2:$A$201,"<"&A7)) | U7: =IF(A7="","",IF(R7<>"Ready",R7,IF(AND(K7="Not Contacted",J7<>""),"Clear last contact date or update outcome",IF(AND(K7<>"Not Contacted",J7=""),"Add last contact date",IF(AND(J7<>"",J7>Setup!$I$4),"Last contact is after review date",IF(K7="Declined","Align status with declined outcome",IF(AND(L7<>"",L7>G7),"Follow-up is after latest start",IF(AND(L7<>"",L7<Setup!$I$4),"Follow-up overdue",IF(AND(L7<>"",L7<=Setup!$I$4+Setup!$I$9),"Follow-up due soon",IF(AND(J7<>"",Setup!$I$4-J7>Setup!$I$8),"Contact may be stale",""))))))))))
A8: WL-1007 | B8: 46224 | C8: Grove Family | D8: 45170 | E8: 46269 | F8: 46266 | G8: 46270 | H8: Full Week | I8: Active | J8: 46266 | K8: Reached - Interested | M8: =IF(OR(D8="",E8=""),"",12*(YEAR(E8)-YEAR(D8))+MONTH(E8)-MONTH(D8)-IF(DAY(E8)<DAY(D8),1,0)) | N8: =IF(M8="","",IFERROR(IF(M8<=VLOOKUP(M8,Setup!$A$4:$C$7,3,TRUE),VLOOKUP(M8,Setup!$A$4:$C$7,2,TRUE),"Outside configured ranges"),"Outside configured ranges")) | O8: =IF(OR(B8="",B8>Setup!$I$4),"",Setup!$I$4-B8) | P8: =IF(G8="","",G8-Setup!$I$4) | Q8: =IF(K8="","",IFERROR(VLOOKUP(K8,Setup!$E$4:$F$9,2,FALSE),"")) | R8: =IF(A8="","",IF(OR(B8="",C8="",D8="",E8="",F8="",G8="",H8="",I8="",K8=""),"Incomplete",IF(COUNTIF(Setup!$K$4:$K$8,I8)=0,"Invalid status",IF(COUNTIF(Setup!$L$4:$L$8,H8)=0,"Invalid schedule",IF(COUNTIF(Setup!$E$4:$E$9,K8)=0,"Invalid contact outcome",IF(I8<>"Active","Not active",IF(B8>Setup!$I$4,"Future waitlist date",IF(D8>E8,"Invalid age/date",IF(F8>G8,"Invalid window",IF(OR(E8<F8,E8>G8),"Preferred date outside window",IF(G8<Setup!$I$4,"Window expired",IF(OR(M8="",N8="Outside configured ranges"),"Outside age bands","Ready")))))))))))) | S8: =IF(R8<>"Ready","",ROUND(O8*Setup!$I$5+MAX(0,Setup!$I$6-MAX(0,P8))*Setup!$I$7+Q8,1)) | T8: =IF(S8="","",1+COUNTIFS($R$2:$R$201,"Ready",$N$2:$N$201,N8,$S$2:$S$201,">"&S8)+COUNTIFS($R$2:$R$201,"Ready",$N$2:$N$201,N8,$S$2:$S$201,"="&S8,$B$2:$B$201,"<"&B8)+COUNTIFS($R$2:$R$201,"Ready",$N$2:$N$201,N8,$S$2:$S$201,"="&S8,$B$2:$B$201,"="&B8,$A$2:$A$201,"<"&A8)) | U8: =IF(A8="","",IF(R8<>"Ready",R8,IF(AND(K8="Not Contacted",J8<>""),"Clear last contact date or update outcome",IF(AND(K8<>"Not Contacted",J8=""),"Add last contact date",IF(AND(J8<>"",J8>Setup!$I$4),"Last contact is after review date",IF(K8="Declined","Align status with declined outcome",IF(AND(L8<>"",L8>G8),"Follow-up is after latest start",IF(AND(L8<>"",L8<Setup!$I$4),"Follow-up overdue",IF(AND(L8<>"",L8<=Setup!$I$4+Setup!$I$9),"Follow-up due soon",IF(AND(J8<>"",Setup!$I$4-J8>Setup!$I$8),"Contact may be stale",""))))))))))
A9: WL-1008 | B9: 46235 | C9: Harbor Family | D9: 44652 | E9: 46296 | F9: 46310 | G9: 46296 | H9: Full Week | I9: Active | K9: Not Contacted | M9: =IF(OR(D9="",E9=""),"",12*(YEAR(E9)-YEAR(D9))+MONTH(E9)-MONTH(D9)-IF(DAY(E9)<DAY(D9),1,0)) | N9: =IF(M9="","",IFERROR(IF(M9<=VLOOKUP(M9,Setup!$A$4:$C$7,3,TRUE),VLOOKUP(M9,Setup!$A$4:$C$7,2,TRUE),"Outside configured ranges"),"Outside configured ranges")) | O9: =IF(OR(B9="",B9>Setup!$I$4),"",Setup!$I$4-B9) | P9: =IF(G9="","",G9-Setup!$I$4) | Q9: =IF(K9="","",IFERROR(VLOOKUP(K9,Setup!$E$4:$F$9,2,FALSE),"")) | R9: =IF(A9="","",IF(OR(B9="",C9="",D9="",E9="",F9="",G9="",H9="",I9="",K9=""),"Incomplete",IF(COUNTIF(Setup!$K$4:$K$8,I9)=0,"Invalid status",IF(COUNTIF(Setup!$L$4:$L$8,H9)=0,"Invalid schedule",IF(COUNTIF(Setup!$E$4:$E$9,K9)=0,"Invalid contact outcome",IF(I9<>"Active","Not active",IF(B9>Setup!$I$4,"Future waitlist date",IF(D9>E9,"Invalid age/date",IF(F9>G9,"Invalid window",IF(OR(E9<F9,E9>G9),"Preferred date outside window",IF(G9<Setup!$I$4,"Window expired",IF(OR(M9="",N9="Outside configured ranges"),"Outside age bands","Ready")))))))))))) | S9: =IF(R9<>"Ready","",ROUND(O9*Setup!$I$5+MAX(0,Setup!$I$6-MAX(0,P9))*Setup!$I$7+Q9,1)) | T9: =IF(S9="","",1+COUNTIFS($R$2:$R$201,"Ready",$N$2:$N$201,N9,$S$2:$S$201,">"&S9)+COUNTIFS($R$2:$R$201,"Ready",$N$2:$N$201,N9,$S$2:$S$201,"="&S9,$B$2:$B$201,"<"&B9)+COUNTIFS($R$2:$R$201,"Ready",$N$2:$N$201,N9,$S$2:$S$201,"="&S9,$B$2:$B$201,"="&B9,$A$2:$A$201,"<"&A9)) | U9: =IF(A9="","",IF(R9<>"Ready",R9,IF(AND(K9="Not Contacted",J9<>""),"Clear last contact date or update outcome",IF(AND(K9<>"Not Contacted",J9=""),"Add last contact date",IF(AND(J9<>"",J9>Setup!$I$4),"Last contact is after review date",IF(K9="Declined","Align status with declined outcome",IF(AND(L9<>"",L9>G9),"Follow-up is after latest start",IF(AND(L9<>"",L9<Setup!$I$4),"Follow-up overdue",IF(AND(L9<>"",L9<=Setup!$I$4+Setup!$I$9),"Follow-up due soon",IF(AND(J9<>"",Setup!$I$4-J9>Setup!$I$8),"Contact may be stale",""))))))))))
A10: WL-1009 | B10: 46256 | C10: Juniper Family | D10: 45636 | E10: 46305 | F10: 46296 | G10: 46326 | H10: Tue/Thu | I10: Active | K10: Follow-Up Requested | L10: 46279 | M10: =IF(OR(D10="",E10=""),"",12*(YEAR(E10)-YEAR(D10))+MONTH(E10)-MONTH(D10)-IF(DAY(E10)<DAY(D10),1,0)) | N10: =IF(M10="","",IFERROR(IF(M10<=VLOOKUP(M10,Setup!$A$4:$C$7,3,TRUE),VLOOKUP(M10,Setup!$A$4:$C$7,2,TRUE),"Outside configured ranges"),"Outside configured ranges")) | O10: =IF(OR(B10="",B10>Setup!$I$4),"",Setup!$I$4-B10) | P10: =IF(G10="","",G10-Setup!$I$4) | Q10: =IF(K10="","",IFERROR(VLOOKUP(K10,Setup!$E$4:$F$9,2,FALSE),"")) | R10: =IF(A10="","",IF(OR(B10="",C10="",D10="",E10="",F10="",G10="",H10="",I10="",K10=""),"Incomplete",IF(COUNTIF(Setup!$K$4:$K$8,I10)=0,"Invalid status",IF(COUNTIF(Setup!$L$4:$L$8,H10)=0,"Invalid schedule",IF(COUNTIF(Setup!$E$4:$E$9,K10)=0,"Invalid contact outcome",IF(I10<>"Active","Not active",IF(B10>Setup!$I$4,"Future waitlist date",IF(D10>E10,"Invalid age/date",IF(F10>G10,"Invalid window",IF(OR(E10<F10,E10>G10),"Preferred date outside window",IF(G10<Setup!$I$4,"Window expired",IF(OR(M10="",N10="Outside configured ranges"),"Outside age bands","Ready")))))))))))) | S10: =IF(R10<>"Ready","",ROUND(O10*Setup!$I$5+MAX(0,Setup!$I$6-MAX(0,P10))*Setup!$I$7+Q10,1)) | T10: =IF(S10="","",1+COUNTIFS($R$2:$R$201,"Ready",$N$2:$N$201,N10,$S$2:$S$201,">"&S10)+COUNTIFS($R$2:$R$201,"Ready",$N$2:$N$201,N10,$S$2:$S$201,"="&S10,$B$2:$B$201,"<"&B10)+COUNTIFS($R$2:$R$201,"Ready",$N$2:$N$201,N10,$S$2:$S$201,"="&S10,$B$2:$B$201,"="&B10,$A$2:$A$201,"<"&A10)) | U10: =IF(A10="","",IF(R10<>"Ready",R10,IF(AND(K10="Not Contacted",J10<>""),"Clear last contact date or update outcome",IF(AND(K10<>"Not Contacted",J10=""),"Add last contact date",IF(AND(J10<>"",J10>Setup!$I$4),"Last contact is after review date",IF(K10="Declined","Align status with declined outcome",IF(AND(L10<>"",L10>G10),"Follow-up is after latest start",IF(AND(L10<>"",L10<Setup!$I$4),"Follow-up overdue",IF(AND(L10<>"",L10<=Setup!$I$4+Setup!$I$9),"Follow-up due soon",IF(AND(J10<>"",Setup!$I$4-J10>Setup!$I$8),"Contact may be stale",""))))))))))
A11: WL-1010 | B11: 46266 | C11: Lark Family | E11: 46327 | F11: 46310 | G11: 46341 | H11: Mon/Wed/Fri | I11: Active | K11: Not Contacted | M11: =IF(OR(D11="",E11=""),"",12*(YEAR(E11)-YEAR(D11))+MONTH(E11)-MONTH(D11)-IF(DAY(E11)<DAY(D11),1,0)) | N11: =IF(M11="","",IFERROR(IF(M11<=VLOOKUP(M11,Setup!$A$4:$C$7,3,TRUE),VLOOKUP(M11,Setup!$A$4:$C$7,2,TRUE),"Outside configured ranges"),"Outside configured ranges")) | O11: =IF(OR(B11="",B11>Setup!$I$4),"",Setup!$I$4-B11) | P11: =IF(G11="","",G11-Setup!$I$4) | Q11: =IF(K11="","",IFERROR(VLOOKUP(K11,Setup!$E$4:$F$9,2,FALSE),"")) | R11: =IF(A11="","",IF(OR(B11="",C11="",D11="",E11="",F11="",G11="",H11="",I11="",K11=""),"Incomplete",IF(COUNTIF(Setup!$K$4:$K$8,I11)=0,"Invalid status",IF(COUNTIF(Setup!$L$4:$L$8,H11)=0,"Invalid schedule",IF(COUNTIF(Setup!$E$4:$E$9,K11)=0,"Invalid contact outcome",IF(I11<>"Active","Not active",IF(B11>Setup!$I$4,"Future waitlist date",IF(D11>E11,"Invalid age/date",IF(F11>G11,"Invalid window",IF(OR(E11<F11,E11>G11),"Preferred date outside window",IF(G11<Setup!$I$4,"Window expired",IF(OR(M11="",N11="Outside configured ranges"),"Outside age bands","Ready")))))))))))) | S11: =IF(R11<>"Ready","",ROUND(O11*Setup!$I$5+MAX(0,Setup!$I$6-MAX(0,P11))*Setup!$I$7+Q11,1)) | T11: =IF(S11="","",1+COUNTIFS($R$2:$R$201,"Ready",$N$2:$N$201,N11,$S$2:$S$201,">"&S11)+COUNTIFS($R$2:$R$201,"Ready",$N$2:$N$201,N11,$S$2:$S$201,"="&S11,$B$2:$B$201,"<"&B11)+COUNTIFS($R$2:$R$201,"Ready",$N$2:$N$201,N11,$S$2:$S$201,"="&S11,$B$2:$B$201,"="&B11,$A$2:$A$201,"<"&A11)) | U11: =IF(A11="","",IF(R11<>"Ready",R11,IF(AND(K11="Not Contacted",J11<>""),"Clear last contact date or update outcome",IF(AND(K11<>"Not Contacted",J11=""),"Add last contact date",IF(AND(J11<>"",J11>Setup!$I$4),"Last contact is after review date",IF(K11="Declined","Align status with declined outcome",IF(AND(L11<>"",L11>G11),"Follow-up is after latest start",IF(AND(L11<>"",L11<Setup!$I$4),"Follow-up overdue",IF(AND(L11<>"",L11<=Setup!$I$4+Setup!$I$9),"Follow-up due soon",IF(AND(J11<>"",Setup!$I$4-J11>Setup!$I$8),"Contact may be stale",""))))))))))
M12: =IF(OR(D12="",E12=""),"",12*(YEAR(E12)-YEAR(D12))+MONTH(E12)-MONTH(D12)-IF(DAY(E12)<DAY(D12),1,0)) | N12: =IF(M12="","",IFERROR(IF(M12<=VLOOKUP(M12,Setup!$A$4:$C$7,3,TRUE),VLOOKUP(M12,Setup!$A$4:$C$7,2,TRUE),"Outside configured ranges"),"Outside configured ranges")) | O12: =IF(OR(B12="",B12>Setup!$I$4),"",Setup!$I$4-B12) | P12: =IF(G12="","",G12-Setup!$I$4) | Q12: =IF(K12="","",IFERROR(VLOOKUP(K12,Setup!$E$4:$F$9,2,FALSE),"")) | R12: =IF(A12="","",IF(OR(B12="",C12="",D12="",E12="",F12="",G12="",H12="",I12="",K12=""),"Incomplete",IF(COUNTIF(Setup!$K$4:$K$8,I12)=0,"Invalid status",IF(COUNTIF(Setup!$L$4:$L$8,H12)=0,"Invalid schedule",IF(COUNTIF(Setup!$E$4:$E$9,K12)=0,"Invalid contact outcome",IF(I12<>"Active","Not active",IF(B12>Setup!$I$4,"Future waitlist date",IF(D12>E12,"Invalid age/date",IF(F12>G12,"Invalid window",IF(OR(E12<F12,E12>G12),"Preferred date outside window",IF(G12<Setup!$I$4,"Window expired",IF(OR(M12="",N12="Outside configured ranges"),"Outside age bands","Ready")))))))))))) | S12: =IF(R12<>"Ready","",ROUND(O12*Setup!$I$5+MAX(0,Setup!$I$6-MAX(0,P12))*Setup!$I$7+Q12,1)) | T12: =IF(S12="","",1+COUNTIFS($R$2:$R$201,"Ready",$N$2:$N$201,N12,$S$2:$S$201,">"&S12)+COUNTIFS($R$2:$R$201,"Ready",$N$2:$N$201,N12,$S$2:$S$201,"="&S12,$B$2:$B$201,"<"&B12)+COUNTIFS($R$2:$R$201,"Ready",$N$2:$N$201,N12,$S$2:$S$201,"="&S12,$B$2:$B$201,"="&B12,$A$2:$A$201,"<"&A12)) | U12: =IF(A12="","",IF(R12<>"Ready",R12,IF(AND(K12="Not Contacted",J12<>""),"Clear last contact date or update outcome",IF(AND(K12<>"Not Contacted",J12=""),"Add last contact date",IF(AND(J12<>"",J12>Setup!$I$4),"Last contact is after review date",IF(K12="Declined","Align status with declined outcome",IF(AND(L12<>"",L12>G12),"Follow-up is after latest start",IF(AND(L12<>"",L12<Setup!$I$4),"Follow-up overdue",IF(AND(L12<>"",L12<=Setup!$I$4+Setup!$I$9),"Follow-up due soon",IF(AND(J12<>"",Setup!$I$4-J12>Setup!$I$8),"Contact may be stale",""))))))))))
M13: =IF(OR(D13="",E13=""),"",12*(YEAR(E13)-YEAR(D13))+MONTH(E13)-MONTH(D13)-IF(DAY(E13)<DAY(D13),1,0)) | N13: =IF(M13="","",IFERROR(IF(M13<=VLOOKUP(M13,Setup!$A$4:$C$7,3,TRUE),VLOOKUP(M13,Setup!$A$4:$C$7,2,TRUE),"Outside configured ranges"),"Outside configured ranges")) | O13: =IF(OR(B13="",B13>Setup!$I$4),"",Setup!$I$4-B13) | P13: =IF(G13="","",G13-Setup!$I$4) | Q13: =IF(K13="","",IFERROR(VLOOKUP(K13,Setup!$E$4:$F$9,2,FALSE),"")) | R13: =IF(A13="","",IF(OR(B13="",C13="",D13="",E13="",F13="",G13="",H13="",I13="",K13=""),"Incomplete",IF(COUNTIF(Setup!$K$4:$K$8,I13)=0,"Invalid status",IF(COUNTIF(Setup!$L$4:$L$8,H13)=0,"Invalid schedule",IF(COUNTIF(Setup!$E$4:$E$9,K13)=0,"Invalid contact outcome",IF(I13<>"Active","Not active",IF(B13>Setup!$I$4,"Future waitlist date",IF(D13>E13,"Invalid age/date",IF(F13>G13,"Invalid window",IF(OR(E13<F13,E13>G13),"Preferred date outside window",IF(G13<Setup!$I$4,"Window expired",IF(OR(M13="",N13="Outside configured ranges"),"Outside age bands","Ready")))))))))))) | S13: =IF(R13<>"Ready","",ROUND(O13*Setup!$I$5+MAX(0,Setup!$I$6-MAX(0,P13))*Setup!$I$7+Q13,1)) | T13: =IF(S13="","",1+COUNTIFS($R$2:$R$201,"Ready",$N$2:$N$201,N13,$S$2:$S$201,">"&S13)+COUNTIFS($R$2:$R$201,"Ready",$N$2:$N$201,N13,$S$2:$S$201,"="&S13,$B$2:$B$201,"<"&B13)+COUNTIFS($R$2:$R$201,"Ready",$N$2:$N$201,N13,$S$2:$S$201,"="&S13,$B$2:$B$201,"="&B13,$A$2:$A$201,"<"&A13)) | U13: =IF(A13="","",IF(R13<>"Ready",R13,IF(AND(K13="Not Contacted",J13<>""),"Clear last contact date or update outcome",IF(AND(K13<>"Not Contacted",J13=""),"Add last contact date",IF(AND(J13<>"",J13>Setup!$I$4),"Last contact is after review date",IF(K13="Declined","Align status with declined outcome",IF(AND(L13<>"",L13>G13),"Follow-up is after latest start",IF(AND(L13<>"",L13<Setup!$I$4),"Follow-up overdue",IF(AND(L13<>"",L13<=Setup!$I$4+Setup!$I$9),"Follow-up due soon",IF(AND(J13<>"",Setup!$I$4-J13>Setup!$I$8),"Contact may be stale",""))))))))))
M14: =IF(OR(D14="",E14=""),"",12*(YEAR(E14)-YEAR(D14))+MONTH(E14)-MONTH(D14)-IF(DAY(E14)<DAY(D14),1,0)) | N14: =IF(M14="","",IFERROR(IF(M14<=VLOOKUP(M14,Setup!$A$4:$C$7,3,TRUE),VLOOKUP(M14,Setup!$A$4:$C$7,2,TRUE),"Outside configured ranges"),"Outside configured ranges")) | O14: =IF(OR(B14="",B14>Setup!$I$4),"",Setup!$I$4-B14) | P14: =IF(G14="","",G14-Setup!$I$4) | Q14: =IF(K14="","",IFERROR(VLOOKUP(K14,Setup!$E$4:$F$9,2,FALSE),"")) | R14: =IF(A14="","",IF(OR(B14="",C14="",D14="",E14="",F14="",G14="",H14="",I14="",K14=""),"Incomplete",IF(COUNTIF(Setup!$K$4:$K$8,I14)=0,"Invalid status",IF(COUNTIF(Setup!$L$4:$L$8,H14)=0,"Invalid schedule",IF(COUNTIF(Setup!$E$4:$E$9,K14)=0,"Invalid contact outcome",IF(I14<>"Active","Not active",IF(B14>Setup!$I$4,"Future waitlist date",IF(D14>E14,"Invalid age/date",IF(F14>G14,"Invalid window",IF(OR(E14<F14,E14>G14),"Preferred date outside window",IF(G14<Setup!$I$4,"Window expired",IF(OR(M14="",N14="Outside configured ranges"),"Outside age bands","Ready")))))))))))) | S14: =IF(R14<>"Ready","",ROUND(O14*Setup!$I$5+MAX(0,Setup!$I$6-MAX(0,P14))*Setup!$I$7+Q14,1)) | T14: =IF(S14="","",1+COUNTIFS($R$2:$R$201,"Ready",$N$2:$N$201,N14,$S$2:$S$201,">"&S14)+COUNTIFS($R$2:$R$201,"Ready",$N$2:$N$201,N14,$S$2:$S$201,"="&S14,$B$2:$B$201,"<"&B14)+COUNTIFS($R$2:$R$201,"Ready",$N$2:$N$201,N14,$S$2:$S$201,"="&S14,$B$2:$B$201,"="&B14,$A$2:$A$201,"<"&A14)) | U14: =IF(A14="","",IF(R14<>"Ready",R14,IF(AND(K14="Not Contacted",J14<>""),"Clear last contact date or update outcome",IF(AND(K14<>"Not Contacted",J14=""),"Add last contact date",IF(AND(J14<>"",J14>Setup!$I$4),"Last contact is after review date",IF(K14="Declined","Align status with declined outcome",IF(AND(L14<>"",L14>G14),"Follow-up is after latest start",IF(AND(L14<>"",L14<Setup!$I$4),"Follow-up overdue",IF(AND(L14<>"",L14<=Setup!$I$4+Setup!$I$9),"Follow-up due soon",IF(AND(J14<>"",Setup!$I$4-J14>Setup!$I$8),"Contact may be stale",""))))))))))
M15: =IF(OR(D15="",E15=""),"",12*(YEAR(E15)-YEAR(D15))+MONTH(E15)-MONTH(D15)-IF(DAY(E15)<DAY(D15),1,0)) | N15: =IF(M15="","",IFERROR(IF(M15<=VLOOKUP(M15,Setup!$A$4:$C$7,3,TRUE),VLOOKUP(M15,Setup!$A$4:$C$7,2,TRUE),"Outside configured ranges"),"Outside configured ranges")) | O15: =IF(OR(B15="",B15>Setup!$I$4),"",Setup!$I$4-B15) | P15: =IF(G15="","",G15-Setup!$I$4) | Q15: =IF(K15="","",IFERROR(VLOOKUP(K15,Setup!$E$4:$F$9,2,FALSE),"")) | R15: =IF(A15="","",IF(OR(B15="",C15="",D15="",E15="",F15="",G15="",H15="",I15="",K15=""),"Incomplete",IF(COUNTIF(Setup!$K$4:$K$8,I15)=0,"Invalid status",IF(COUNTIF(Setup!$L$4:$L$8,H15)=0,"Invalid schedule",IF(COUNTIF(Setup!$E$4:$E$9,K15)=0,"Invalid contact outcome",IF(I15<>"Active","Not active",IF(B15>Setup!$I$4,"Future waitlist date",IF(D15>E15,"Invalid age/date",IF(F15>G15,"Invalid window",IF(OR(E15<F15,E15>G15),"Preferred date outside window",IF(G15<Setup!$I$4,"Window expired",IF(OR(M15="",N15="Outside configured ranges"),"Outside age bands","Ready")))))))))))) | S15: =IF(R15<>"Ready","",ROUND(O15*Setup!$I$5+MAX(0,Setup!$I$6-MAX(0,P15))*Setup!$I$7+Q15,1)) | T15: =IF(S15="","",1+COUNTIFS($R$2:$R$201,"Ready",$N$2:$N$201,N15,$S$2:$S$201,">"&S15)+COUNTIFS($R$2:$R$201,"Ready",$N$2:$N$201,N15,$S$2:$S$201,"="&S15,$B$2:$B$201,"<"&B15)+COUNTIFS($R$2:$R$201,"Ready",$N$2:$N$201,N15,$S$2:$S$201,"="&S15,$B$2:$B$201,"="&B15,$A$2:$A$201,"<"&A15)) | U15: =IF(A15="","",IF(R15<>"Ready",R15,IF(AND(K15="Not Contacted",J15<>""),"Clear last contact date or update outcome",IF(AND(K15<>"Not Contacted",J15=""),"Add last contact date",IF(AND(J15<>"",J15>Setup!$I$4),"Last contact is after review date",IF(K15="Declined","Align status with declined outcome",IF(AND(L15<>"",L15>G15),"Follow-up is after latest start",IF(AND(L15<>"",L15<Setup!$I$4),"Follow-up overdue",IF(AND(L15<>"",L15<=Setup!$I$4+Setup!$I$9),"Follow-up due soon",IF(AND(J15<>"",Setup!$I$4-J15>Setup!$I$8),"Contact may be stale",""))))))))))
M16: =IF(OR(D16="",E16=""),"",12*(YEAR(E16)-YEAR(D16))+MONTH(E16)-MONTH(D16)-IF(DAY(E16)<DAY(D16),1,0)) | N16: =IF(M16="","",IFERROR(IF(M16<=VLOOKUP(M16,Setup!$A$4:$C$7,3,TRUE),VLOOKUP(M16,Setup!$A$4:$C$7,2,TRUE),"Outside configured ranges"),"Outside configured ranges")) | O16: =IF(OR(B16="",B16>Setup!$I$4),"",Setup!$I$4-B16) | P16: =IF(G16="","",G16-Setup!$I$4) | Q16: =IF(K16="","",IFERROR(VLOOKUP(K16,Setup!$E$4:$F$9,2,FALSE),"")) | R16: =IF(A16="","",IF(OR(B16="",C16="",D16="",E16="",F16="",G16="",H16="",I16="",K16=""),"Incomplete",IF(COUNTIF(Setup!$K$4:$K$8,I16)=0,"Invalid status",IF(COUNTIF(Setup!$L$4:$L$8,H16)=0,"Invalid schedule",IF(COUNTIF(Setup!$E$4:$E$9,K16)=0,"Invalid contact outcome",IF(I16<>"Active","Not active",IF(B16>Setup!$I$4,"Future waitlist date",IF(D16>E16,"Invalid age/date",IF(F16>G16,"Invalid window",IF(OR(E16<F16,E16>G16),"Preferred date outside window",IF(G16<Setup!$I$4,"Window expired",IF(OR(M16="",N16="Outside configured ranges"),"Outside age bands","Ready")))))))))))) | S16: =IF(R16<>"Ready","",ROUND(O16*Setup!$I$5+MAX(0,Setup!$I$6-MAX(0,P16))*Setup!$I$7+Q16,1)) | T16: =IF(S16="","",1+COUNTIFS($R$2:$R$201,"Ready",$N$2:$N$201,N16,$S$2:$S$201,">"&S16)+COUNTIFS($R$2:$R$201,"Ready",$N$2:$N$201,N16,$S$2:$S$201,"="&S16,$B$2:$B$201,"<"&B16)+COUNTIFS($R$2:$R$201,"Ready",$N$2:$N$201,N16,$S$2:$S$201,"="&S16,$B$2:$B$201,"="&B16,$A$2:$A$201,"<"&A16)) | U16: =IF(A16="","",IF(R16<>"Ready",R16,IF(AND(K16="Not Contacted",J16<>""),"Clear last contact date or update outcome",IF(AND(K16<>"Not Contacted",J16=""),"Add last contact date",IF(AND(J16<>"",J16>Setup!$I$4),"Last contact is after review date",IF(K16="Declined","Align status with declined outcome",IF(AND(L16<>"",L16>G16),"Follow-up is after latest start",IF(AND(L16<>"",L16<Setup!$I$4),"Follow-up overdue",IF(AND(L16<>"",L16<=Setup!$I$4+Setup!$I$9),"Follow-up due soon",IF(AND(J16<>"",Setup!$I$4-J16>Setup!$I$8),"Contact may be stale",""))))))))))
M17: =IF(OR(D17="",E17=""),"",12*(YEAR(E17)-YEAR(D17))+MONTH(E17)-MONTH(D17)-IF(DAY(E17)<DAY(D17),1,0)) | N17: =IF(M17="","",IFERROR(IF(M17<=VLOOKUP(M17,Setup!$A$4:$C$7,3,TRUE),VLOOKUP(M17,Setup!$A$4:$C$7,2,TRUE),"Outside configured ranges"),"Outside configured ranges")) | O17: =IF(OR(B17="",B17>Setup!$I$4),"",Setup!$I$4-B17) | P17: =IF(G17="","",G17-Setup!$I$4) | Q17: =IF(K17="","",IFERROR(VLOOKUP(K17,Setup!$E$4:$F$9,2,FALSE),"")) | R17: =IF(A17="","",IF(OR(B17="",C17="",D17="",E17="",F17="",G17="",H17="",I17="",K17=""),"Incomplete",IF(COUNTIF(Setup!$K$4:$K$8,I17)=0,"Invalid status",IF(COUNTIF(Setup!$L$4:$L$8,H17)=0,"Invalid schedule",IF(COUNTIF(Setup!$E$4:$E$9,K17)=0,"Invalid contact outcome",IF(I17<>"Active","Not active",IF(B17>Setup!$I$4,"Future waitlist date",IF(D17>E17,"Invalid age/date",IF(F17>G17,"Invalid window",IF(OR(E17<F17,E17>G17),"Preferred date outside window",IF(G17<Setup!$I$4,"Window expired",IF(OR(M17="",N17="Outside configured ranges"),"Outside age bands","Ready")))))))))))) | S17: =IF(R17<>"Ready","",ROUND(O17*Setup!$I$5+MAX(0,Setup!$I$6-MAX(0,P17))*Setup!$I$7+Q17,1)) | T17: =IF(S17="","",1+COUNTIFS($R$2:$R$201,"Ready",$N$2:$N$201,N17,$S$2:$S$201,">"&S17)+COUNTIFS($R$2:$R$201,"Ready",$N$2:$N$201,N17,$S$2:$S$201,"="&S17,$B$2:$B$201,"<"&B17)+COUNTIFS($R$2:$R$201,"Ready",$N$2:$N$201,N17,$S$2:$S$201,"="&S17,$B$2:$B$201,"="&B17,$A$2:$A$201,"<"&A17)) | U17: =IF(A17="","",IF(R17<>"Ready",R17,IF(AND(K17="Not Contacted",J17<>""),"Clear last contact date or update outcome",IF(AND(K17<>"Not Contacted",J17=""),"Add last contact date",IF(AND(J17<>"",J17>Setup!$I$4),"Last contact is after review date",IF(K17="Declined","Align status with declined outcome",IF(AND(L17<>"",L17>G17),"Follow-up is after latest start",IF(AND(L17<>"",L17<Setup!$I$4),"Follow-up overdue",IF(AND(L17<>"",L17<=Setup!$I$4+Setup!$I$9),"Follow-up due soon",IF(AND(J17<>"",Setup!$I$4-J17>Setup!$I$8),"Contact may be stale",""))))))))))
M18: =IF(OR(D18="",E18=""),"",12*(YEAR(E18)-YEAR(D18))+MONTH(E18)-MONTH(D18)-IF(DAY(E18)<DAY(D18),1,0)) | N18: =IF(M18="","",IFERROR(IF(M18<=VLOOKUP(M18,Setup!$A$4:$C$7,3,TRUE),VLOOKUP(M18,Setup!$A$4:$C$7,2,TRUE),"Outside configured ranges"),"Outside configured ranges")) | O18: =IF(OR(B18="",B18>Setup!$I$4),"",Setup!$I$4-B18) | P18: =IF(G18="","",G18-Setup!$I$4) | Q18: =IF(K18="","",IFERROR(VLOOKUP(K18,Setup!$E$4:$F$9,2,FALSE),"")) | R18: =IF(A18="","",IF(OR(B18="",C18="",D18="",E18="",F18="",G18="",H18="",I18="",K18=""),"Incomplete",IF(COUNTIF(Setup!$K$4:$K$8,I18)=0,"Invalid status",IF(COUNTIF(Setup!$L$4:$L$8,H18)=0,"Invalid schedule",IF(COUNTIF(Setup!$E$4:$E$9,K18)=0,"Invalid contact outcome",IF(I18<>"Active","Not active",IF(B18>Setup!$I$4,"Future waitlist date",IF(D18>E18,"Invalid age/date",IF(F18>G18,"Invalid window",IF(OR(E18<F18,E18>G18),"Preferred date outside window",IF(G18<Setup!$I$4,"Window expired",IF(OR(M18="",N18="Outside configured ranges"),"Outside age bands","Ready")))))))))))) | S18: =IF(R18<>"Ready","",ROUND(O18*Setup!$I$5+MAX(0,Setup!$I$6-MAX(0,P18))*Setup!$I$7+Q18,1)) | T18: =IF(S18="","",1+COUNTIFS($R$2:$R$201,"Ready",$N$2:$N$201,N18,$S$2:$S$201,">"&S18)+COUNTIFS($R$2:$R$201,"Ready",$N$2:$N$201,N18,$S$2:$S$201,"="&S18,$B$2:$B$201,"<"&B18)+COUNTIFS($R$2:$R$201,"Ready",$N$2:$N$201,N18,$S$2:$S$201,"="&S18,$B$2:$B$201,"="&B18,$A$2:$A$201,"<"&A18)) | U18: =IF(A18="","",IF(R18<>"Ready",R18,IF(AND(K18="Not Contacted",J18<>""),"Clear last contact date or update outcome",IF(AND(K18<>"Not Contacted",J18=""),"Add last contact date",IF(AND(J18<>"",J18>Setup!$I$4),"Last contact is after review date",IF(K18="Declined","Align status with declined outcome",IF(AND(L18<>"",L18>G18),"Follow-up is after latest start",IF(AND(L18<>"",L18<Setup!$I$4),"Follow-up overdue",IF(AND(L18<>"",L18<=Setup!$I$4+Setup!$I$9),"Follow-up due soon",IF(AND(J18<>"",Setup!$I$4-J18>Setup!$I$8),"Contact may be stale",""))))))))))
M19: =IF(OR(D19="",E19=""),"",12*(YEAR(E19)-YEAR(D19))+MONTH(E19)-MONTH(D19)-IF(DAY(E19)<DAY(D19),1,0)) | N19: =IF(M19="","",IFERROR(IF(M19<=VLOOKUP(M19,Setup!$A$4:$C$7,3,TRUE),VLOOKUP(M19,Setup!$A$4:$C$7,2,TRUE),"Outside configured ranges"),"Outside configured ranges")) | O19: =IF(OR(B19="",B19>Setup!$I$4),"",Setup!$I$4-B19) | P19: =IF(G19="","",G19-Setup!$I$4) | Q19: =IF(K19="","",IFERROR(VLOOKUP(K19,Setup!$E$4:$F$9,2,FALSE),"")) | R19: =IF(A19="","",IF(OR(B19="",C19="",D19="",E19="",F19="",G19="",H19="",I19="",K19=""),"Incomplete",IF(COUNTIF(Setup!$K$4:$K$8,I19)=0,"Invalid status",IF(COUNTIF(Setup!$L$4:$L$8,H19)=0,"Invalid schedule",IF(COUNTIF(Setup!$E$4:$E$9,K19)=0,"Invalid contact outcome",IF(I19<>"Active","Not active",IF(B19>Setup!$I$4,"Future waitlist date",IF(D19>E19,"Invalid age/date",IF(F19>G19,"Invalid window",IF(OR(E19<F19,E19>G19),"Preferred date outside window",IF(G19<Setup!$I$4,"Window expired",IF(OR(M19="",N19="Outside configured ranges"),"Outside age bands","Ready")))))))))))) | S19: =IF(R19<>"Ready","",ROUND(O19*Setup!$I$5+MAX(0,Setup!$I$6-MAX(0,P19))*Setup!$I$7+Q19,1)) | T19: =IF(S19="","",1+COUNTIFS($R$2:$R$201,"Ready",$N$2:$N$201,N19,$S$2:$S$201,">"&S19)+COUNTIFS($R$2:$R$201,"Ready",$N$2:$N$201,N19,$S$2:$S$201,"="&S19,$B$2:$B$201,"<"&B19)+COUNTIFS($R$2:$R$201,"Ready",$N$2:$N$201,N19,$S$2:$S$201,"="&S19,$B$2:$B$201,"="&B19,$A$2:$A$201,"<"&A19)) | U19: =IF(A19="","",IF(R19<>"Ready",R19,IF(AND(K19="Not Contacted",J19<>""),"Clear last contact date or update outcome",IF(AND(K19<>"Not Contacted",J19=""),"Add last contact date",IF(AND(J19<>"",J19>Setup!$I$4),"Last contact is after review date",IF(K19="Declined","Align status with declined outcome",IF(AND(L19<>"",L19>G19),"Follow-up is after latest start",IF(AND(L19<>"",L19<Setup!$I$4),"Follow-up overdue",IF(AND(L19<>"",L19<=Setup!$I$4+Setup!$I$9),"Follow-up due soon",IF(AND(J19<>"",Setup!$I$4-J19>Setup!$I$8),"Contact may be stale",""))))))))))
M20: =IF(OR(D20="",E20=""),"",12*(YEAR(E20)-YEAR(D20))+MONTH(E20)-MONTH(D20)-IF(DAY(E20)<DAY(D20),1,0)) | N20: =IF(M20="","",IFERROR(IF(M20<=VLOOKUP(M20,Setup!$A$4:$C$7,3,TRUE),VLOOKUP(M20,Setup!$A$4:$C$7,2,TRUE),"Outside configured ranges"),"Outside configured ranges")) | O20: =IF(OR(B20="",B20>Setup!$I$4),"",Setup!$I$4-B20) | P20: =IF(G20="","",G20-Setup!$I$4) | Q20: =IF(K20="","",IFERROR(VLOOKUP(K20,Setup!$E$4:$F$9,2,FALSE),"")) | R20: =IF(A20="","",IF(OR(B20="",C20="",D20="",E20="",F20="",G20="",H20="",I20="",K20=""),"Incomplete",IF(COUNTIF(Setup!$K$4:$K$8,I20)=0,"Invalid status",IF(COUNTIF(Setup!$L$4:$L$8,H20)=0,"Invalid schedule",IF(COUNTIF(Setup!$E$4:$E$9,K20)=0,"Invalid contact outcome",IF(I20<>"Active","Not active",IF(B20>Setup!$I$4,"Future waitlist date",IF(D20>E20,"Invalid age/date",IF(F20>G20,"Invalid window",IF(OR(E20<F20,E20>G20),"Preferred date outside window",IF(G20<Setup!$I$4,"Window expired",IF(OR(M20="",N20="Outside configured ranges"),"Outside age bands","Ready")))))))))))) | S20: =IF(R20<>"Ready","",ROUND(O20*Setup!$I$5+MAX(0,Setup!$I$6-MAX(0,P20))*Setup!$I$7+Q20,1)) | T20: =IF(S20="","",1+COUNTIFS($R$2:$R$201,"Ready",$N$2:$N$201,N20,$S$2:$S$201,">"&S20)+COUNTIFS($R$2:$R$201,"Ready",$N$2:$N$201,N20,$S$2:$S$201,"="&S20,$B$2:$B$201,"<"&B20)+COUNTIFS($R$2:$R$201,"Ready",$N$2:$N$201,N20,$S$2:$S$201,"="&S20,$B$2:$B$201,"="&B20,$A$2:$A$201,"<"&A20)) | U20: =IF(A20="","",IF(R20<>"Ready",R20,IF(AND(K20="Not Contacted",J20<>""),"Clear last contact date or update outcome",IF(AND(K20<>"Not Contacted",J20=""),"Add last contact date",IF(AND(J20<>"",J20>Setup!$I$4),"Last contact is after review date",IF(K20="Declined","Align status with declined outcome",IF(AND(L20<>"",L20>G20),"Follow-up is after latest start",IF(AND(L20<>"",L20<Setup!$I$4),"Follow-up overdue",IF(AND(L20<>"",L20<=Setup!$I$4+Setup!$I$9),"Follow-up due soon",IF(AND(J20<>"",Setup!$I$4-J20>Setup!$I$8),"Contact may be stale",""))))))))))
M21: =IF(OR(D21="",E21=""),"",12*(YEAR(E21)-YEAR(D21))+MONTH(E21)-MONTH(D21)-IF(DAY(E21)<DAY(D21),1,0)) | N21: =IF(M21="","",IFERROR(IF(M21<=VLOOKUP(M21,Setup!$A$4:$C$7,3,TRUE),VLOOKUP(M21,Setup!$A$4:$C$7,2,TRUE),"Outside configured ranges"),"Outside configured ranges")) | O21: =IF(OR(B21="",B21>Setup!$I$4),"",Setup!$I$4-B21) | P21: =IF(G21="","",G21-Setup!$I$4) | Q21: =IF(K21="","",IFERROR(VLOOKUP(K21,Setup!$E$4:$F$9,2,FALSE),"")) | R21: =IF(A21="","",IF(OR(B21="",C21="",D21="",E21="",F21="",G21="",H21="",I21="",K21=""),"Incomplete",IF(COUNTIF(Setup!$K$4:$K$8,I21)=0,"Invalid status",IF(COUNTIF(Setup!$L$4:$L$8,H21)=0,"Invalid schedule",IF(COUNTIF(Setup!$E$4:$E$9,K21)=0,"Invalid contact outcome",IF(I21<>"Active","Not active",IF(B21>Setup!$I$4,"Future waitlist date",IF(D21>E21,"Invalid age/date",IF(F21>G21,"Invalid window",IF(OR(E21<F21,E21>G21),"Preferred date outside window",IF(G21<Setup!$I$4,"Window expired",IF(OR(M21="",N21="Outside configured ranges"),"Outside age bands","Ready")))))))))))) | S21: =IF(R21<>"Ready","",ROUND(O21*Setup!$I$5+MAX(0,Setup!$I$6-MAX(0,P21))*Setup!$I$7+Q21,1)) | T21: =IF(S21="","",1+COUNTIFS($R$2:$R$201,"Ready",$N$2:$N$201,N21,$S$2:$S$201,">"&S21)+COUNTIFS($R$2:$R$201,"Ready",$N$2:$N$201,N21,$S$2:$S$201,"="&S21,$B$2:$B$201,"<"&B21)+COUNTIFS($R$2:$R$201,"Ready",$N$2:$N$201,N21,$S$2:$S$201,"="&S21,$B$2:$B$201,"="&B21,$A$2:$A$201,"<"&A21)) | U21: =IF(A21="","",IF(R21<>"Ready",R21,IF(AND(K21="Not Contacted",J21<>""),"Clear last contact date or update outcome",IF(AND(K21<>"Not Contacted",J21=""),"Add last contact date",IF(AND(J21<>"",J21>Setup!$I$4),"Last contact is after review date",IF(K21="Declined","Align status with declined outcome",IF(AND(L21<>"",L21>G21),"Follow-up is after latest start",IF(AND(L21<>"",L21<Setup!$I$4),"Follow-up overdue",IF(AND(L21<>"",L21<=Setup!$I$4+Setup!$I$9),"Follow-up due soon",IF(AND(J21<>"",Setup!$I$4-J21>Setup!$I$8),"Contact may be stale",""))))))))))
M22: =IF(OR(D22="",E22=""),"",12*(YEAR(E22)-YEAR(D22))+MONTH(E22)-MONTH(D22)-IF(DAY(E22)<DAY(D22),1,0)) | N22: =IF(M22="","",IFERROR(IF(M22<=VLOOKUP(M22,Setup!$A$4:$C$7,3,TRUE),VLOOKUP(M22,Setup!$A$4:$C$7,2,TRUE),"Outside configured ranges"),"Outside configured ranges")) | O22: =IF(OR(B22="",B22>Setup!$I$4),"",Setup!$I$4-B22) | P22: =IF(G22="","",G22-Setup!$I$4) | Q22: =IF(K22="","",IFERROR(VLOOKUP(K22,Setup!$E$4:$F$9,2,FALSE),"")) | R22: =IF(A22="","",IF(OR(B22="",C22="",D22="",E22="",F22="",G22="",H22="",I22="",K22=""),"Incomplete",IF(COUNTIF(Setup!$K$4:$K$8,I22)=0,"Invalid status",IF(COUNTIF(Setup!$L$4:$L$8,H22)=0,"Invalid schedule",IF(COUNTIF(Setup!$E$4:$E$9,K22)=0,"Invalid contact outcome",IF(I22<>"Active","Not active",IF(B22>Setup!$I$4,"Future waitlist date",IF(D22>E22,"Invalid age/date",IF(F22>G22,"Invalid window",IF(OR(E22<F22,E22>G22),"Preferred date outside window",IF(G22<Setup!$I$4,"Window expired",IF(OR(M22="",N22="Outside configured ranges"),"Outside age bands","Ready")))))))))))) | S22: =IF(R22<>"Ready","",ROUND(O22*Setup!$I$5+MAX(0,Setup!$I$6-MAX(0,P22))*Setup!$I$7+Q22,1)) | T22: =IF(S22="","",1+COUNTIFS($R$2:$R$201,"Ready",$N$2:$N$201,N22,$S$2:$S$201,">"&S22)+COUNTIFS($R$2:$R$201,"Ready",$N$2:$N$201,N22,$S$2:$S$201,"="&S22,$B$2:$B$201,"<"&B22)+COUNTIFS($R$2:$R$201,"Ready",$N$2:$N$201,N22,$S$2:$S$201,"="&S22,$B$2:$B$201,"="&B22,$A$2:$A$201,"<"&A22)) | U22: =IF(A22="","",IF(R22<>"Ready",R22,IF(AND(K22="Not Contacted",J22<>""),"Clear last contact date or update outcome",IF(AND(K22<>"Not Contacted",J22=""),"Add last contact date",IF(AND(J22<>"",J22>Setup!$I$4),"Last contact is after review date",IF(K22="Declined","Align status with declined outcome",IF(AND(L22<>"",L22>G22),"Follow-up is after latest start",IF(AND(L22<>"",L22<Setup!$I$4),"Follow-up overdue",IF(AND(L22<>"",L22<=Setup!$I$4+Setup!$I$9),"Follow-up due soon",IF(AND(J22<>"",Setup!$I$4-J22>Setup!$I$8),"Contact may be stale",""))))))))))
M23: =IF(OR(D23="",E23=""),"",12*(YEAR(E23)-YEAR(D23))+MONTH(E23)-MONTH(D23)-IF(DAY(E23)<DAY(D23),1,0)) | N23: =IF(M23="","",IFERROR(IF(M23<=VLOOKUP(M23,Setup!$A$4:$C$7,3,TRUE),VLOOKUP(M23,Setup!$A$4:$C$7,2,TRUE),"Outside configured ranges"),"Outside configured ranges")) | O23: =IF(OR(B23="",B23>Setup!$I$4),"",Setup!$I$4-B23) | P23: =IF(G23="","",G23-Setup!$I$4) | Q23: =IF(K23="","",IFERROR(VLOOKUP(K23,Setup!$E$4:$F$9,2,FALSE),"")) | R23: =IF(A23="","",IF(OR(B23="",C23="",D23="",E23="",F23="",G23="",H23="",I23="",K23=""),"Incomplete",IF(COUNTIF(Setup!$K$4:$K$8,I23)=0,"Invalid status",IF(COUNTIF(Setup!$L$4:$L$8,H23)=0,"Invalid schedule",IF(COUNTIF(Setup!$E$4:$E$9,K23)=0,"Invalid contact outcome",IF(I23<>"Active","Not active",IF(B23>Setup!$I$4,"Future waitlist date",IF(D23>E23,"Invalid age/date",IF(F23>G23,"Invalid window",IF(OR(E23<F23,E23>G23),"Preferred date outside window",IF(G23<Setup!$I$4,"Window expired",IF(OR(M23="",N23="Outside configured ranges"),"Outside age bands","Ready")))))))))))) | S23: =IF(R23<>"Ready","",ROUND(O23*Setup!$I$5+MAX(0,Setup!$I$6-MAX(0,P23))*Setup!$I$7+Q23,1)) | T23: =IF(S23="","",1+COUNTIFS($R$2:$R$201,"Ready",$N$2:$N$201,N23,$S$2:$S$201,">"&S23)+COUNTIFS($R$2:$R$201,"Ready",$N$2:$N$201,N23,$S$2:$S$201,"="&S23,$B$2:$B$201,"<"&B23)+COUNTIFS($R$2:$R$201,"Ready",$N$2:$N$201,N23,$S$2:$S$201,"="&S23,$B$2:$B$201,"="&B23,$A$2:$A$201,"<"&A23)) | U23: =IF(A23="","",IF(R23<>"Ready",R23,IF(AND(K23="Not Contacted",J23<>""),"Clear last contact date or update outcome",IF(AND(K23<>"Not Contacted",J23=""),"Add last contact date",IF(AND(J23<>"",J23>Setup!$I$4),"Last contact is after review date",IF(K23="Declined","Align status with declined outcome",IF(AND(L23<>"",L23>G23),"Follow-up is after latest start",IF(AND(L23<>"",L23<Setup!$I$4),"Follow-up overdue",IF(AND(L23<>"",L23<=Setup!$I$4+Setup!$I$9),"Follow-up due soon",IF(AND(J23<>"",Setup!$I$4-J23>Setup!$I$8),"Contact may be stale",""))))))))))
... M201: =IF(OR(D201="",E201=""),"",12*(YEAR(E201)-YEAR(D201))+MONTH(E201)-MONTH(D201)-IF(DAY(E201)<DAY(D201),1,0)) | N201: =IF(M201="","",IFERROR(IF(M201<=VLOOKUP(M201,Setup!$A$4:$C$7,3,TRUE),VLOOKUP(M201,Setup!$A$4:$C$7,2,TRUE),"Outside configured ranges"),"Outside configured ranges")) | O201: =IF(OR(B201="",B201>Setup!$I$4),"",Setup!$I$4-B201) | P201: =IF(G201="","",G201-Setup!$I$4) | Q201: =IF(K201="","",IFERROR(VLOOKUP(K201,Setup!$E$4:$F$9,2,FALSE),"")) | R201: =IF(A201="","",IF(OR(B201="",C201="",D201="",E201="",F201="",G201="",H201="",I201="",K201=""),"Incomplete",IF(COUNTIF(Setup!$K$4:$K$8,I201)=0,"Invalid status",IF(COUNTIF(Setup!$L$4:$L$8,H201)=0,"Invalid schedule",IF(COUNTIF(Setup!$E$4:$E$9,K201)=0,"Invalid contact outcome",IF(I201<>"Active","Not active",IF(B201>Setup!$I$4,"Future waitlist date",IF(D201>E201,"Invalid age/date",IF(F201>G201,"Invalid window",IF(OR(E201<F201,E201>G201),"Preferred date outside window",IF(G201<Setup!$I$4,"Window expired",IF(OR(M201="",N201="Outside configured ranges"),"Outside age bands","Ready")))))))))))) | S201: =IF(R201<>"Ready","",ROUND(O201*Setup!$I$5+MAX(0,Setup!$I$6-MAX(0,P201))*Setup!$I$7+Q201,1)) | T201: =IF(S201="","",1+COUNTIFS($R$2:$R$201,"Ready",$N$2:$N$201,N201,$S$2:$S$201,">"&S201)+COUNTIFS($R$2:$R$201,"Ready",$N$2:$N$201,N201,$S$2:$S$201,"="&S201,$B$2:$B$201,"<"&B201)+COUNTIFS($R$2:$R$201,"Ready",$N$2:$N$201,N201,$S$2:$S$201,"="&S201,$B$2:$B$201,"="&B201,$A$2:$A$201,"<"&A201)) | U201: =IF(A201="","",IF(R201<>"Ready",R201,IF(AND(K201="Not Contacted",J201<>""),"Clear last contact date or update outcome",IF(AND(K201<>"Not Contacted",J201=""),"Add last contact date",IF(AND(J201<>"",J201>Setup!$I$4),"Last contact is after review date",IF(K201="Declined","Align status with declined outcome",IF(AND(L201<>"",L201>G201),"Follow-up is after latest start",IF(AND(L201<>"",L201<Setup!$I$4),"Follow-up overdue",IF(AND(L201<>"",L201<=Setup!$I$4+Setup!$I$9),"Follow-up due soon",IF(AND(J201<>"",Setup!$I$4-J201>Setup!$I$8),"Contact may be stale",""))))))))))

Sheet Setup
A1: Waitlist Review Setup
A2: Age Groups | E2: Contact Outcomes | H2: Review Assumptions | K2: Validation Lists
A3: Min Age (Months) | B3: Age Group | C3: Max Age (Months) | E3: Contact Outcome | F3: Score Adjustment | H3: Assumption | I3: Value | K3: Request Status | L3: Requested Schedule
A4: 0 | B4: Infant | C4: 17 | E4: Not Contacted | F4: 0 | H4: Review As Of | I4: 46274 | K4: Active | L4: Full Week
A5: 18 | B5: Toddler | C5: 35 | E5: Reached - Interested | F5: 10 | H5: Wait Day Points | I5: 1 | K5: Paused | L5: Mon/Wed/Fri
A6: 36 | B6: Preschool | C6: 47 | E6: Follow-Up Requested | F6: 5 | H6: Urgency Horizon (Days) | I6: 30 | K6: Offered | L6: Tue/Thu
A7: 48 | B7: Pre-K | C7: 71 | E7: Voicemail Left | F7: 0 | H7: Urgency Points per Day | I7: 0.5 | K7: Placed | L7: Flexible
E8: No Response | F8: -10 | H8: Stale Contact After (Days) | I8: 14 | K8: Withdrawn | L8: Other
E9: Declined | F9: -50 | H9: Follow-Up Soon (Days) | I9: 3
H11: Age Band Check | I11: =IF(OR(COUNTBLANK(A4:C7)>0,A4<>0,A4>C4,A5<>C4+1,A5>C5,A6<>C5+1,A6>C6,A7<>C6+1,A7>C7),"Review age band ranges","Age bands OK")
H13: Review Score is a configurable queue-review aid. Confirm current availability and center policy before taking action.
